Workbook

Sheet DADOS
A1: Prefeitura Municipal de Jaraguá do Sul - SC
A2: SAMAE - Serviço Autônomo Municipal de Água e Esgoto
A3: Data do documento: | C3: 07/11/2023
A4: Licitação número:
A5: Lote:
A6: Dados da licitante
A7: Razão social
A8: CNPJ:
A9: Telefone:
A10: E-Mail:
A11: Nome responsável:
A12: CPF responsável:
A13: Cidade licitante:
A14: UF licitante:

Sheet Orçamento
A1: Prefeitura Municipal de Jaraguá do Sul - SC
A2: Orcamento de obra - EXECUÇÃO DE OBRA DE CONSTRUÇÃO EM EDIFÍCIO PARA FINS ESPECIAIS PONTO DE ENTREGA VOLUNTÁRIA - BAIRROS ILHA DA FIGUEIRA E NEREU RAMOS
A3: Data: | B3: =DADOS!C3 -> 07/11/2023
A4: Empresa: | B4: =DADOS!C7 -> 0 | G4: Telefone: | H4: =DADOS!C9
A5: CNPJ: | B5: =DADOS!C8 | D5: Cidade: | E5: =DADOS!C13 -> 0 | H5: UF: | I5: =DADOS!C14 -> 0
A7: Item | B7: Descrição dos itens | C7: U.M. | D7: Qtde. | E7: Custo base R$ | F7: %BDI/K/TRDE Base | G7: Preço base R$ | H7: Custo Un. R$ | I7: %BDI/K/TRDE | J7: Preço Un. R$ | K7: Total R$
A8: 1 | B8: CANTEIRO DE OBRAS | K8: =SUM(K9:K12) -> 0 | L8: Etapa
A9: 1.1 | B9: LOCACAO DE CONTAINER 2,30 X 6,00 M, ALT. 2,50 M, COM 1 SANITARIO, PARA ESCRITORIO, COMPLETO, SEM DIVISORIAS INTERNAS (NAO INCLUI MOBILIZACAO/DESMOBILIZACAO) | C9: MES | D9: 7 | E9: 890 | F9: 22.23 | G9: 1087.85 | I9: =ROUND('BDI principal'!D14,2) -> 22.23 | J9: =ROUND((ROUND(H9,2)*I9/100)+ROUND(H9,2),2) -> 0 | K9: =ROUND(D9*J9,2) -> 0 | L9: Item
A10: 1.2 | B10: EXECUÇÃO DE CENTRAL DE ARMADURA EM CANTEIRO DE OBRA, NÃO INCLUSO MOBILIÁRIO E EQUIPAMENTOS. AF_04/2016 | C10: M2 | D10: 8 | E10: 379.09 | F10: 22.23 | G10: 463.36 | I10: =ROUND('BDI principal'!D14,2) -> 22.23 | J10: =ROUND((ROUND(H10,2)*I10/100)+ROUND(H10,2),2) -> 0 | K10: =ROUND(D10*J10,2) -> 0 | L10: Item
A11: 1.3 | B11: TRANSPORTE COM CAMINHÃO CARROCERIA COM GUINDAUTO (MUNCK), MOMENTO MÁXIMO DE CARGA 11,7 TM, EM VIA URBANA PAVIMENTADA, DMT ATÉ 30KM (UNIDADE: TXKM). AF_07/2020 | C11: TXKM | D11: 100 | E11: 2.89 | F11: 22.23 | G11: 3.53 | I11: =ROUND('BDI principal'!D14,2) -> 22.23 | J11: =ROUND((ROUND(H11,2)*I11/100)+ROUND(H11,2),2) -> 0 | K11: =ROUND(D11*J11,2) -> 0 | L11: Item
A12: 1.4 | B12: FORNECIMENTO E INSTALAÇÃO DE PLACA DE OBRA COM CHAPA GALVANIZADA E ESTRUTURA DE MADEIRA. AF_03/2022_PS | C12: M2 | D12: 4 | E12: 314.76 | F12: 22.23 | G12: 384.73 | I12: =ROUND('BDI principal'!D14,2) -> 22.23 | J12: =ROUND((ROUND(H12,2)*I12/100)+ROUND(H12,2),2) -> 0 | K12: =ROUND(D12*J12,2) -> 0 | L12: Item
A13: 2 | B13: ADMINISTRAÇÃO LOCAL | K13: =SUM(K14:K14) -> 0 | L13: Etapa
A14: 2.1 | B14: ENGENHEIRO CIVIL JUNIOR | C14: H | D14: 112 | E14: 111.48 | F14: 22.23 | G14: 136.26 | I14: =ROUND('BDI principal'!D14,2) -> 22.23 | J14: =ROUND((ROUND(H14,2)*I14/100)+ROUND(H14,2),2) -> 0 | K14: =ROUND(D14*J14,2) -> 0 | L14: Item
A15: 3 | B15: PONTO DE ENTREGA VOLUNTÁRIA - ILHA DA FIGUEIRA | K15: =K16+K26+K33 -> 0 | L15: Etapa
A16: 3.1 | B16: CERCAMENTO | K16: =SUM(K17:K25) -> 0 | L16: Etapa
A17: 3.1.1 | B17: ESTACA BROCA DE CONCRETO, DIÂMETRO DE 20CM, ESCAVAÇÃO MANUAL COM TRADO CONCHA, COM ARMADURA DE ARRANQUE. AF_05/2020 | C17: M | D17: 83.5 | E17: 65.78 | F17: 22.23 | G17: 80.4 | I17: =ROUND('BDI principal'!D14,2) -> 22.23 | J17: =ROUND((ROUND(H17,2)*I17/100)+ROUND(H17,2),2) -> 0 | K17: =ROUND(D17*J17,2) -> 0 | L17: Item
A18: 3.1.2 | B18: ESCAVAÇÃO MANUAL PARA BLOCO DE COROAMENTO OU SAPATA (INCLUINDO ESCAVAÇÃO PARA COLOCAÇÃO DE FÔRMAS). AF_06/2017 | C18: M3 | D18: 20.04 | E18: 106.95 | F18: 22.23 | G18: 130.72 | I18: =ROUND('BDI principal'!D14,2) -> 22.23 | J18: =ROUND((ROUND(H18,2)*I18/100)+ROUND(H18,2),2) -> 0 | K18: =ROUND(D18*J18,2) -> 0 | L18: Item
A19: 3.1.3 | B19: LASTRO COM MATERIAL GRANULAR (PEDRA BRITADA N.1 E PEDRA BRITADA N.2), APLICADO EM PISOS OU LAJES SOBRE SOLO, ESPESSURA DE *10 CM*. AF_07/2019 | C19: M3 | D19: 3.34 | E19: 161.63 | F19: 22.23 | G19: 197.56 | I19: =ROUND('BDI principal'!D14,2) -> 22.23 | J19: =ROUND((ROUND(H19,2)*I19/100)+ROUND(H19,2),2) -> 0 | K19: =ROUND(D19*J19,2) -> 0 | L19: Item
A20: 3.1.4 | B20: FABRICAÇÃO, MONTAGEM E DESMONTAGEM DE FÔRMA PARA VIGA BALDRAME, EM MADEIRA SERRADA, E=25 MM, 4 UTILIZAÇÕES. AF_06/2017 | C20: M2 | D20: 100.2 | E20: 117.12 | F20: 22.23 | G20: 143.16 | I20: =ROUND('BDI principal'!D14,2) -> 22.23 | J20: =ROUND((ROUND(H20,2)*I20/100)+ROUND(H20,2),2) -> 0 | K20: =ROUND(D20*J20,2) -> 0 | L20: Item
A21: 3.1.5 | B21: ARMAÇÃO DE BLOCO, VIGA BALDRAME OU SAPATA UTILIZANDO AÇO CA-50 DE 6,3 MM - MONTAGEM. AF_06/2017 | C21: KG | D21: 140.75 | E21: 17.62 | F21: 22.23 | G21: 21.54 | I21: =ROUND('BDI principal'!D14,2) -> 22.23 | J21: =ROUND((ROUND(H21,2)*I21/100)+ROUND(H21,2),2) -> 0 | K21: =ROUND(D21*J21,2) -> 0 | L21: Item
A22: 3.1.6 | B22: ARMAÇÃO DE BLOCO, VIGA BALDRAME OU SAPATA UTILIZANDO AÇO CA-50 DE 8 MM - MONTAGEM. AF_06/2017 | C22: KG | D22: 265.44 | E22: 16.09 | F22: 22.23 | G22: 19.67 | I22: =ROUND('BDI principal'!D14,2) -> 22.23 | J22: =ROUND((ROUND(H22,2)*I22/100)+ROUND(H22,2),2) -> 0 | K22: =ROUND(D22*J22,2) -> 0 | L22: Item
A23: 3.1.7 | B23: CONCRETAGEM DE BLOCOS DE COROAMENTO E VIGAS BALDRAMES, FCK 30 MPA, COM USO DE BOMBA – LANÇAMENTO, ADENSAMENTO E ACABAMENTO. AF_06/2017 | C23: M3 | D23: 10.02 | E23: 703.92 | F23: 22.23 | G23: 860.4 | I23: =ROUND('BDI principal'!D14,2) -> 22.23 | J23: =ROUND((ROUND(H23,2)*I23/100)+ROUND(H23,2),2) -> 0 | K23: =ROUND(D23*J23,2) -> 0 | L23: Item
A24: 3.1.8 | B24: CERCAMENTO EM MOURÃO DE CONCRETO CURVO, COM TELA DE AÇO GALVANIZADO REVESTIDO EM PVC, COM 3 FIADAS DE ARAME FARPADO SUPERIOR, E CHUMBAMENTO EM VIGA BALDRAME - FORNECIMENTO E INSTALAÇÃO | C24: M | D24: 167 | E24: 170.09 | F24: 22.23 | G24: 207.9 | I24: =ROUND('BDI principal'!D14,2) -> 22.23 | J24: =ROUND((ROUND(H24,2)*I24/100)+ROUND(H24,2),2) -> 0 | K24: =ROUND(D24*J24,2) -> 0 | L24: Item
A25: 3.1.9 | B25: PORTÃO DE CORRER EM GRADIL FIXO DE BARRA DE FERRO CHATA DE 3 X 1/4" NA VERTICAL, COM TRILHOS E ROLDANAS | C25: M2 | D25: 20 | E25: 801.3 | F25: 22.23 | G25: 979.43 | I25: =ROUND('BDI principal'!D14,2) -> 22.23 | J25: =ROUND((ROUND(H25,2)*I25/100)+ROUND(H25,2),2) -> 0 | K25: =ROUND(D25*J25,2) -> 0 | L25: Item
A26: 3.2 | B26: CANCELAS PARA CONTROLE DE ACESSO | K26: =SUM(K27:K32) -> 0 | L26: Etapa
A27: 3.2.1 | B27: INSTALAÇÃOD E CANCELA PARA CONTROLE DE ENTRADA DE VEÍCULOS | C27: UN | D27: 2 | E27: 307.36 | F27: 22.23 | G27: 375.69 | I27: =ROUND('BDI principal'!D14,2) -> 22.23 | J27: =ROUND((ROUND(H27,2)*I27/100)+ROUND(H27,2),2) -> 0 | K27: =ROUND(D27*J27,2) -> 0 | L27: Item
A28: 3.2.2 | B28: CANCELA PARA CONTROLE DE ACESSO COM BARREIRA FIXA DE 5 METROS | C28: UN | D28: 2 | E28: 4750 | F28: 22.23 | G28: 5805.93 | I28: =ROUND('BDI principal'!D14,2) -> 22.23 | J28: =ROUND((ROUND(H28,2)*I28/100)+ROUND(H28,2),2) -> 0 | K28: =ROUND(D28*J28,2) -> 0 | L28: Item
A29: 3.2.3 | B29: FABRICAÇÃO, MONTAGEM E DESMONTAGEM DE FÔRMA PARA BLOCO DE COROAMENTO, EM MADEIRA SERRADA, E=25 MM, 2 UTILIZAÇÕES. AF_06/2017 | C29: M2 | D29: 2.4 | E29: 206.31 | F29: 22.23 | G29: 252.17 | I29: =ROUND('BDI principal'!D14,2) -> 22.23 | J29: =ROUND((ROUND(H29,2)*I29/100)+ROUND(H29,2),2) -> 0 | K29: =ROUND(D29*J29,2) -> 0 | L29: Item
A30: 3.2.4 | B30: CONCRETAGEM DE BLOCOS DE COROAMENTO E VIGAS BALDRAMES, FCK 30 MPA, COM USO DE BOMBA – LANÇAMENTO, ADENSAMENTO E ACABAMENTO. AF_06/2017 | C30: M3 | D30: 0.36 | E30: 703.92 | F30: 22.23 | G30: 860.4 | I30: =ROUND('BDI principal'!D14,2) -> 22.23 | J30: =ROUND((ROUND(H30,2)*I30/100)+ROUND(H30,2),2) -> 0 | K30: =ROUND(D30*J30,2) -> 0 | L30: Item
A31: 3.2.5 | B31: ARMAÇÃO DE BLOCO, VIGA BALDRAME OU SAPATA UTILIZANDO AÇO CA-50 DE 8 MM - MONTAGEM. AF_06/2017 | C31: KG | D31: 3.79 | E31: 16.09 | F31: 22.23 | G31: 19.67 | I31: =ROUND('BDI principal'!D14,2) -> 22.23 | J31: =ROUND((ROUND(H31,2)*I31/100)+ROUND(H31,2),2) -> 0 | K31: =ROUND(D31*J31,2) -> 0 | L31: Item
A32: 3.2.6 | B32: LASTRO COM MATERIAL GRANULAR (PEDRA BRITADA N.2), APLICADO EM PISOS OU LAJES SOBRE SOLO, ESPESSURA DE *10 CM*. AF_08/2017 | C32: M3 | D32: 0.72 | E32: 161.96 | F32: 22.23 | G32: 197.96 | I32: =ROUND('BDI principal'!D14,2) -> 22.23 | J32: =ROUND((ROUND(H32,2)*I32/100)+ROUND(H32,2),2) -> 0 | K32: =ROUND(D32*J32,2) -> 0 | L32: Item
A33: 3.3 | B33: GUARITA PARA CONTROLE DE ACESSO | K33: =K34+K43+K57+K60+K79+K87+K92+K124+K165+K176+K188+K200 -> 0 | L33: Etapa
A34: 3.3.1 | B34: INFRAESTRUTURA | K34: =SUM(K35:K42) -> 0 | L34: Etapa
A35: 3.3.1.1 | B35: ESTACA BROCA DE CONCRETO, DIÂMETRO DE 20CM, ESCAVAÇÃO MANUAL COM TRADO CONCHA, COM ARMADURA DE ARRANQUE. AF_05/2020 | C35: M | D35: 12 | E35: 65.78 | F35: 22.23 | G35: 80.4 | I35: =ROUND('BDI principal'!D14,2) -> 22.23 | J35: =ROUND((ROUND(H35,2)*I35/100)+ROUND(H35,2),2) -> 0 | K35: =ROUND(D35*J35,2) -> 0 | L35: Item
A36: 3.3.1.2 | B36: ESCAVAÇÃO MANUAL PARA BLOCO DE COROAMENTO OU SAPATA (INCLUINDO ESCAVAÇÃO PARA COLOCAÇÃO DE FÔRMAS). AF_06/2017 | C36: M3 | D36: 5.91 | E36: 106.95 | F36: 22.23 | G36: 130.72 | I36: =ROUND('BDI principal'!D14,2) -> 22.23 | J36: =ROUND((ROUND(H36,2)*I36/100)+ROUND(H36,2),2) -> 0 | K36: =ROUND(D36*J36,2) -> 0 | L36: Item
A37: 3.3.1.3 | B37: REATERRO MANUAL DE VALAS, COM COMPACTADOR DE SOLOS DE PERCUSSÃO. AF_08/2023 | C37: M3 | D37: 5.05 | E37: 26.89 | F37: 22.23 | G37: 32.87 | I37: =ROUND('BDI principal'!D14,2) -> 22.23 | J37: =ROUND((ROUND(H37,2)*I37/100)+ROUND(H37,2),2) -> 0 | K37: =ROUND(D37*J37,2) -> 0 | L37: Item
A38: 3.3.1.4 | B38: LASTRO COM MATERIAL GRANULAR (PEDRA BRITADA N.1 E PEDRA BRITADA N.2), APLICADO EM PISOS OU LAJES SOBRE SOLO, ESPESSURA DE *10 CM*. AF_07/2019 | C38: M3 | D38: 0.38 | E38: 161.63 | F38: 22.23 | G38: 197.56 | I38: =ROUND('BDI principal'!D14,2) -> 22.23 | J38: =ROUND((ROUND(H38,2)*I38/100)+ROUND(H38,2),2) -> 0 | K38: =ROUND(D38*J38,2) -> 0 | L38: Item
A39: 3.3.1.5 | B39: FABRICAÇÃO, MONTAGEM E DESMONTAGEM DE FÔRMA PARA SAPATA, EM MADEIRA SERRADA, E=25 MM, 4 UTILIZAÇÕES. AF_06/2017 | C39: M2 | D39: 5.82 | E39: 208.1 | F39: 22.23 | G39: 254.36 | I39: =ROUND('BDI principal'!D14,2) -> 22.23 | J39: =ROUND((ROUND(H39,2)*I39/100)+ROUND(H39,2),2) -> 0 | K39: =ROUND(D39*J39,2) -> 0 | L39: Item
A40: 3.3.1.6 | B40: CONCRETAGEM DE BLOCOS DE COROAMENTO E VIGAS BALDRAME, FCK 30 MPA, COM USO DE JERICA – LANÇAMENTO, ADENSAMENTO E ACABAMENTO. AF_06/2017 | C40: M3 | D40: 1.15 | E40: 763.47 | F40: 22.23 | G40: 933.19 | I40: =ROUND('BDI principal'!D14,2) -> 22.23 | J40: =ROUND((ROUND(H40,2)*I40/100)+ROUND(H40,2),2) -> 0 | K40: =ROUND(D40*J40,2) -> 0 | L40: Item
A41: 3.3.1.7 | B41: ARMAÇÃO DE BLOCO, VIGA BALDRAME OU SAPATA UTILIZANDO AÇO CA-50 DE 10 MM - MONTAGEM. AF_06/2017 | C41: KG | D41: 51.24 | E41: 14.18 | F41: 22.23 | G41: 17.33 | I41: =ROUND('BDI principal'!D14,2) -> 22.23 | J41: =ROUND((ROUND(H41,2)*I41/100)+ROUND(H41,2),2) -> 0 | K41: =ROUND(D41*J41,2) -> 0 | L41: Item
...

Sheet Cronograma
A1: Prefeitura Municipal de Jaraguá do Sul - SC
A2: Orcamento de obra - EXECUÇÃO DE OBRA DE CONSTRUÇÃO EM EDIFÍCIO PARA FINS ESPECIAIS PONTO DE ENTREGA VOLUNTÁRIA - BAIRROS ILHA DA FIGUEIRA E NEREU RAMOS
A3: Data: | B3: =DADOS!C3 -> 07/11/2023
A4: Empresa: | B4: =DADOS!C7 -> 0 | G4: Telefone: | H4: =DADOS!C9
A5: CNPJ: | B5: =DADOS!C8 | D5: Cidade: | E5: =DADOS!C13 -> 0 | H5: UF: | I5: =DADOS!C14 -> 0
A7: Item | B7: Etapa | C7: Total R$ | D7: % Mês 1 | E7: R$ Mês 1 | F7: % Mês 2 | G7: R$ Mês 2 | H7: % Mês 3 | I7: R$ Mês 3 | J7: % Mês 4 | K7: R$ Mês 4 | L7: % Mês 5 | M7: R$ Mês 5 | N7: % Mês 6 | O7: R$ Mês 6 | P7: % Mês 7 | Q7: R$ Mês 7 | R7: % Total | S7: R$ Total
A8: 1 | B8: CANTEIRO DE OBRAS | C8: =Orçamento!K8 -> 0 | D8: 48.600132 | E8: =C8*D8/100 -> 0 | F8: 8.2327121 | G8: =C8*F8/100 -> 0 | H8: 8.2327121 | I8: =C8*H8/100 -> 0 | J8: 9.568442 | K8: =C8*J8/100 -> 0 | L8: 8.2327121 | M8: =C8*L8/100 -> 0 | N8: 8.2327121 | O8: =C8*N8/100 -> 0 | P8: 8.9005771 | Q8: =C8*P8/100 -> 0 | R8: =D8+F8+H8+J8+L8+N8+P8 -> 100 | S8: =E8+G8+I8+K8+M8+O8+Q8 -> 0
A9: 2 | B9: ADMINISTRAÇÃO LOCAL | C9: =Orçamento!K13 -> 0 | D9: 14.285714 | E9: =C9*D9/100 -> 0 | F9: 14.285714 | G9: =C9*F9/100 -> 0 | H9: 14.285714 | I9: =C9*H9/100 -> 0 | J9: 14.285714 | K9: =C9*J9/100 -> 0 | L9: 14.285714 | M9: =C9*L9/100 -> 0 | N9: 14.285714 | O9: =C9*N9/100 -> 0 | P9: 14.285714 | Q9: =C9*P9/100 -> 0 | R9: =D9+F9+H9+J9+L9+N9+P9 -> 100 | S9: =E9+G9+I9+K9+M9+O9+Q9 -> 0
A10: 3 | B10: PONTO DE ENTREGA VOLUNTÁRIA - ILHA DA FIGUEIRA | C10: =Orçamento!K15 -> 0
A11: 3.1 | B11: CERCAMENTO | C11: =Orçamento!K16 -> 0 | D11: 50 | E11: =C11*D11/100 -> 0 | F11: 50 | G11: =C11*F11/100 -> 0 | H11: 0 | I11: =C11*H11/100 -> 0 | J11: 0 | K11: =C11*J11/100 -> 0 | L11: 0 | M11: =C11*L11/100 -> 0 | N11: 0 | O11: =C11*N11/100 -> 0 | P11: 0 | Q11: =C11*P11/100 -> 0 | R11: =D11+F11+H11+J11+L11+N11+P11 -> 100 | S11: =E11+G11+I11+K11+M11+O11+Q11 -> 0
A12: 3.2 | B12: CANCELAS PARA CONTROLE DE ACESSO | C12: =Orçamento!K26 -> 0 | D12: 8.3883464 | E12: =C12*D12/100 -> 0 | F12: 0 | G12: =C12*F12/100 -> 0 | H12: 91.611654 | I12: =C12*H12/100 -> 0 | J12: 0 | K12: =C12*J12/100 -> 0 | L12: 0 | M12: =C12*L12/100 -> 0 | N12: 0 | O12: =C12*N12/100 -> 0 | P12: 0 | Q12: =C12*P12/100 -> 0 | R12: =D12+F12+H12+J12+L12+N12+P12 -> 100 | S12: =E12+G12+I12+K12+M12+O12+Q12 -> 0
A13: 3.3 | B13: GUARITA PARA CONTROLE DE ACESSO | C13: =Orçamento!K33 -> 0
A14: 3.3.1 | B14: INFRAESTRUTURA | C14: =Orçamento!K34 -> 0 | D14: 100 | E14: =C14*D14/100 -> 0 | F14: 0 | G14: =C14*F14/100 -> 0 | H14: 0 | I14: =C14*H14/100 -> 0 | J14: 0 | K14: =C14*J14/100 -> 0 | L14: 0 | M14: =C14*L14/100 -> 0 | N14: 0 | O14: =C14*N14/100 -> 0 | P14: 0 | Q14: =C14*P14/100 -> 0 | R14: =D14+F14+H14+J14+L14+N14+P14 -> 100 | S14: =E14+G14+I14+K14+M14+O14+Q14 -> 0
A15: 3.3.2 | B15: SUPRAESTRUTURA | C15: =Orçamento!K43 -> 0 | D15: 50.000017 | E15: =C15*D15/100 -> 0 | F15: 49.999983 | G15: =C15*F15/100 -> 0 | H15: 0 | I15: =C15*H15/100 -> 0 | J15: 0 | K15: =C15*J15/100 -> 0 | L15: 0 | M15: =C15*L15/100 -> 0 | N15: 0 | O15: =C15*N15/100 -> 0 | P15: 0 | Q15: =C15*P15/100 -> 0 | R15: =D15+F15+H15+J15+L15+N15+P15 -> 100 | S15: =E15+G15+I15+K15+M15+O15+Q15 -> 0
A16: 3.3.3 | B16: IMPERMEABILIZAÇÕES | C16: =Orçamento!K57 -> 0 | D16: 48.45638 | E16: =C16*D16/100 -> 0 | F16: 0 | G16: =C16*F16/100 -> 0 | H16: 51.54362 | I16: =C16*H16/100 -> 0 | J16: 0 | K16: =C16*J16/100 -> 0 | L16: 0 | M16: =C16*L16/100 -> 0 | N16: 0 | O16: =C16*N16/100 -> 0 | P16: 0 | Q16: =C16*P16/100 -> 0 | R16: =D16+F16+H16+J16+L16+N16+P16 -> 100 | S16: =E16+G16+I16+K16+M16+O16+Q16 -> 0
A17: 3.3.4 | B17: ALVENARIA E REVESTIMENTOS | C17: =Orçamento!K60 -> 0 | D17: 0 | E17: =C17*D17/100 -> 0 | F17: 48.396943 | G17: =C17*F17/100 -> 0 | H17: 43.855752 | I17: =C17*H17/100 -> 0 | J17: 7.7473053 | K17: =C17*J17/100 -> 0 | L17: 0 | M17: =C17*L17/100 -> 0 | N17: 0 | O17: =C17*N17/100 -> 0 | P17: 0 | Q17: =C17*P17/100 -> 0 | R17: =D17+F17+H17+J17+L17+N17+P17 -> 100 | S17: =E17+G17+I17+K17+M17+O17+Q17 -> 0
A18: 3.3.5 | B18: COBERTURA | C18: =Orçamento!K79 -> 0 | D18: 0 | E18: =C18*D18/100 -> 0 | F18: 42.522685 | G18: =C18*F18/100 -> 0 | H18: 57.477315 | I18: =C18*H18/100 -> 0 | J18: 0 | K18: =C18*J18/100 -> 0 | L18: 0 | M18: =C18*L18/100 -> 0 | N18: 0 | O18: =C18*N18/100 -> 0 | P18: 0 | Q18: =C18*P18/100 -> 0 | R18: =D18+F18+H18+J18+L18+N18+P18 -> 100 | S18: =E18+G18+I18+K18+M18+O18+Q18 -> 0
A19: 3.3.6 | B19: ESQUADRIAS | C19: =Orçamento!K87 -> 0 | D19: 0 | E19: =C19*D19/100 -> 0 | F19: 0 | G19: =C19*F19/100 -> 0 | H19: 100 | I19: =C19*H19/100 -> 0 | J19: 0 | K19: =C19*J19/100 -> 0 | L19: 0 | M19: =C19*L19/100 -> 0 | N19: 0 | O19: =C19*N19/100 -> 0 | P19: 0 | Q19: =C19*P19/100 -> 0 | R19: =D19+F19+H19+J19+L19+N19+P19 -> 100 | S19: =E19+G19+I19+K19+M19+O19+Q19 -> 0
A20: 3.3.7 | B20: HIDROSSANITÁRIO | C20: =Orçamento!K92 -> 0 | D20: 1.4150412 | E20: =C20*D20/100 -> 0 | F20: 36.761672 | G20: =C20*F20/100 -> 0 | H20: 61.823287 | I20: =C20*H20/100 -> 0 | J20: 0 | K20: =C20*J20/100 -> 0 | L20: 0 | M20: =C20*L20/100 -> 0 | N20: 0 | O20: =C20*N20/100 -> 0 | P20: 0 | Q20: =C20*P20/100 -> 0 | R20: =D20+F20+H20+J20+L20+N20+P20 -> 100 | S20: =E20+G20+I20+K20+M20+O20+Q20 -> 0
A21: 3.3.8 | B21: ELÉTRICA E DADOS | C21: =Orçamento!K124 -> 0 | D21: 17.800113 | E21: =C21*D21/100 -> 0 | F21: 21.762097 | G21: =C21*F21/100 -> 0 | H21: 60.437789 | I21: =C21*H21/100 -> 0 | J21: 0 | K21: =C21*J21/100 -> 0 | L21: 0 | M21: =C21*L21/100 -> 0 | N21: 0 | O21: =C21*N21/100 -> 0 | P21: 0 | Q21: =C21*P21/100 -> 0 | R21: =D21+F21+H21+J21+L21+N21+P21 -> 100 | S21: =E21+G21+I21+K21+M21+O21+Q21 -> 0
A22: 3.3.9 | B22: CLIMATIZAÇÃO | C22: =Orçamento!K165 -> 0 | D22: 0 | E22: =C22*D22/100 -> 0 | F22: 7.7638091 | G22: =C22*F22/100 -> 0 | H22: 92.236191 | I22: =C22*H22/100 -> 0 | J22: 0 | K22: =C22*J22/100 -> 0 | L22: 0 | M22: =C22*L22/100 -> 0 | N22: 0 | O22: =C22*N22/100 -> 0 | P22: 0 | Q22: =C22*P22/100 -> 0 | R22: =D22+F22+H22+J22+L22+N22+P22 -> 100 | S22: =E22+G22+I22+K22+M22+O22+Q22 -> 0
A23: 3.3.10 | B23: LOUÇAS E METAIS | C23: =Orçamento!K176 -> 0 | D23: 0 | E23: =C23*D23/100 -> 0 | F23: 0 | G23: =C23*F23/100 -> 0 | H23: 0 | I23: =C23*H23/100 -> 0 | J23: 100 | K23: =C23*J23/100 -> 0 | L23: 0 | M23: =C23*L23/100 -> 0 | N23: 0 | O23: =C23*N23/100 -> 0 | P23: 0 | Q23: =C23*P23/100 -> 0 | R23: =D23+F23+H23+J23+L23+N23+P23 -> 100 | S23: =E23+G23+I23+K23+M23+O23+Q23 -> 0
A24: 3.3.11 | B24: LIXEIRA E ENTRADAS DE ÁGUA E ENERGIA EM ALVENARIA | C24: =Orçamento!K188 -> 0 | D24: 66.771304 | E24: =C24*D24/100 -> 0 | F24: 0 | G24: =C24*F24/100 -> 0 | H24: 0 | I24: =C24*H24/100 -> 0 | J24: 33.228696 | K24: =C24*J24/100 -> 0 | L24: 0 | M24: =C24*L24/100 -> 0 | N24: 0 | O24: =C24*N24/100 -> 0 | P24: 0 | Q24: =C24*P24/100 -> 0 | R24: =D24+F24+H24+J24+L24+N24+P24 -> 100 | S24: =E24+G24+I24+K24+M24+O24+Q24 -> 0
A25: 3.3.12 | B25: PROJETO PREVENTIVO CONTRA INCÊNDIOS | C25: =Orçamento!K200 -> 0 | D25: 0 | E25: =C25*D25/100 -> 0 | F25: 0 | G25: =C25*F25/100 -> 0 | H25: 0 | I25: =C25*H25/100 -> 0 | J25: 100 | K25: =C25*J25/100 -> 0 | L25: 0 | M25: =C25*L25/100 -> 0 | N25: 0 | O25: =C25*N25/100 -> 0 | P25: 0 | Q25: =C25*P25/100 -> 0 | R25: =D25+F25+H25+J25+L25+N25+P25 -> 100 | S25: =E25+G25+I25+K25+M25+O25+Q25 -> 0
A26: 4 | B26: PONTO DE ENTREGA VOLUNTÁRIA - NEREU RAMOS | C26: =Orçamento!K204 -> 0
A27: 4.1 | B27: CERCAMENTO | C27: =Orçamento!K205 -> 0 | D27: 0 | E27: =C27*D27/100 -> 0 | F27: 0 | G27: =C27*F27/100 -> 0 | H27: 0 | I27: =C27*H27/100 -> 0 | J27: 39.999999 | K27: =C27*J27/100 -> 0 | L27: 39.999999 | M27: =C27*L27/100 -> 0 | N27: 20.000003 | O27: =C27*N27/100 -> 0 | P27: 0 | Q27: =C27*P27/100 -> 0 | R27: =D27+F27+H27+J27+L27+N27+P27 -> 100 | S27: =E27+G27+I27+K27+M27+O27+Q27 -> 0
A28: 4.2 | B28: CANCELA PARA CONTROLE DE ACESSO | C28: =Orçamento!K220 -> 0 | D28: 0 | E28: =C28*D28/100 -> 0 | F28: 0 | G28: =C28*F28/100 -> 0 | H28: 0 | I28: =C28*H28/100 -> 0 | J28: 8.3883464 | K28: =C28*J28/100 -> 0 | L28: 0 | M28: =C28*L28/100 -> 0 | N28: 91.611654 | O28: =C28*N28/100 -> 0 | P28: 0 | Q28: =C28*P28/100 -> 0 | R28: =D28+F28+H28+J28+L28+N28+P28 -> 100 | S28: =E28+G28+I28+K28+M28+O28+Q28 -> 0
A29: 4.3 | B29: GUARITA PARA CONTROLE DE ACESSO | C29: =Orçamento!K227 -> 0
A30: 4.3.1 | B30: INFRAESTRUTURA | C30: =Orçamento!K228 -> 0 | D30: 0 | E30: =C30*D30/100 -> 0 | F30: 0 | G30: =C30*F30/100 -> 0 | H30: 0 | I30: =C30*H30/100 -> 0 | J30: 100 | K30: =C30*J30/100 -> 0 | L30: 0 | M30: =C30*L30/100 -> 0 | N30: 0 | O30: =C30*N30/100 -> 0 | P30: 0 | Q30: =C30*P30/100 -> 0 | R30: =D30+F30+H30+J30+L30+N30+P30 -> 100 | S30: =E30+G30+I30+K30+M30+O30+Q30 -> 0
A31: 4.3.2 | B31: SUPRAESTRUTURA | C31: =Orçamento!K237 -> 0 | D31: 0 | E31: =C31*D31/100 -> 0 | F31: 0 | G31: =C31*F31/100 -> 0 | H31: 0 | I31: =C31*H31/100 -> 0 | J31: 50.000017 | K31: =C31*J31/100 -> 0 | L31: 49.999983 | M31: =C31*L31/100 -> 0 | N31: 0 | O31: =C31*N31/100 -> 0 | P31: 0 | Q31: =C31*P31/100 -> 0 | R31: =D31+F31+H31+J31+L31+N31+P31 -> 100 | S31: =E31+G31+I31+K31+M31+O31+Q31 -> 0
A32: 4.3.3 | B32: IMPERMEABILIZAÇÕES | C32: =Orçamento!K251 -> 0 | D32: 0 | E32: =C32*D32/100 -> 0 | F32: 0 | G32: =C32*F32/100 -> 0 | H32: 0 | I32: =C32*H32/100 -> 0 | J32: 48.45638 | K32: =C32*J32/100 -> 0 | L32: 0 | M32: =C32*L32/100 -> 0 | N32: 51.54362 | O32: =C32*N32/100 -> 0 | P32: 0 | Q32: =C32*P32/100 -> 0 | R32: =D32+F32+H32+J32+L32+N32+P32 -> 100 | S32: =E32+G32+I32+K32+M32+O32+Q32 -> 0
A33: 4.3.4 | B33: ALVENARIA E REVESTIMENTOS | C33: =Orçamento!K254 -> 0 | D33: 0 | E33: =C33*D33/100 -> 0 | F33: 0 | G33: =C33*F33/100 -> 0 | H33: 0 | I33: =C33*H33/100 -> 0 | J33: 0 | K33: =C33*J33/100 -> 0 | L33: 48.396943 | M33: =C33*L33/100 -> 0 | N33: 43.855752 | O33: =C33*N33/100 -> 0 | P33: 7.7473053 | Q33: =C33*P33/100 -> 0 | R33: =D33+F33+H33+J33+L33+N33+P33 -> 100 | S33: =E33+G33+I33+K33+M33+O33+Q33 -> 0
A34: 4.3.5 | B34: COBERTURA | C34: =Orçamento!K273 -> 0 | D34: 0 | E34: =C34*D34/100 -> 0 | F34: 0 | G34: =C34*F34/100 -> 0 | H34: 0 | I34: =C34*H34/100 -> 0 | J34: 0 | K34: =C34*J34/100 -> 0 | L34: 42.522685 | M34: =C34*L34/100 -> 0 | N34: 57.477315 | O34: =C34*N34/100 -> 0 | P34: 0 | Q34: =C34*P34/100 -> 0 | R34: =D34+F34+H34+J34+L34+N34+P34 -> 100 | S34: =E34+G34+I34+K34+M34+O34+Q34 -> 0
A35: 4.3.6 | B35: ESQUADRIAS | C35: =Orçamento!K281 -> 0 | D35: 0 | E35: =C35*D35/100 -> 0 | F35: 0 | G35: =C35*F35/100 -> 0 | H35: 0 | I35: =C35*H35/100 -> 0 | J35: 0 | K35: =C35*J35/100 -> 0 | L35: 0 | M35: =C35*L35/100 -> 0 | N35: 100 | O35: =C35*N35/100 -> 0 | P35: 0 | Q35: =C35*P35/100 -> 0 | R35: =D35+F35+H35+J35+L35+N35+P35 -> 100 | S35: =E35+G35+I35+K35+M35+O35+Q35 -> 0
A36: 4.3.7 | B36: HIDROSSANITÁRIO | C36: =Orçamento!K286 -> 0 | D36: 0 | E36: =C36*D36/100 -> 0 | F36: 0 | G36: =C36*F36/100 -> 0 | H36: 0 | I36: =C36*H36/100 -> 0 | J36: 3.5694684 | K36: =C36*J36/100 -> 0 | L36: 96.430532 | M36: =C36*L36/100 -> 0 | N36: 0 | O36: =C36*N36/100 -> 0 | P36: 0 | Q36: =C36*P36/100 -> 0 | R36: =D36+F36+H36+J36+L36+N36+P36 -> 100 | S36: =E36+G36+I36+K36+M36+O36+Q36 -> 0
A37: 4.3.8 | B37: ELÉTRICA E DADOS | C37: =Orçamento!K316 -> 0 | D37: 0 | E37: =C37*D37/100 -> 0 | F37: 0 | G37: =C37*F37/100 -> 0 | H37: 0 | I37: =C37*H37/100 -> 0 | J37: 17.687571 | K37: =C37*J37/100 -> 0 | L37: 19.864775 | M37: =C37*L37/100 -> 0 | N37: 62.447654 | O37: =C37*N37/100 -> 0 | P37: 0 | Q37: =C37*P37/100 -> 0 | R37: =D37+F37+H37+J37+L37+N37+P37 -> 100 | S37: =E37+G37+I37+K37+M37+O37+Q37 -> 0
A38: 4.3.9 | B38: CLIMATIZAÇÃO | C38: =Orçamento!K357 -> 0 | D38: 0 | E38: =C38*D38/100 -> 0 | F38: 0 | G38: =C38*F38/100 -> 0 | H38: 0 | I38: =C38*H38/100 -> 0 | J38: 0 | K38: =C38*J38/100 -> 0 | L38: 7.7638091 | M38: =C38*L38/100 -> 0 | N38: 92.236191 | O38: =C38*N38/100 -> 0 | P38: 0 | Q38: =C38*P38/100 -> 0 | R38: =D38+F38+H38+J38+L38+N38+P38 -> 100 | S38: =E38+G38+I38+K38+M38+O38+Q38 -> 0
A39: 4.3.10 | B39: LOUÇAS E METAIS | C39: =Orçamento!K368 -> 0 | D39: 0 | E39: =C39*D39/100 -> 0 | F39: 0 | G39: =C39*F39/100 -> 0 | H39: 0 | I39: =C39*H39/100 -> 0 | J39: 0 | K39: =C39*J39/100 -> 0 | L39: 0 | M39: =C39*L39/100 -> 0 | N39: 0 | O39: =C39*N39/100 -> 0 | P39: 100 | Q39: =C39*P39/100 -> 0 | R39: =D39+F39+H39+J39+L39+N39+P39 -> 100 | S39: =E39+G39+I39+K39+M39+O39+Q39 -> 0
A40: 4.3.11 | B40: LIXEIRA E ENTRADAS DE ÁGUA E ENERGIA EM ALVENARIA | C40: =Orçamento!K380 -> 0 | D40: 0 | E40: =C40*D40/100 -> 0 | F40: 0 | G40: =C40*F40/100 -> 0 | H40: 0 | I40: =C40*H40/100 -> 0 | J40: 66.771304 | K40: =C40*J40/100 -> 0 | L40: 0 | M40: =C40*L40/100 -> 0 | N40: 0 | O40: =C40*N40/100 -> 0 | P40: 33.228696 | Q40: =C40*P40/100 -> 0 | R40: =D40+F40+H40+J40+L40+N40+P40 -> 100 | S40: =E40+G40+I40+K40+M40+O40+Q40 -> 0
A41: 4.3.12 | B41: PROJETO PREVENTIVO CONTRA INCÊNDIO | C41: =Orçamento!K392 -> 0 | D41: 0 | E41: =C41*D41/100 -> 0 | F41: 0 | G41: =C41*F41/100 -> 0 | H41: 0 | I41: =C41*H41/100 -> 0 | J41: 0 | K41: =C41*J41/100 -> 0 | L41: 0 | M41: =C41*L41/100 -> 0 | N41: 0 | O41: =C41*N41/100 -> 0 | P41: 100 | Q41: =C41*P41/100 -> 0 | R41: =D41+F41+H41+J41+L41+N41+P41 -> 100 | S41: =E41+G41+I41+K41+M41+O41+Q41 -> 0
...

Sheet BDI principal
A1: Prefeitura Municipal de Jaraguá do Sul - SC
A2: Orcamento de obra - EXECUÇÃO DE OBRA DE CONSTRUÇÃO EM EDIFÍCIO PARA FINS ESPECIAIS PONTO DE ENTREGA VOLUNTÁRIA - BAIRROS ILHA DA FIGUEIRA E NEREU RAMOS
A3: Data: | B3: =DADOS!C3 -> 07/11/2023
A4: Empresa: | B4: =DADOS!C7 -> 0 | G4: Telefone: | H4: =DADOS!C9
A5: CNPJ: | B5: =DADOS!C8 | D5: Cidade: | E5: =DADOS!C13 -> 0 | H5: UF: | I5: =DADOS!C14 -> 0
A7: Item | B7: 1º quartil | C7: 3º quartil | D7: Proposto | E7: Identificação
A8: AC | B8: 3 | C8: 5.5 | D8: 4 | E8: Administração Central | J8: =D8/100 -> 0.04
A9: S+G | B9: 0.8 | C9: 1 | D9: 0.8 | E9: Seguro e Garantia | J9: =D9/100 -> 0.008
A10: R | B10: 0.97 | C10: 1.27 | D10: 1.27 | E10: Risco | J10: =D10/100 -> 0.0127
A11: DF | B11: 0.59 | C11: 1.39 | D11: 1.23 | E11: Despesas Financeiras | J11: =D11/100 -> 0.0123
A12: L | B12: 6.16 | C12: 8.96 | D12: 7.4 | E12: Lucro | J12: =D12/100 -> 0.074
A13: I* | B13: 5.65 | C13: 10.65 | D13: =I15+I18+I19 -> 5.65 | E13: Tributos * | J13: =D13/100 -> 0.0565
C14: Total | D14: =ROUND(((((1+J8+J9+J10)*(1+J11)*(1+J12)/(1-J15-J18))-1)*100),2) -> 22.23
F15: PIS e COFINS | I15: 3.65 | J15: =I15/100 -> 0.0365
F16: Alíquota ISS | I16: 2 | J16: =I16/100 -> 0.02
F17: Base de cálculo | I17: 100
F18: ISS Aplicável | I18: =((I17*I16)/100) -> 2 | J18: =I18/100 -> 0.02
F19: Cont. Prev. s/Rec.Bruta | I19: 0
E29: =DADOS!C11 -> 0
E30: =DADOS!C12 -> 0

Sheet BDI equipamentos
A1: Prefeitura Municipal de Jaraguá do Sul - SC
A2: Orcamento de obra - EXECUÇÃO DE OBRA DE CONSTRUÇÃO EM EDIFÍCIO PARA FINS ESPECIAIS PONTO DE ENTREGA VOLUNTÁRIA - BAIRROS ILHA DA FIGUEIRA E NEREU RAMOS
A3: Data: | B3: =DADOS!C3 -> 07/11/2023
A4: Empresa: | B4: =DADOS!C7 -> 0 | G4: Telefone: | H4: =DADOS!C9
A5: CNPJ: | B5: =DADOS!C8 | D5: Cidade: | E5: =DADOS!C13 -> 0 | H5: UF: | I5: =DADOS!C14 -> 0
A7: Item | B7: 1º quartil | C7: 3º quartil | D7: Proposto | E7: Identificação
A8: AC | B8: 1.5 | C8: 4.49 | D8: 3.45 | E8: Administração Central | J8: =D8/100 -> 0.0345
A9: S+G | B9: 0.3 | C9: 0.82 | D9: 0.48 | E9: Seguro e Garantia | J9: =D9/100 -> 0.0048
A10: R | B10: 0.56 | C10: 0.89 | D10: 0.85 | E10: Risco | J10: =D10/100 -> 0.0085
A11: DF | B11: 0.85 | C11: 1.11 | D11: 0.85 | E11: Despesas Financeiras | J11: =D11/100 -> 0.0085
A12: L | B12: 3.5 | C12: 6.22 | D12: 5.11 | E12: Lucro | J12: =D12/100 -> 0.0511
A13: I* | B13: 5.65 | C13: 10.65 | D13: =I15+I16 -> 3.65 | E13: Tributos * | J13: =D13/100 -> 0.0365
C14: Total | D14: =ROUND(((((1+J8+J9+J10)*(1+J11)*(1+J12)/(1-J13))-1)*100),2) -> 15.28
F15: PIS e COFINS | I15: 3.65 | J15: =I15/100 -> 0.0365
F16: Cont. Prev. s/Rec.Bruta | I16: 0
E26: =DADOS!C11 -> 0
E27: =DADOS!C12 -> 0

Sheet BDI Diferenciado
A1: Prefeitura Municipal de Jaraguá do Sul - SC
A2: Orcamento de obra - EXECUÇÃO DE OBRA DE CONSTRUÇÃO EM EDIFÍCIO PARA FINS ESPECIAIS PONTO DE ENTREGA VOLUNTÁRIA - BAIRROS ILHA DA FIGUEIRA E NEREU RAMOS
A3: Data: | B3: =DADOS!C3 -> 07/11/2023
A4: Empresa: | B4: =DADOS!C7 -> 0 | G4: Telefone: | H4: =DADOS!C9
A5: CNPJ: | B5: =DADOS!C8 | D5: Cidade: | E5: =DADOS!C13 -> 0 | H5: UF: | I5: =DADOS!C14 -> 0
A8: K1= | B8: 1.1428 | C8: Encargos sociais incidentes sobre a mão de obra
A9: k2= | B9: 0.2 | C9: Administração central (overhead)
A10: k3= | B10: 0.12 | C10: Margem bruta
A11: k4= | B11: 0 | C11: Impostos (PIS + COFINS + ISS)
A12: K | B12: =(((1+B8+B9)*(1+B10))/(1-B11)) -> 2.623936 | C12: {[(1+k1+k2)(1+k3)]/(1-k4)}
A13: TRDE | B13: =((1+B10)/(1-B11)) -> 1.12 | C13: [(1+k3)/(1-k4)]
E23: =DADOS!C11 -> 0
E24: =DADOS!C12 -> 0

Sheet Material e Serviços
A1: Prefeitura Municipal de Jaraguá do Sul - SC
A2: Orcamento de obra - EXECUÇÃO DE OBRA DE CONSTRUÇÃO EM EDIFÍCIO PARA FINS ESPECIAIS PONTO DE ENTREGA VOLUNTÁRIA - BAIRROS ILHA DA FIGUEIRA E NEREU RAMOS
A3: Data: | B3: =DADOS!C3 -> 07/11/2023
A4: Empresa: | B4: =DADOS!C7 -> 0 | G4: Telefone: | H4: =DADOS!C9
A5: CNPJ: | B5: =DADOS!C8 | D5: Cidade: | E5: =DADOS!C13 -> 0 | H5: UF: | I5: =DADOS!C14 -> 0
A7: Item | B7: Descrição dos itens | C7: U.M. | D7: Qtde. | E7: Preço Un. R$ | F7: Material R$ | G7: Serviço R$ | H7: Mat/Ser R$ | I7: Total R$
A8: 1 | B8: CANTEIRO DE OBRAS | F8: =SUM(F9:F12) -> 0 | G8: =SUM(G9:G12) -> 0 | I8: =SUM(I9:I12) -> 0 | J8: Etapa
A9: 1.1 | B9: LOCACAO DE CONTAINER 2,30 X 6,00 M, ALT. 2,50 M, COM 1 SANITARIO, PARA ESCRITORIO, COMPLETO, SEM DIVISORIAS INTERNAS (NAO INCLUI MOBILIZACAO/DESMOBILIZACAO) | C9: MES | D9: 7 | E9: =Orçamento!J9 -> 0 | G9: =E9-F9 -> 0 | H9: =F9+G9 -> 0 | I9: =Orçamento!K9 -> 0
A10: 1.2 | B10: EXECUÇÃO DE CENTRAL DE ARMADURA EM CANTEIRO DE OBRA, NÃO INCLUSO MOBILIÁRIO E EQUIPAMENTOS. AF_04/2016 | C10: M2 | D10: 8 | E10: =Orçamento!J10 -> 0 | G10: =E10-F10 -> 0 | H10: =F10+G10 -> 0 | I10: =Orçamento!K10 -> 0
A11: 1.3 | B11: TRANSPORTE COM CAMINHÃO CARROCERIA COM GUINDAUTO (MUNCK), MOMENTO MÁXIMO DE CARGA 11,7 TM, EM VIA URBANA PAVIMENTADA, DMT ATÉ 30KM (UNIDADE: TXKM). AF_07/2020 | C11: TXKM | D11: 100 | E11: =Orçamento!J11 -> 0 | G11: =E11-F11 -> 0 | H11: =F11+G11 -> 0 | I11: =Orçamento!K11 -> 0
A12: 1.4 | B12: FORNECIMENTO E INSTALAÇÃO DE PLACA DE OBRA COM CHAPA GALVANIZADA E ESTRUTURA DE MADEIRA. AF_03/2022_PS | C12: M2 | D12: 4 | E12: =Orçamento!J12 -> 0 | G12: =E12-F12 -> 0 | H12: =F12+G12 -> 0 | I12: =Orçamento!K12 -> 0
A13: 2 | B13: ADMINISTRAÇÃO LOCAL | F13: =SUM(F14:F14) -> 0 | G13: =SUM(G14:G14) -> 0 | I13: =SUM(I14:I14) -> 0 | J13: Etapa
A14: 2.1 | B14: ENGENHEIRO CIVIL JUNIOR | C14: H | D14: 112 | E14: =Orçamento!J14 -> 0 | G14: =E14-F14 -> 0 | H14: =F14+G14 -> 0 | I14: =Orçamento!K14 -> 0
A15: 3 | B15: PONTO DE ENTREGA VOLUNTÁRIA - ILHA DA FIGUEIRA | F15: =F16+F26+F33 -> 0 | G15: =G16+G26+G33 -> 0 | J15: Etapa
A16: 3.1 | B16: CERCAMENTO | F16: =SUM(F17:F25) -> 0 | G16: =SUM(G17:G25) -> 0 | I16: =SUM(I17:I25) -> 0 | J16: Etapa
A17: 3.1.1 | B17: ESTACA BROCA DE CONCRETO, DIÂMETRO DE 20CM, ESCAVAÇÃO MANUAL COM TRADO CONCHA, COM ARMADURA DE ARRANQUE. AF_05/2020 | C17: M | D17: 83.5 | E17: =Orçamento!J17 -> 0 | G17: =E17-F17 -> 0 | H17: =F17+G17 -> 0 | I17: =Orçamento!K17 -> 0
A18: 3.1.2 | B18: ESCAVAÇÃO MANUAL PARA BLOCO DE COROAMENTO OU SAPATA (INCLUINDO ESCAVAÇÃO PARA COLOCAÇÃO DE FÔRMAS). AF_06/2017 | C18: M3 | D18: 20.04 | E18: =Orçamento!J18 -> 0 | G18: =E18-F18 -> 0 | H18: =F18+G18 -> 0 | I18: =Orçamento!K18 -> 0
A19: 3.1.3 | B19: LASTRO COM MATERIAL GRANULAR (PEDRA BRITADA N.1 E PEDRA BRITADA N.2), APLICADO EM PISOS OU LAJES SOBRE SOLO, ESPESSURA DE *10 CM*. AF_07/2019 | C19: M3 | D19: 3.34 | E19: =Orçamento!J19 -> 0 | G19: =E19-F19 -> 0 | H19: =F19+G19 -> 0 | I19: =Orçamento!K19 -> 0
A20: 3.1.4 | B20: FABRICAÇÃO, MONTAGEM E DESMONTAGEM DE FÔRMA PARA VIGA BALDRAME, EM MADEIRA SERRADA, E=25 MM, 4 UTILIZAÇÕES. AF_06/2017 | C20: M2 | D20: 100.2 | E20: =Orçamento!J20 -> 0 | G20: =E20-F20 -> 0 | H20: =F20+G20 -> 0 | I20: =Orçamento!K20 -> 0
A21: 3.1.5 | B21: ARMAÇÃO DE BLOCO, VIGA BALDRAME OU SAPATA UTILIZANDO AÇO CA-50 DE 6,3 MM - MONTAGEM. AF_06/2017 | C21: KG | D21: 140.75 | E21: =Orçamento!J21 -> 0 | G21: =E21-F21 -> 0 | H21: =F21+G21 -> 0 | I21: =Orçamento!K21 -> 0
A22: 3.1.6 | B22: ARMAÇÃO DE BLOCO, VIGA BALDRAME OU SAPATA UTILIZANDO AÇO CA-50 DE 8 MM - MONTAGEM. AF_06/2017 | C22: KG | D22: 265.44 | E22: =Orçamento!J22 -> 0 | G22: =E22-F22 -> 0 | H22: =F22+G22 -> 0 | I22: =Orçamento!K22 -> 0
A23: 3.1.7 | B23: CONCRETAGEM DE BLOCOS DE COROAMENTO E VIGAS BALDRAMES, FCK 30 MPA, COM USO DE BOMBA – LANÇAMENTO, ADENSAMENTO E ACABAMENTO. AF_06/2017 | C23: M3 | D23: 10.02 | E23: =Orçamento!J23 -> 0 | G23: =E23-F23 -> 0 | H23: =F23+G23 -> 0 | I23: =Orçamento!K23 -> 0
A24: 3.1.8 | B24: CERCAMENTO EM MOURÃO DE CONCRETO CURVO, COM TELA DE AÇO GALVANIZADO REVESTIDO EM PVC, COM 3 FIADAS DE ARAME FARPADO SUPERIOR, E CHUMBAMENTO EM VIGA BALDRAME - FORNECIMENTO E INSTALAÇÃO | C24: M | D24: 167 | E24: =Orçamento!J24 -> 0 | G24: =E24-F24 -> 0 | H24: =F24+G24 -> 0 | I24: =Orçamento!K24 -> 0
A25: 3.1.9 | B25: PORTÃO DE CORRER EM GRADIL FIXO DE BARRA DE FERRO CHATA DE 3 X 1/4" NA VERTICAL, COM TRILHOS E ROLDANAS | C25: M2 | D25: 20 | E25: =Orçamento!J25 -> 0 | G25: =E25-F25 -> 0 | H25: =F25+G25 -> 0 | I25: =Orçamento!K25 -> 0
A26: 3.2 | B26: CANCELAS PARA CONTROLE DE ACESSO | F26: =SUM(F27:F32) -> 0 | G26: =SUM(G27:G32) -> 0 | I26: =SUM(I27:I32) -> 0 | J26: Etapa
A27: 3.2.1 | B27: INSTALAÇÃOD E CANCELA PARA CONTROLE DE ENTRADA DE VEÍCULOS | C27: UN | D27: 2 | E27: =Orçamento!J27 -> 0 | G27: =E27-F27 -> 0 | H27: =F27+G27 -> 0 | I27: =Orçamento!K27 -> 0
A28: 3.2.2 | B28: CANCELA PARA CONTROLE DE ACESSO COM BARREIRA FIXA DE 5 METROS | C28: UN | D28: 2 | E28: =Orçamento!J28 -> 0 | G28: =E28-F28 -> 0 | H28: =F28+G28 -> 0 | I28: =Orçamento!K28 -> 0
A29: 3.2.3 | B29: FABRICAÇÃO, MONTAGEM E DESMONTAGEM DE FÔRMA PARA BLOCO DE COROAMENTO, EM MADEIRA SERRADA, E=25 MM, 2 UTILIZAÇÕES. AF_06/2017 | C29: M2 | D29: 2.4 | E29: =Orçamento!J29 -> 0 | G29: =E29-F29 -> 0 | H29: =F29+G29 -> 0 | I29: =Orçamento!K29 -> 0
A30: 3.2.4 | B30: CONCRETAGEM DE BLOCOS DE COROAMENTO E VIGAS BALDRAMES, FCK 30 MPA, COM USO DE BOMBA – LANÇAMENTO, ADENSAMENTO E ACABAMENTO. AF_06/2017 | C30: M3 | D30: 0.36 | E30: =Orçamento!J30 -> 0 | G30: =E30-F30 -> 0 | H30: =F30+G30 -> 0 | I30: =Orçamento!K30 -> 0
A31: 3.2.5 | B31: ARMAÇÃO DE BLOCO, VIGA BALDRAME OU SAPATA UTILIZANDO AÇO CA-50 DE 8 MM - MONTAGEM. AF_06/2017 | C31: KG | D31: 3.79 | E31: =Orçamento!J31 -> 0 | G31: =E31-F31 -> 0 | H31: =F31+G31 -> 0 | I31: =Orçamento!K31 -> 0
A32: 3.2.6 | B32: LASTRO COM MATERIAL GRANULAR (PEDRA BRITADA N.2), APLICADO EM PISOS OU LAJES SOBRE SOLO, ESPESSURA DE *10 CM*. AF_08/2017 | C32: M3 | D32: 0.72 | E32: =Orçamento!J32 -> 0 | G32: =E32-F32 -> 0 | H32: =F32+G32 -> 0 | I32: =Orçamento!K32 -> 0
A33: 3.3 | B33: GUARITA PARA CONTROLE DE ACESSO | F33: =F34+F43+F57+F60+F79+F87+F92+F124+F165+F176+F188+F200 -> 0 | G33: =G34+G43+G57+G60+G79+G87+G92+G124+G165+G176+G188+G200 -> 0 | J33: Etapa
A34: 3.3.1 | B34: INFRAESTRUTURA | F34: =SUM(F35:F42) -> 0 | G34: =SUM(G35:G42) -> 0 | I34: =SUM(I35:I42) -> 0 | J34: Etapa
A35: 3.3.1.1 | B35: ESTACA BROCA DE CONCRETO, DIÂMETRO DE 20CM, ESCAVAÇÃO MANUAL COM TRADO CONCHA, COM ARMADURA DE ARRANQUE. AF_05/2020 | C35: M | D35: 12 | E35: =Orçamento!J35 -> 0 | G35: =E35-F35 -> 0 | H35: =F35+G35 -> 0 | I35: =Orçamento!K35 -> 0
A36: 3.3.1.2 | B36: ESCAVAÇÃO MANUAL PARA BLOCO DE COROAMENTO OU SAPATA (INCLUINDO ESCAVAÇÃO PARA COLOCAÇÃO DE FÔRMAS). AF_06/2017 | C36: M3 | D36: 5.91 | E36: =Orçamento!J36 -> 0 | G36: =E36-F36 -> 0 | H36: =F36+G36 -> 0 | I36: =Orçamento!K36 -> 0
A37: 3.3.1.3 | B37: REATERRO MANUAL DE VALAS, COM COMPACTADOR DE SOLOS DE PERCUSSÃO. AF_08/2023 | C37: M3 | D37: 5.05 | E37: =Orçamento!J37 -> 0 | G37: =E37-F37 -> 0 | H37: =F37+G37 -> 0 | I37: =Orçamento!K37 -> 0
A38: 3.3.1.4 | B38: LASTRO COM MATERIAL GRANULAR (PEDRA BRITADA N.1 E PEDRA BRITADA N.2), APLICADO EM PISOS OU LAJES SOBRE SOLO, ESPESSURA DE *10 CM*. AF_07/2019 | C38: M3 | D38: 0.38 | E38: =Orçamento!J38 -> 0 | G38: =E38-F38 -> 0 | H38: =F38+G38 -> 0 | I38: =Orçamento!K38 -> 0
A39: 3.3.1.5 | B39: FABRICAÇÃO, MONTAGEM E DESMONTAGEM DE FÔRMA PARA SAPATA, EM MADEIRA SERRADA, E=25 MM, 4 UTILIZAÇÕES. AF_06/2017 | C39: M2 | D39: 5.82 | E39: =Orçamento!J39 -> 0 | G39: =E39-F39 -> 0 | H39: =F39+G39 -> 0 | I39: =Orçamento!K39 -> 0
A40: 3.3.1.6 | B40: CONCRETAGEM DE BLOCOS DE COROAMENTO E VIGAS BALDRAME, FCK 30 MPA, COM USO DE JERICA – LANÇAMENTO, ADENSAMENTO E ACABAMENTO. AF_06/2017 | C40: M3 | D40: 1.15 | E40: =Orçamento!J40 -> 0 | G40: =E40-F40 -> 0 | H40: =F40+G40 -> 0 | I40: =Orçamento!K40 -> 0
A41: 3.3.1.7 | B41: ARMAÇÃO DE BLOCO, VIGA BALDRAME OU SAPATA UTILIZANDO AÇO CA-50 DE 10 MM - MONTAGEM. AF_06/2017 | C41: KG | D41: 51.24 | E41: =Orçamento!J41 -> 0 | G41: =E41-F41 -> 0 | H41: =F41+G41 -> 0 | I41: =Orçamento!K41 -> 0
...

Sheet Repositório
A1: ='BDI principal'!D14 -> 22.23
A2: ='BDI equipamentos'!D14 -> 15.28
A3: ='BDI Diferenciado'!B12 -> 2.623936
A4: ='BDI Diferenciado'!B13 -> 1.12
