Workbook
Name Model_Start: '22 - Seguros'!$E$8

Sheet 01 - Dados de Entrada
A1: PREFEITURA MUNICIPAL DE JARAGUÁ DO SUL
A2: ESTUDO DE VIABILIDADE ECONÔMICA PARA A CONCESSÃO DOS SERVIÇOS DE LIMPEZA PÚBLICA E MANEJO DE RESÍDUOS SÓLIDOS
A3: DADOS DE ENTRADA
A5: 1 | B5: Dados Gerais | C5: Valor | D5: Unidade | E5: Fonte
A6: 1.1 | B6: População total | C6: =182660 -> 182660 | D6: habitantes | E6: IBGE 2022
A7: 1.2 | B7: Produção de Resíduos | C7: =SUM(C8:C10) -> 38988 | D7: toneladas/ano | E7: Edital PMI-dados 2022
A8: 1.3 | B8: Quantidade Coletada de Resíduos Domiciliar Urbana | C8: =33227-2896 -> 30331 | D8: toneladas/ano | E8: Edital PMI
A9: 1.4 | B9: Quantidade Coletada de Resíduos Domiciliar Rural | C9: 1415 | D9: toneladas/ano | E9: Edital PMI
A10: 1.5 | B10: Quantidade Coletada de Resíduos Coleta Seletiva (Recicláveis + Rejeitos) | C10: 7242 | D10: toneladas/ano | E10: Edital PMI
A11: 1.6 | B11: Rejeito da coleta seletiva | C11: 2896 | D11: toneladas/ano | E11: Edital PMI
A12: 1.7 | B12: Quantidade Coletada de Recicláveis | C12: =C10-C11 -> 4346 | D12: toneladas/ano | E12: Edital PMI
A13: 1.8 | B13: Percentual de Coleta Seletiva | C13: =C10/C7 -> 0.18574946 | D13: % | E13: Calculado
A14: 1.9 | B14: Percentual de Recicláveis da Coleta Seletiva | C14: =C12/C7 -> 0.1114702 | D14: % | E14: Calculado
A15: 1.10 | B15: Percentual de Valorização da Coleta Seletiva | C15: =C12/C10 -> 0.60011047 | D15: % | E15: Calculado
A16: 1.11 | B16: Percentual Máximo Reciclável | C16: =C27+C28+C29+C30+C32 -> 0.35 | D16: % | E16: Calculado
A17: 1.12 | B17: Incremento da valorização da Coleta Seletiva | C17: =C16-C14 -> 0.2385298 | D17: % | E17: Calculado
A18: 1.13 | B18: Produção percapita | C18: =C7*1000/C6/365 -> 0.58478287 | D18: Kg/hab.dia | E18: Calculada
A19: 1.14 | B19: Produção de Resíduos de Podas de Árvores | C19: 300 | D19: ton/ano | E19: Edital PMI
A20: 1.15 | B20: Per capita de resíduos de Podas de Árvores | C20: =300*1000/C6/365 -> 0.0044997143 | D20: Kg/hab.dia | E20: Calculado
A21: 1.16 | B21: PIS - PASEP | C21: 0.0165 | D21: % | E21: Impostos
A22: 1.17 | B22: COFINS | C22: 0.076 | D22: % | E22: Impostos
A23: 1.18 | B23: ISS | C23: 0.05 | D23: % | E23: Impostos
A25: 2 | B25: Composição dos resíduos | C25: Valor | D25: Unidade | E25: Fonte
A26: 2.1 | B26: Matéria orgânica | C26: 0.4 | D26: % | E26: PIGIRS
A27: 2.2 | B27: Papel e papelão | C27: 0.06 | D27: % | E27: PIGIRS
A28: 2.3 | B28: Plásticos | C28: 0.26 | D28: % | E28: PIGIRS
A29: 2.4 | B29: Vidro | C29: 0.01 | D29: % | E29: PIGIRS
A30: 2.5 | B30: Metais | C30: 0.01 | D30: % | E30: PIGIRS
A31: 2.6 | B31: Rejeiros | C31: 0.25 | D31: % | E31: PIGIRS
A32: 2.7 | B32: Outros Recicláveis | C32: 0.01 | D32: % | E32: PIGIRS
A33: 2.8 | B33: Total | C33: =SUM(C26:C32) -> 1 | D33: % | E33: PIGIRS
A35: 3 | B35: Dados salariais | C35: Valor | D35: Unidade | E35: Fonte
A36: 3.1 | B36: Salário mínimo nacional | C36: 1412 | D36: R$ | E36: Governo Fderal
A37: 3.2 | B37: Insalubridade nível 1 | C37: 0.2 | D37: % | E37: NR 15
A38: 3.3 | B38: Insalubridade nível 2 | C38: 0.4 | D38: % | E38: NR 15
A39: 3.4 | B39: Encargos - coletores | C39: 0.6604 | D39: % | E39: SINAPI
A40: 3.5 | B40: Encargos - demais funcionários | C40: 0.6604 | D40: % | E40: SINAPI
A41: 3.6 | B41: Adicional noturno | C41: 0.2 | D41: % | E41: Convenção Coletiva
A43: 4 | B43: Preço de Veículos e Equipamentos | C43: Valor | D43: Unidade | E43: Fonte
A44: 4.1 | B44: Caminhão Tipo 1 (coleta convencional/caminhão poliguindaste) | C44: 563200 | D44: R$ | E44: Mercado
...

Sheet 02 - Evolução Populacional
A1: PREFEITURA MUNICIPAL DE JARAGUÁ DO SUL
A2: ESTUDO DE VIABILIDADE ECONÔMICA PARA A CONCESSÃO DOS SERVIÇOS DE LIMPEZA PÚBLICA E MANEJO DE RESÍDUOS SÓLIDOS
A3: QUADRO DE EVOLUÇAO POPULACIONAL
A5: ANO | C5: EVOLUÇÃO POPULACIONAL
C6: POPULAÇÃO URBANA | D6: POPULAÇÃO RURAL | E6: POPULAÇÃO TOTAL
A7: 0 | B7: 2024 | C7: 175232 | D7: 12388 | E7: =C7+D7 -> 187620
A8: 1 | B8: 2025 | C8: 177599 | D8: 12501 | E8: =C8+D8 -> 190100 | F8: =(E8-E7)/E7 -> 0.013218207
A9: 2 | B9: 2026 | C9: 178979 | D9: 12564 | E9: =C9+D9 -> 191543 | F9: =(E9-E8)/E8 -> 0.0075907417
A10: 3 | B10: 2027 | C10: 180359 | D10: 12627 | E10: =C10+D10 -> 192986 | F10: =(E10-E9)/E9 -> 0.0075335564
A11: 4 | B11: 2028 | C11: 181738 | D11: 12691 | E11: =C11+D11 -> 194429 | F11: =(E11-E10)/E10 -> 0.0074772263
A12: 5 | B12: 2029 | C12: 183118 | D12: 12754 | E12: =C12+D12 -> 195872 | F12: =(E12-E11)/E11 -> 0.0074217324
A13: 6 | B13: 2030 | C13: 184498 | D13: 12817 | E13: =C13+D13 -> 197315 | F13: =(E13-E12)/E12 -> 0.007367056
A14: 7 | B14: 2031 | C14: 185338 | D14: 12853 | E14: =C14+D14 -> 198191 | F14: =(E14-E13)/E13 -> 0.0044396017
A15: 8 | B15: 2032 | C15: 186178 | D15: 12889 | E15: =C15+D15 -> 199067 | F15: =(E15-E14)/E14 -> 0.0044199787
A16: 9 | B16: 2033 | C16: 187018 | D16: 12924 | E16: =C16+D16 -> 199942 | F16: =(E16-E15)/E15 -> 0.004395505
A17: 10 | B17: 2034 | C17: 187857 | D17: 12961 | E17: =C17+D17 -> 200818 | F17: =(E17-E16)/E16 -> 0.0043812706
A18: 11 | B18: 2035 | C18: 188697 | D18: 12997 | E18: =C18+D18 -> 201694 | F18: =(E18-E17)/E17 -> 0.0043621588
A19: 12 | B19: 2036 | C19: 189151 | D19: 13014 | E19: =C19+D19 -> 202165 | F19: =(E19-E18)/E18 -> 0.0023352207
... A42: 35 | B42: 2059 | C42: 181943 | D42: 12597 | E42: =C42+D42 -> 194540 | F42: =(E42-E41)/E41 -> -0.0058207575
A45: População
A46: Ano 0 | B46: Ano 1 | C46: Ano 2 | D46: Ano 3 | E46: Ano 4 | F46: Ano 5 | G46: Ano 6 | H46: Ano 7 | I46: Ano 8 | J46: Ano 9 | K46: Ano 10 | L46: Ano 11 | M46: Ano 12 | N46: Ano 13 | O46: Ano 14 | P46: Ano 15 | Q46: Ano 16 | R46: Ano 17 | S46: Ano 18 | T46: Ano 19 | U46: Ano 20 | V46: Ano 21 | W46: Ano 22 | X46: Ano 23 | Y46: Ano 24 | Z46: Ano 25 | AA46: Ano 26 | AB46: Ano 27 | AC46: Ano 28 | AD46: Ano 29 | AE46: Ano 30 | AF46: Ano 31 | AG46: Ano 32 | AH46: Ano 33 | AI46: Ano 34 | AJ46: Ano 35
A47: =E7 -> 187620 | B47: =E8 -> 190100 | C47: =E9 -> 191543 | D47: =E10 -> 192986 | E47: =E11 -> 194429 | F47: =E12 -> 195872 | G47: =E13 -> 197315 | H47: =E14 -> 198191 | I47: =E15 -> 199067 | J47: =E16 -> 199942 | K47: =E17 -> 200818 | L47: =E18 -> 201694 | M47: =E19 -> 202165 | N47: =E20 -> 202636 | O47: =E21 -> 203107 | P47: =E22 -> 203578 | Q47: =E23 -> 204049 | R47: =E24 -> 204088 | S47: =E25 -> 204128 | T47: =E26 -> 204167 | U47: =E27 -> 204206 | V47: =E28 -> 204246 | W47: =E29 -> 203913 | X47: =E30 -> 203580 | Y47: =E31 -> 203247 | Z47: =E32 -> 202913 | AA47: =E33 -> 202580 | AB47: =E34 -> 201884 | AC47: =E35 -> 201188 | AD47: =E36 -> 200492 | AE47: =E37 -> 199797 | AF47: 199796.54 | AG47: 199100.58 | AH47: 197960.2 | AI47: 196819.83 | AJ47: 195679.46

Sheet 03 - Geração de Resíduos
A1: PREFEITURA MUNICIPAL DE JARAGUÁ DO SUL
A2: ESTUDO DE VIABILIDADE ECONÔMICA PARA A CONCESSÃO DOS SERVIÇOS DE LIMPEZA PÚBLICA E MANEJO DE RESÍDUOS SÓLIDOS
A3: QUADRO DE PROJEÇÃO DA GERAÇÃO DE RESÍDUOS
A5: Ano | C5: Geração de Resíduos (Toneladas) | G5: Tratamento na Fonte Geradora | I5: Coleta Seletiva e Valorização para Reciclagem | P5: Coleta, Tratamento e Valorização | W5: Disposição Final de Resíduos e Rejeitos
C6: Produção Anual Total | D6: Matéria Orgânica Total | E6: Materiais recicláveis | F6: Rejeitos | G6: Percentual de tratamento | H6: Matéria Orgânica Compostável na fonte (ton.) | I6: Percentual de Coleta Seletiva | J6: Matarial Reciclável - Coleta Seletiva (ton.) | K6: Meta de Valorização para Reciclagem (ton.) | L6: Materias Recicláveis Valorizados (ton.) | M6: Percentual de Material Reciclável da Coleta Seletiva | N6: Meta de recuperação de materiais recicláveis no Sul do Brasil (PLANARES | O6: Rejeitos da Valorização para Reciclagem (ton.) | P6: Resíduos Coletados pela Coleta Convencional + Rejeitos da Valorização (ton.) | Q6: Resíduos de Lodo de ETA e ETE (*gradeamento e desarenador) | R6: Resíduos de Limpeza Púbica (ton.) | S6: Total Resíduos Passíveis de Valorização (Coleta Convencional e Limpeza Públicas) (ton.) | T6: Meta de Tratamento e Valorização de Resíduos | U6: Resíduos Tratados e Valorizados (ton.) | V6: Rejeitos do tratamento e valorização (ton.) | W6: Rejeitos de Processos (Coleta convencional + rejeitos das cooperativas + limpeza urbana) para Disposição Final em Aterro Sanitário (ton.) | X6: Transporte e Disposição Final de Lodo até Aterro Sanitário | Y6: Percentual de Valorização (Compostagem caseira + Reciclagem + Valorização) | Z6: Meta de Recuperação da massa total de RSU no Sul do Brasil (PLANARES)
C7: =SUM(D7:F7) -> 1 | D7: ='01 - Dados de Entrada'!C26 -> 0.4 | E7: ='01 - Dados de Entrada'!C27+'01 - Dados de Entrada'!C28+'01 - Dados de Entrada'!C29+'01 - Dados de Entrada'!C30+'01 - Dados de Entrada'!C32 -> 0.35 | F7: ='01 - Dados de Entrada'!C31 -> 0.25
A8: ='02 - Evolução Populacional'!A7 -> 0 | B8: ='02 - Evolução Populacional'!B7 -> 2024 | C8: ='01 - Dados de Entrada'!$C$18*'02 - Evolução Populacional'!E7*365/1000 -> 40046.691 | D8: =C8*'01 - Dados de Entrada'!$C$26 -> 16018.676 | E8: =C8*$E$7 -> 14016.342 | F8: =C8-D8-E8 -> 10011.673 | G8: 0 | H8: =D8*G8 -> 0 | I8: ='01 - Dados de Entrada'!$C$13 -> 0.18574946 | J8: =C8*I8 -> 7438.6513 | K8: ='01 - Dados de Entrada'!$C$15 -> 0.60011047 | L8: =J8*K8 -> 4464.0125 | M8: =L8/C8 -> 0.1114702 | N8: 0.095 | O8: =J8-L8 -> 2974.6388 | P8: =C8-H8-J8+O8 -> 35582.678 | Q8: ='01 - Dados de Entrada'!#REF!*'02 - Evolução Populacional'!E7*365/1000 -> #REF! | R8: ='01 - Dados de Entrada'!$C$20*'02 - Evolução Populacional'!E7*365/1000 -> 308.14628 | S8: =P8+R8 -> 35890.825 | T8: 0 | U8: =(S8*T8) -> 0 | V8: 0 | W8: =((S8-U8)) -> 35890.825 | X8: =Q8 -> #REF! | Y8: =(L8+U8+H8)/(C8+R8) -> 0.11061902 | Z8: 0.171
A9: ='02 - Evolução Populacional'!A8 -> 1 | B9: ='02 - Evolução Populacional'!B8 -> 2025 | C9: ='01 - Dados de Entrada'!$C$18*'02 - Evolução Populacional'!E8*365/1000 -> 40576.036 | D9: =C9*'01 - Dados de Entrada'!$C$26 -> 16230.415 | E9: =C9*$E$7 -> 14201.613 | F9: =C9-D9-E9 -> 10144.009 | G9: 0 | H9: =D9*G9 -> 0 | I9: ='01 - Dados de Entrada'!$C$13 -> 0.18574946 | J9: =C9*I9 -> 7536.9769 | K9: ='01 - Dados de Entrada'!$C$15 -> 0.60011047 | L9: =J9*K9 -> 4523.0187 | M9: =L9/C9 -> 0.1114702 | O9: =J9-L9 -> 3013.9582 | P9: =C9-H9-J9+O9 -> 36053.018 | Q9: ='01 - Dados de Entrada'!#REF!*'02 - Evolução Populacional'!E8*365/1000 -> #REF! | R9: ='01 - Dados de Entrada'!$C$20*'02 - Evolução Populacional'!E8*365/1000 -> 312.21942 | S9: =P9+R9 -> 36365.237 | T9: 0 | U9: =(S9*T9) -> 0 | V9: 0 | W9: =((S9-U9)) -> 36365.237 | X9: =Q9 -> #REF! | Y9: =(L9+U9+H9)/(C9+R9) -> 0.11061902
A10: ='02 - Evolução Populacional'!A9 -> 2 | B10: ='02 - Evolução Populacional'!B9 -> 2026 | C10: ='01 - Dados de Entrada'!$C$18*'02 - Evolução Populacional'!E9*365/1000 -> 40884.039 | D10: =C10*'01 - Dados de Entrada'!$C$26 -> 16353.615 | E10: =C10*$E$7 -> 14309.413 | F10: =C10-D10-E10 -> 10221.01 | G10: 0.01 | H10: =D10*G10 -> 163.53615 | I10: 0.2 | J10: =C10*I10 -> 8176.8077 | K10: 0.61 | L10: =J10*K10 -> 4987.8527 | M10: =L10/C10 -> 0.122 | O10: =J10-L10 -> 3188.955 | P10: =C10-H10-J10+O10 -> 35732.65 | Q10: ='01 - Dados de Entrada'!#REF!*'02 - Evolução Populacional'!E9*365/1000 -> #REF! | R10: ='01 - Dados de Entrada'!$C$20*'02 - Evolução Populacional'!E9*365/1000 -> 314.5894 | S10: =P10+R10 -> 36047.239 | T10: 0 | U10: =(S10*T10) -> 0 | V10: 0 | W10: =((S10-U10)) -> 36047.239 | X10: =Q10 -> #REF! | Y10: =(L10+U10+H10)/(C10+R10) -> 0.12503787
A11: ='02 - Evolução Populacional'!A10 -> 3 | B11: ='02 - Evolução Populacional'!B10 -> 2027 | C11: ='01 - Dados de Entrada'!$C$18*'02 - Evolução Populacional'!E10*365/1000 -> 41192.041 | D11: =C11*'01 - Dados de Entrada'!$C$26 -> 16476.816 | E11: =C11*$E$7 -> 14417.214 | F11: =C11-D11-E11 -> 10298.01 | G11: 0.01 | H11: =D11*G11 -> 164.76816 | I11: 0.22 | J11: =C11*I11 -> 9062.249 | K11: 0.62 | L11: =J11*K11 -> 5618.5944 | M11: =L11/C11 -> 0.1364 | O11: =J11-L11 -> 3443.6546 | P11: =C11-H11-J11+O11 -> 35408.678 | Q11: ='01 - Dados de Entrada'!#REF!*'02 - Evolução Populacional'!E10*365/1000 -> #REF! | R11: ='01 - Dados de Entrada'!$C$20*'02 - Evolução Populacional'!E10*365/1000 -> 316.95938 | S11: =P11+R11 -> 35725.638 | T11: 0 | U11: =(S11*T11) -> 0 | V11: 0 | W11: =((S11-U11)) -> 35725.638 | X11: =Q11 -> #REF! | Y11: =(L11+U11+H11)/(C11+R11) -> 0.13932792
A12: ='02 - Evolução Populacional'!A11 -> 4 | B12: ='02 - Evolução Populacional'!B11 -> 2028 | C12: ='01 - Dados de Entrada'!$C$18*'02 - Evolução Populacional'!E11*365/1000 -> 41500.043 | D12: =C12*'01 - Dados de Entrada'!$C$26 -> 16600.017 | E12: =C12*$E$7 -> 14525.015 | F12: =C12-D12-E12 -> 10375.011 | G12: 0.02 | H12: =D12*G12 -> 332.00034 | I12: 0.24 | J12: =C12*I12 -> 9960.0103 | K12: 0.63 | L12: =J12*K12 -> 6274.8065 | M12: =L12/C12 -> 0.1512 | N12: 0.143 | O12: =J12-L12 -> 3685.2038 | P12: =C12-H12-J12+O12 -> 34893.236 | Q12: ='01 - Dados de Entrada'!#REF!*'02 - Evolução Populacional'!E11*365/1000 -> #REF! | R12: ='01 - Dados de Entrada'!$C$20*'02 - Evolução Populacional'!E11*365/1000 -> 319.32936 | S12: =P12+R12 -> 35212.565 | T12: 0 | U12: =(S12*T12) -> 0 | V12: 0 | W12: =((S12-U12)) -> 35212.565 | X12: =Q12 -> #REF! | Y12: =(L12+U12+H12)/(C12+R12) -> 0.15798436 | Z12: 0.295
A13: ='02 - Evolução Populacional'!A12 -> 5 | B13: ='02 - Evolução Populacional'!B12 -> 2029 | C13: ='01 - Dados de Entrada'!$C$18*'02 - Evolução Populacional'!E12*365/1000 -> 41808.045 | D13: =C13*'01 - Dados de Entrada'!$C$26 -> 16723.218 | E13: =C13*$E$7 -> 14632.816 | F13: =C13-D13-E13 -> 10452.011 | G13: 0.02 | H13: =D13*G13 -> 334.46436 | I13: 0.25 | J13: =C13*I13 -> 10452.011 | K13: 0.64 | L13: =J13*K13 -> 6689.2872 | M13: =L13/C13 -> 0.16 | O13: =J13-L13 -> 3762.7241 | P13: =C13-H13-J13+O13 -> 34784.294 | Q13: ='01 - Dados de Entrada'!#REF!*'02 - Evolução Populacional'!E12*365/1000 -> #REF! | R13: ='01 - Dados de Entrada'!$C$20*'02 - Evolução Populacional'!E12*365/1000 -> 321.69933 | S13: =P13+R13 -> 35105.993 | T13: 0.5 | U13: =(S13*T13) -> 17552.996 | V13: =((S13-U13)) -> 17552.996 | W13: =((S13-U13)) -> 17552.996 | X13: =Q13 -> #REF! | Y13: =(L13+U13+H13)/(C13+R13) -> 0.58335858
A14: ='02 - Evolução Populacional'!A13 -> 6 | B14: ='02 - Evolução Populacional'!B13 -> 2030 | C14: ='01 - Dados de Entrada'!$C$18*'02 - Evolução Populacional'!E13*365/1000 -> 42116.047 | D14: =C14*'01 - Dados de Entrada'!$C$26 -> 16846.419 | E14: =C14*$E$7 -> 14740.617 | F14: =C14-D14-E14 -> 10529.012 | G14: 0.02 | H14: =D14*G14 -> 336.92838 | I14: 0.25 | J14: =C14*I14 -> 10529.012 | K14: 0.65 | L14: =J14*K14 -> 6843.8577 | M14: =L14/C14 -> 0.1625 | O14: =J14-L14 -> 3685.1541 | P14: =C14-H14-J14+O14 -> 34935.261 | Q14: ='01 - Dados de Entrada'!#REF!*'02 - Evolução Populacional'!E13*365/1000 -> #REF! | R14: ='01 - Dados de Entrada'!$C$20*'02 - Evolução Populacional'!E13*365/1000 -> 324.06931 | S14: =P14+R14 -> 35259.331 | T14: 0.5 | U14: =(S14*T14) -> 17629.665 | V14: =((S14-U14)) -> 17629.665 | W14: =((S14-U14)) -> 17629.665 | X14: =Q14 -> #REF! | Y14: =(L14+U14+H14)/(C14+R14) -> 0.58459904
A15: ='02 - Evolução Populacional'!A14 -> 7 | B15: ='02 - Evolução Populacional'!B14 -> 2031 | C15: ='01 - Dados de Entrada'!$C$18*'02 - Evolução Populacional'!E14*365/1000 -> 42303.026 | D15: =C15*'01 - Dados de Entrada'!$C$26 -> 16921.21 | E15: =C15*$E$7 -> 14806.059 | F15: =C15-D15-E15 -> 10575.756 | G15: 0.02 | H15: =D15*G15 -> 338.42421 | I15: 0.25 | J15: =C15*I15 -> 10575.756 | K15: 0.66 | L15: =J15*K15 -> 6979.9993 | M15: =L15/C15 -> 0.165 | O15: =J15-L15 -> 3595.7572 | P15: =C15-H15-J15+O15 -> 34984.602 | Q15: ='01 - Dados de Entrada'!#REF!*'02 - Evolução Populacional'!E14*365/1000 -> #REF! | R15: ='01 - Dados de Entrada'!$C$20*'02 - Evolução Populacional'!E14*365/1000 -> 325.50805 | S15: =P15+R15 -> 35310.11 | T15: 0.5 | U15: =(S15*T15) -> 17655.055 | V15: =((S15-U15)) -> 17655.055 | W15: =((S15-U15)) -> 17655.055 | X15: =Q15 -> #REF! | Y15: =(L15+U15+H15)/(C15+R15) -> 0.58583949
A16: ='02 - Evolução Populacional'!A15 -> 8 | B16: ='02 - Evolução Populacional'!B15 -> 2032 | C16: ='01 - Dados de Entrada'!$C$18*'02 - Evolução Populacional'!E15*365/1000 -> 42490.004 | D16: =C16*'01 - Dados de Entrada'!$C$26 -> 16996.002 | E16: =C16*$E$7 -> 14871.502 | F16: =C16-D16-E16 -> 10622.501 | G16: 0.02 | H16: =D16*G16 -> 339.92003 | I16: 0.25 | J16: =C16*I16 -> 10622.501 | K16: 0.67 | L16: =J16*K16 -> 7117.0757 | M16: =L16/C16 -> 0.1675 | N16: 0.191 | O16: =J16-L16 -> 3505.4254 | P16: =C16-H16-J16+O16 -> 35033.009 | Q16: ='01 - Dados de Entrada'!#REF!*'02 - Evolução Populacional'!E15*365/1000 -> #REF! | R16: ='01 - Dados de Entrada'!$C$20*'02 - Evolução Populacional'!E15*365/1000 -> 326.94679 | S16: =P16+R16 -> 35359.955 | T16: 0.5 | U16: =(S16*T16) -> 17679.978 | V16: =((S16-U16)) -> 17679.978 | W16: =((S16-U16)) -> 17679.978 | X16: =Q16 -> #REF! | Y16: =(L16+U16+H16)/(C16+R16) -> 0.58707995 | Z16: 0.419
A17: ='02 - Evolução Populacional'!A16 -> 9 | B17: ='02 - Evolução Populacional'!B16 -> 2033 | C17: ='01 - Dados de Entrada'!$C$18*'02 - Evolução Populacional'!E16*365/1000 -> 42676.769 | D17: =C17*'01 - Dados de Entrada'!$C$26 -> 17070.708 | E17: =C17*$E$7 -> 14936.869 | F17: =C17-D17-E17 -> 10669.192 | G17: 0.02 | H17: =D17*G17 -> 341.41416 | I17: 0.25 | J17: =C17*I17 -> 10669.192 | K17: 0.68 | L17: =J17*K17 -> 7255.0508 | M17: =L17/C17 -> 0.17 | O17: =J17-L17 -> 3414.1416 | P17: =C17-H17-J17+O17 -> 35080.304 | Q17: ='01 - Dados de Entrada'!#REF!*'02 - Evolução Populacional'!E16*365/1000 -> #REF! | R17: ='01 - Dados de Entrada'!$C$20*'02 - Evolução Populacional'!E16*365/1000 -> 328.38388 | S17: =P17+R17 -> 35408.688 | T17: 0.5 | U17: =(S17*T17) -> 17704.344 | V17: =((S17-U17)) -> 17704.344 | W17: =((S17-U17)) -> 17704.344 | X17: =Q17 -> #REF! | Y17: =(L17+U17+H17)/(C17+R17) -> 0.5883204
A18: ='02 - Evolução Populacional'!A17 -> 10 | B18: ='02 - Evolução Populacional'!B17 -> 2034 | C18: ='01 - Dados de Entrada'!$C$18*'02 - Evolução Populacional'!E17*365/1000 -> 42863.748 | D18: =C18*'01 - Dados de Entrada'!$C$26 -> 17145.499 | E18: =C18*$E$7 -> 15002.312 | F18: =C18-D18-E18 -> 10715.937 | G18: 0.02 | H18: =D18*G18 -> 342.90998 | I18: 0.25 | J18: =C18*I18 -> 10715.937 | K18: 0.72 | L18: =J18*K18 -> 7715.4746 | M18: =L18/C18 -> 0.18 | O18: =J18-L18 -> 3000.4624 | P18: =C18-H18-J18+O18 -> 34805.363 | Q18: ='01 - Dados de Entrada'!#REF!*'02 - Evolução Populacional'!E17*365/1000 -> #REF! | R18: ='01 - Dados de Entrada'!$C$20*'02 - Evolução Populacional'!E17*365/1000 -> 329.82262 | S18: =P18+R18 -> 35135.186 | T18: 0.5 | U18: =(S18*T18) -> 17567.593 | V18: =((S18-U18)) -> 17567.593 | W18: =((S18-U18)) -> 17567.593 | X18: =Q18 -> #REF! | Y18: =(L18+U18+H18)/(C18+R18) -> 0.59328222
A19: ='02 - Evolução Populacional'!A18 -> 11 | B19: ='02 - Evolução Populacional'!B18 -> 2035 | C19: ='01 - Dados de Entrada'!$C$18*'02 - Evolução Populacional'!E18*365/1000 -> 43050.726 | D19: =C19*'01 - Dados de Entrada'!$C$26 -> 17220.291 | E19: =C19*$E$7 -> 15067.754 | F19: =C19-D19-E19 -> 10762.682 | G19: 0.02 | H19: =D19*G19 -> 344.40581 | I19: 0.25 | J19: =C19*I19 -> 10762.682 | K19: 0.76 | L19: =J19*K19 -> 8179.638 | M19: =L19/C19 -> 0.19 | O19: =J19-L19 -> 2583.0436 | P19: =C19-H19-J19+O19 -> 34526.683 | Q19: ='01 - Dados de Entrada'!#REF!*'02 - Evolução Populacional'!E18*365/1000 -> #REF! | R19: ='01 - Dados de Entrada'!$C$20*'02 - Evolução Populacional'!E18*365/1000 -> 331.26136 | S19: =P19+R19 -> 34857.944 | T19: 0.5 | U19: =(S19*T19) -> 17428.972 | V19: =((S19-U19)) -> 17428.972 | W19: =((S19-U19)) -> 17428.972 | X19: =Q19 -> #REF! | Y19: =(L19+U19+H19)/(C19+R19) -> 0.59824404
A20: ='02 - Evolução Populacional'!A19 -> 12 | B20: ='02 - Evolução Populacional'!B19 -> 2036 | C20: ='01 - Dados de Entrada'!$C$18*'02 - Evolução Populacional'!E19*365/1000 -> 43151.259 | D20: =C20*'01 - Dados de Entrada'!$C$26 -> 17260.504 | E20: =C20*$E$7 -> 15102.941 | F20: =C20-D20-E20 -> 10787.815 | G20: 0.02 | H20: =D20*G20 -> 345.21007 | I20: 0.25 | J20: =C20*I20 -> 10787.815 | K20: 0.8 | L20: =J20*K20 -> 8630.2519 | M20: =L20/C20 -> 0.2 | N20: 0.239 | O20: =J20-L20 -> 2157.563 | P20: =C20-H20-J20+O20 -> 34175.797 | Q20: ='01 - Dados de Entrada'!#REF!*'02 - Evolução Populacional'!E19*365/1000 -> #REF! | R20: ='01 - Dados de Entrada'!$C$20*'02 - Evolução Populacional'!E19*365/1000 -> 332.03493 | S20: =P20+R20 -> 34507.832 | T20: 0.5 | U20: =(S20*T20) -> 17253.916 | V20: =((S20-U20)) -> 17253.916 | W20: =((S20-U20)) -> 17253.916 | X20: =Q20 -> #REF! | Y20: =(L20+U20+H20)/(C20+R20) -> 0.60320586 | Z20: 0.543
A21: ='02 - Evolução Populacional'!A20 -> 13 | B21: ='02 - Evolução Populacional'!B20 -> 2037 | C21: ='01 - Dados de Entrada'!$C$18*'02 - Evolução Populacional'!E20*365/1000 -> 43251.792 | D21: =C21*'01 - Dados de Entrada'!$C$26 -> 17300.717 | E21: =C21*$E$7 -> 15138.127 | F21: =C21-D21-E21 -> 10812.948 | G21: 0.02 | H21: =D21*G21 -> 346.01434 | I21: 0.25 | J21: =C21*I21 -> 10812.948 | K21: 0.8 | L21: =J21*K21 -> 8650.3584 | M21: =L21/C21 -> 0.2 | O21: =J21-L21 -> 2162.5896 | P21: =C21-H21-J21+O21 -> 34255.419 | Q21: ='01 - Dados de Entrada'!#REF!*'02 - Evolução Populacional'!E20*365/1000 -> #REF! | R21: ='01 - Dados de Entrada'!$C$20*'02 - Evolução Populacional'!E20*365/1000 -> 332.8085 | S21: =P21+R21 -> 34588.228 | T21: 0.5 | U21: =(S21*T21) -> 17294.114 | V21: =((S21-U21)) -> 17294.114 | W21: =((S21-U21)) -> 17294.114 | X21: =Q21 -> #REF! | Y21: =(L21+U21+H21)/(C21+R21) -> 0.60320586
A22: ='02 - Evolução Populacional'!A21 -> 14 | B22: ='02 - Evolução Populacional'!B21 -> 2038 | C22: ='01 - Dados de Entrada'!$C$18*'02 - Evolução Populacional'!E21*365/1000 -> 43352.325 | D22: =C22*'01 - Dados de Entrada'!$C$26 -> 17340.93 | E22: =C22*$E$7 -> 15173.314 | F22: =C22-D22-E22 -> 10838.081 | G22: 0.02 | H22: =D22*G22 -> 346.8186 | I22: 0.25 | J22: =C22*I22 -> 10838.081 | K22: 0.8 | L22: =J22*K22 -> 8670.465 | M22: =L22/C22 -> 0.2 | O22: =J22-L22 -> 2167.6163 | P22: =C22-H22-J22+O22 -> 34335.042 | Q22: ='01 - Dados de Entrada'!#REF!*'02 - Evolução Populacional'!E21*365/1000 -> #REF! | R22: ='01 - Dados de Entrada'!$C$20*'02 - Evolução Populacional'!E21*365/1000 -> 333.58207 | S22: =P22+R22 -> 34668.624 | T22: 0.5 | U22: =(S22*T22) -> 17334.312 | V22: =((S22-U22)) -> 17334.312 | W22: =((S22-U22)) -> 17334.312 | X22: =Q22 -> #REF! | Y22: =(L22+U22+H22)/(C22+R22) -> 0.60320586
A23: ='02 - Evolução Populacional'!A22 -> 15 | B23: ='02 - Evolução Populacional'!B22 -> 2039 | C23: ='01 - Dados de Entrada'!$C$18*'02 - Evolução Populacional'!E22*365/1000 -> 43452.858 | D23: =C23*'01 - Dados de Entrada'!$C$26 -> 17381.143 | E23: =C23*$E$7 -> 15208.5 | F23: =C23-D23-E23 -> 10863.215 | G23: 0.02 | H23: =D23*G23 -> 347.62286 | I23: 0.25 | J23: =C23*I23 -> 10863.215 | K23: 0.8 | L23: =J23*K23 -> 8690.5716 | M23: =L23/C23 -> 0.2 | O23: =J23-L23 -> 2172.6429 | P23: =C23-H23-J23+O23 -> 34414.664 | Q23: ='01 - Dados de Entrada'!#REF!*'02 - Evolução Populacional'!E22*365/1000 -> #REF! | R23: ='01 - Dados de Entrada'!$C$20*'02 - Evolução Populacional'!E22*365/1000 -> 334.35563 | S23: =P23+R23 -> 34749.019 | T23: 0.5 | U23: =(S23*T23) -> 17374.51 | V23: =((S23-U23)) -> 17374.51 | W23: =((S23-U23)) -> 17374.51 | X23: =Q23 -> #REF! | Y23: =(L23+U23+H23)/(C23+R23) -> 0.60320586
A24: ='02 - Evolução Populacional'!A23 -> 16 | B24: ='02 - Evolução Populacional'!B23 -> 2040 | C24: ='01 - Dados de Entrada'!$C$18*'02 - Evolução Populacional'!E23*365/1000 -> 43553.391 | D24: =C24*'01 - Dados de Entrada'!$C$26 -> 17421.356 | E24: =C24*$E$7 -> 15243.687 | F24: =C24-D24-E24 -> 10888.348 | G24: 0.02 | H24: =D24*G24 -> 348.42713 | I24: 0.25 | J24: =C24*I24 -> 10888.348 | K24: 0.8 | L24: =J24*K24 -> 8710.6782 | M24: =L24/C24 -> 0.2 | N24: 0.287 | O24: =J24-L24 -> 2177.6696 | P24: =C24-H24-J24+O24 -> 34494.286 | Q24: ='01 - Dados de Entrada'!#REF!*'02 - Evolução Populacional'!E23*365/1000 -> #REF! | R24: ='01 - Dados de Entrada'!$C$20*'02 - Evolução Populacional'!E23*365/1000 -> 335.1292 | S24: =P24+R24 -> 34829.415 | T24: 0.6 | U24: =(S24*T24) -> 20897.649 | V24: =((S24-U24)) -> 13931.766 | W24: =((S24-U24)) -> 13931.766 | X24: =Q24 -> #REF! | Y24: =(L24+U24+H24)/(C24+R24) -> 0.68256469 | Z24: 0.667
A25: ='02 - Evolução Populacional'!A24 -> 17 | B25: ='02 - Evolução Populacional'!B24 -> 2041 | C25: ='01 - Dados de Entrada'!$C$18*'02 - Evolução Populacional'!E24*365/1000 -> 43561.715 | D25: =C25*'01 - Dados de Entrada'!$C$26 -> 17424.686 | E25: =C25*$E$7 -> 15246.6 | F25: =C25-D25-E25 -> 10890.429 | G25: 0.02 | H25: =D25*G25 -> 348.49372 | I25: 0.25 | J25: =C25*I25 -> 10890.429 | K25: 0.8 | L25: =J25*K25 -> 8712.3431 | M25: =L25/C25 -> 0.2 | O25: =J25-L25 -> 2178.0858 | P25: =C25-H25-J25+O25 -> 34500.879 | Q25: ='01 - Dados de Entrada'!#REF!*'02 - Evolução Populacional'!E24*365/1000 -> #REF! | R25: ='01 - Dados de Entrada'!$C$20*'02 - Evolução Populacional'!E24*365/1000 -> 335.19326 | S25: =P25+R25 -> 34836.072 | T25: 0.6 | U25: =(S25*T25) -> 20901.643 | V25: =((S25-U25)) -> 13934.429 | W25: =((S25-U25)) -> 13934.429 | X25: =Q25 -> #REF! | Y25: =(L25+U25+H25)/(C25+R25) -> 0.68256469
A26: ='02 - Evolução Populacional'!A25 -> 18 | B26: ='02 - Evolução Populacional'!B25 -> 2042 | C26: ='01 - Dados de Entrada'!$C$18*'02 - Evolução Populacional'!E25*365/1000 -> 43570.253 | D26: =C26*'01 - Dados de Entrada'!$C$26 -> 17428.101 | E26: =C26*$E$7 -> 15249.589 | F26: =C26-D26-E26 -> 10892.563 | G26: 0.02 | H26: =D26*G26 -> 348.56203 | I26: 0.25 | J26: =C26*I26 -> 10892.563 | K26: 0.8 | L26: =J26*K26 -> 8714.0507 | M26: =L26/C26 -> 0.2 | O26: =J26-L26 -> 2178.5127 | P26: =C26-H26-J26+O26 -> 34507.641 | Q26: ='01 - Dados de Entrada'!#REF!*'02 - Evolução Populacional'!E25*365/1000 -> #REF! | R26: ='01 - Dados de Entrada'!$C$20*'02 - Evolução Populacional'!E25*365/1000 -> 335.25895 | S26: =P26+R26 -> 34842.9 | T26: 0.6 | U26: =(S26*T26) -> 20905.74 | V26: =((S26-U26)) -> 13937.16 | W26: =((S26-U26)) -> 13937.16 | X26: =Q26 -> #REF! | Y26: =(L26+U26+H26)/(C26+R26) -> 0.68256469
A27: ='02 - Evolução Populacional'!A26 -> 19 | B27: ='02 - Evolução Populacional'!B26 -> 2043 | C27: ='01 - Dados de Entrada'!$C$18*'02 - Evolução Populacional'!E26*365/1000 -> 43578.578 | D27: =C27*'01 - Dados de Entrada'!$C$26 -> 17431.431 | E27: =C27*$E$7 -> 15252.502 | F27: =C27-D27-E27 -> 10894.644 | G27: 0.02 | H27: =D27*G27 -> 348.62862 | I27: 0.25 | J27: =C27*I27 -> 10894.644 | K27: 0.8 | L27: =J27*K27 -> 8715.7155 | M27: =L27/C27 -> 0.2 | O27: =J27-L27 -> 2178.9289 | P27: =C27-H27-J27+O27 -> 34514.234 | Q27: ='01 - Dados de Entrada'!#REF!*'02 - Evolução Populacional'!E26*365/1000 -> #REF! | R27: ='01 - Dados de Entrada'!$C$20*'02 - Evolução Populacional'!E26*365/1000 -> 335.323 | S27: =P27+R27 -> 34849.557 | T27: 0.6 | U27: =(S27*T27) -> 20909.734 | V27: =((S27-U27)) -> 13939.823 | W27: =((S27-U27)) -> 13939.823 | X27: =Q27 -> #REF! | Y27: =(L27+U27+H27)/(C27+R27) -> 0.68256469
A28: ='02 - Evolução Populacional'!A27 -> 20 | B28: ='02 - Evolução Populacional'!B27 -> 2044 | C28: ='01 - Dados de Entrada'!$C$18*'02 - Evolução Populacional'!E27*365/1000 -> 43586.902 | D28: =C28*'01 - Dados de Entrada'!$C$26 -> 17434.761 | E28: =C28*$E$7 -> 15255.416 | F28: =C28-D28-E28 -> 10896.726 | G28: 0.02 | H28: =D28*G28 -> 348.69522 | I28: 0.25 | J28: =C28*I28 -> 10896.726 | K28: 0.8 | L28: =J28*K28 -> 8717.3804 | M28: =L28/C28 -> 0.2 | O28: =J28-L28 -> 2179.3451 | P28: =C28-H28-J28+O28 -> 34520.826 | Q28: ='01 - Dados de Entrada'!#REF!*'02 - Evolução Populacional'!E27*365/1000 -> #REF! | R28: ='01 - Dados de Entrada'!$C$20*'02 - Evolução Populacional'!E27*365/1000 -> 335.38706 | S28: =P28+R28 -> 34856.213 | T28: 0.6 | U28: =(S28*T28) -> 20913.728 | V28: =((S28-U28)) -> 13942.485 | W28: =((S28-U28)) -> 13942.485 | X28: =Q28 -> #REF! | Y28: =(L28+U28+H28)/(C28+R28) -> 0.68256469
A29: ='02 - Evolução Populacional'!A28 -> 21 | B29: ='02 - Evolução Populacional'!B28 -> 2045 | C29: ='01 - Dados de Entrada'!$C$18*'02 - Evolução Populacional'!E28*365/1000 -> 43595.44 | D29: =C29*'01 - Dados de Entrada'!$C$26 -> 17438.176 | E29: =C29*$E$7 -> 15258.404 | F29: =C29-D29-E29 -> 10898.86 | G29: 0.02 | H29: =D29*G29 -> 348.76352 | I29: 0.25 | J29: =C29*I29 -> 10898.86 | K29: 0.8 | L29: =J29*K29 -> 8719.088 | M29: =L29/C29 -> 0.2 | O29: =J29-L29 -> 2179.772 | P29: =C29-H29-J29+O29 -> 34527.588 | Q29: ='01 - Dados de Entrada'!#REF!*'02 - Evolução Populacional'!E28*365/1000 -> #REF! | R29: ='01 - Dados de Entrada'!$C$20*'02 - Evolução Populacional'!E28*365/1000 -> 335.45275 | S29: =P29+R29 -> 34863.041 | T29: 0.6 | U29: =(S29*T29) -> 20917.825 | V29: =((S29-U29)) -> 13945.216 | W29: =((S29-U29)) -> 13945.216 | X29: =Q29 -> #REF! | Y29: =(L29+U29+H29)/(C29+R29) -> 0.68256469
A30: ='02 - Evolução Populacional'!A29 -> 22 | B30: ='02 - Evolução Populacional'!B29 -> 2046 | C30: ='01 - Dados de Entrada'!$C$18*'02 - Evolução Populacional'!E29*365/1000 -> 43524.362 | D30: =C30*'01 - Dados de Entrada'!$C$26 -> 17409.745 | E30: =C30*$E$7 -> 15233.527 | F30: =C30-D30-E30 -> 10881.091 | G30: 0.02 | H30: =D30*G30 -> 348.1949 | I30: 0.25 | J30: =C30*I30 -> 10881.091 | K30: 0.8 | L30: =J30*K30 -> 8704.8725 | M30: =L30/C30 -> 0.2 | O30: =J30-L30 -> 2176.2181 | P30: =C30-H30-J30+O30 -> 34471.295 | Q30: ='01 - Dados de Entrada'!#REF!*'02 - Evolução Populacional'!E29*365/1000 -> #REF! | R30: ='01 - Dados de Entrada'!$C$20*'02 - Evolução Populacional'!E29*365/1000 -> 334.90584 | S30: =P30+R30 -> 34806.201 | T30: 0.6 | U30: =(S30*T30) -> 20883.721 | V30: =((S30-U30)) -> 13922.48 | W30: =((S30-U30)) -> 13922.48 | X30: =Q30 -> #REF! | Y30: =(L30+U30+H30)/(C30+R30) -> 0.68256469
A31: ='02 - Evolução Populacional'!A30 -> 23 | B31: ='02 - Evolução Populacional'!B30 -> 2047 | C31: ='01 - Dados de Entrada'!$C$18*'02 - Evolução Populacional'!E30*365/1000 -> 43453.285 | D31: =C31*'01 - Dados de Entrada'!$C$26 -> 17381.314 | E31: =C31*$E$7 -> 15208.65 | F31: =C31-D31-E31 -> 10863.321 | G31: 0.02 | H31: =D31*G31 -> 347.62628 | I31: 0.25 | J31: =C31*I31 -> 10863.321 | K31: 0.8 | L31: =J31*K31 -> 8690.657 | M31: =L31/C31 -> 0.2 | O31: =J31-L31 -> 2172.6643 | P31: =C31-H31-J31+O31 -> 34415.002 | Q31: ='01 - Dados de Entrada'!#REF!*'02 - Evolução Populacional'!E30*365/1000 -> #REF! | R31: ='01 - Dados de Entrada'!$C$20*'02 - Evolução Populacional'!E30*365/1000 -> 334.35892 | S31: =P31+R31 -> 34749.361 | T31: 0.6 | U31: =(S31*T31) -> 20849.616 | V31: =((S31-U31)) -> 13899.744 | W31: =((S31-U31)) -> 13899.744 | X31: =Q31 -> #REF! | Y31: =(L31+U31+H31)/(C31+R31) -> 0.68256469
A32: ='02 - Evolução Populacional'!A31 -> 24 | B32: ='02 - Evolução Populacional'!B31 -> 2048 | C32: ='01 - Dados de Entrada'!$C$18*'02 - Evolução Populacional'!E31*365/1000 -> 43382.208 | D32: =C32*'01 - Dados de Entrada'!$C$26 -> 17352.883 | E32: =C32*$E$7 -> 15183.773 | F32: =C32-D32-E32 -> 10845.552 | G32: 0.02 | H32: =D32*G32 -> 347.05766 | I32: 0.25 | J32: =C32*I32 -> 10845.552 | K32: 0.8 | L32: =J32*K32 -> 8676.4415 | M32: =L32/C32 -> 0.2 | O32: =J32-L32 -> 2169.1104 | P32: =C32-H32-J32+O32 -> 34358.708 | Q32: ='01 - Dados de Entrada'!#REF!*'02 - Evolução Populacional'!E31*365/1000 -> #REF! | R32: ='01 - Dados de Entrada'!$C$20*'02 - Evolução Populacional'!E31*365/1000 -> 333.812 | S32: =P32+R32 -> 34692.52 | T32: 0.6 | U32: =(S32*T32) -> 20815.512 | V32: =((S32-U32)) -> 13877.008 | W32: =((S32-U32)) -> 13877.008 | X32: =Q32 -> #REF! | Y32: =(L32+U32+H32)/(C32+R32) -> 0.68256469
A33: ='02 - Evolução Populacional'!A32 -> 25 | B33: ='02 - Evolução Populacional'!B32 -> 2049 | C33: ='01 - Dados de Entrada'!$C$18*'02 - Evolução Populacional'!E32*365/1000 -> 43310.917 | D33: =C33*'01 - Dados de Entrada'!$C$26 -> 17324.367 | E33: =C33*$E$7 -> 15158.821 | F33: =C33-D33-E33 -> 10827.729 | G33: 0.02 | H33: =D33*G33 -> 346.48733 | I33: 0.25 | J33: =C33*I33 -> 10827.729 | K33: 0.8 | L33: =J33*K33 -> 8662.1833 | M33: =L33/C33 -> 0.2 | O33: =J33-L33 -> 2165.5458 | P33: =C33-H33-J33+O33 -> 34302.246 | Q33: ='01 - Dados de Entrada'!#REF!*'02 - Evolução Populacional'!E32*365/1000 -> #REF! | R33: ='01 - Dados de Entrada'!$C$20*'02 - Evolução Populacional'!E32*365/1000 -> 333.26344 | S33: =P33+R33 -> 34635.509 | T33: 0.6 | U33: =(S33*T33) -> 20781.306 | V33: =((S33-U33)) -> 13854.204 | W33: =((S33-U33)) -> 13854.204 | X33: =Q33 -> #REF! | Y33: =(L33+U33+H33)/(C33+R33) -> 0.68256469
A34: ='02 - Evolução Populacional'!A33 -> 26 | B34: ='02 - Evolução Populacional'!B33 -> 2050 | C34: ='01 - Dados de Entrada'!$C$18*'02 - Evolução Populacional'!E33*365/1000 -> 43239.839 | D34: =C34*'01 - Dados de Entrada'!$C$26 -> 17295.936 | E34: =C34*$E$7 -> 15133.944 | F34: =C34-D34-E34 -> 10809.96 | G34: 0.02 | H34: =D34*G34 -> 345.91871 | I34: 0.25 | J34: =C34*I34 -> 10809.96 | K34: 0.8 | L34: =J34*K34 -> 8647.9679 | M34: =L34/C34 -> 0.2 | O34: =J34-L34 -> 2161.992 | P34: =C34-H34-J34+O34 -> 34245.953 | Q34: ='01 - Dados de Entrada'!#REF!*'02 - Evolução Populacional'!E33*365/1000 -> #REF! | R34: ='01 - Dados de Entrada'!$C$20*'02 - Evolução Populacional'!E33*365/1000 -> 332.71652 | S34: =P34+R34 -> 34578.669 | T34: 0.6 | U34: =(S34*T34) -> 20747.202 | V34: =((S34-U34)) -> 13831.468 | W34: =((S34-U34)) -> 13831.468 | X34: =Q34 -> #REF! | Y34: =(L34+U34+H34)/(C34+R34) -> 0.68256469
A35: ='02 - Evolução Populacional'!A34 -> 27 | B35: ='02 - Evolução Populacional'!B34 -> 2051 | C35: ='01 - Dados de Entrada'!$C$18*'02 - Evolução Populacional'!E34*365/1000 -> 43091.281 | D35: =C35*'01 - Dados de Entrada'!$C$26 -> 17236.512 | E35: =C35*$E$7 -> 15081.948 | F35: =C35-D35-E35 -> 10772.82 | G35: 0.02 | H35: =D35*G35 -> 344.73025 | I35: 0.25 | J35: =C35*I35 -> 10772.82 | K35: 0.8 | L35: =J35*K35 -> 8618.2562 | M35: =L35/C35 -> 0.2 | O35: =J35-L35 -> 2154.5641 | P35: =C35-H35-J35+O35 -> 34128.295 | Q35: ='01 - Dados de Entrada'!#REF!*'02 - Evolução Populacional'!E34*365/1000 -> #REF! | R35: ='01 - Dados de Entrada'!$C$20*'02 - Evolução Populacional'!E34*365/1000 -> 331.57342 | S35: =P35+R35 -> 34459.868 | T35: 0.6 | U35: =(S35*T35) -> 20675.921 | V35: =((S35-U35)) -> 13783.947 | W35: =((S35-U35)) -> 13783.947 | X35: =Q35 -> #REF! | Y35: =(L35+U35+H35)/(C35+R35) -> 0.68256469
A36: ='02 - Evolução Populacional'!A35 -> 28 | B36: ='02 - Evolução Populacional'!B35 -> 2052 | C36: ='01 - Dados de Entrada'!$C$18*'02 - Evolução Populacional'!E35*365/1000 -> 42942.723 | D36: =C36*'01 - Dados de Entrada'!$C$26 -> 17177.089 | E36: =C36*$E$7 -> 15029.953 | F36: =C36-D36-E36 -> 10735.681 | G36: 0.02 | H36: =D36*G36 -> 343.54178 | I36: 0.25 | J36: =C36*I36 -> 10735.681 | K36: 0.8 | L36: =J36*K36 -> 8588.5446 | M36: =L36/C36 -> 0.2 | O36: =J36-L36 -> 2147.1361 | P36: =C36-H36-J36+O36 -> 34010.636 | Q36: ='01 - Dados de Entrada'!#REF!*'02 - Evolução Populacional'!E35*365/1000 -> #REF! | R36: ='01 - Dados de Entrada'!$C$20*'02 - Evolução Populacional'!E35*365/1000 -> 330.43031 | S36: =P36+R36 -> 34341.067 | T36: 0.6 | U36: =(S36*T36) -> 20604.64 | V36: =((S36-U36)) -> 13736.427 | W36: =((S36-U36)) -> 13736.427 | X36: =Q36 -> #REF! | Y36: =(L36+U36+H36)/(C36+R36) -> 0.68256469
... A43: ='02 - Evolução Populacional'!A42 -> 35 | B43: ='02 - Evolução Populacional'!B42 -> 2059 | C43: ='01 - Dados de Entrada'!$C$18*'02 - Evolução Populacional'!E42*365/1000 -> 41523.735 | D43: =C43*'01 - Dados de Entrada'!$C$26 -> 16609.494 | E43: =C43*$E$7 -> 14533.307 | F43: =C43-D43-E43 -> 10380.934 | G43: 0.02 | H43: =D43*G43 -> 332.18988 | I43: 0.25 | J43: =C43*I43 -> 10380.934 | K43: 0.8 | L43: =J43*K43 -> 8304.7471 | M43: =L43/C43 -> 0.2 | O43: =J43-L43 -> 2076.1868 | P43: =C43-H43-J43+O43 -> 32886.798 | Q43: ='01 - Dados de Entrada'!#REF!*'02 - Evolução Populacional'!E42*365/1000 -> #REF! | R43: ='01 - Dados de Entrada'!$C$20*'02 - Evolução Populacional'!E42*365/1000 -> 319.51166 | S43: =P43+R43 -> 33206.31 | T43: 0.6 | U43: =(S43*T43) -> 19923.786 | V43: =((S43-U43)) -> 13282.524 | W43: =((S43-U43)) -> 13282.524 | X43: =Q43 -> #REF! | Y43: =(L43+U43+H43)/(C43+R43) -> 0.68256469
C44: =SUM(C9:C43) -> 1494551.6 | D44: =SUM(D9:D43) -> 597820.64 | E44: =SUM(E9:E43) -> 523093.06 | F44: =SUM(F9:F43) -> 373637.9 | H44: =SUM(H9:H43) -> 11303.5 | J44: =SUM(J9:J43) -> 367335.9 | L44: =SUM(L9:L43) -> 278802.87 | O44: =SUM(O9:O43) -> 88533.033 | P44: =SUM(P9:P43) -> 1204445.2 | Q44: =SUM(Q9:Q43) -> #REF! | R44: =SUM(R9:R43) -> 11500.089 | S44: =SUM(S9:S43) -> 1215945.3 | U44: =SUM(U9:U43) -> 605061.69 | V44: =SUM(V9:V43) -> 467532.95 | W44: =SUM(W9:W43) -> 610883.63 | X44: =SUM(X9:X43) -> #REF!

Sheet 04 - Veículos e Equipamentos
A1: PREFEITURA MUNICIPAL DE JARAGUÁ DO SUL
A2: ESTUDO DE VIABILIDADE ECONÔMICA PARA A CONCESSÃO DOS SERVIÇOS DE LIMPEZA PÚBLICA E MANEJO DE RESÍDUOS SÓLIDOS
A3: VEÍCULOS E EQUIPAMENTOS
A5: Número de Veículos por Categoria | B5: Ano 01 | C5: Ano 02 | D5: Ano 03 | E5: Ano 04 | F5: Ano 05 | G5: Ano 06 | H5: Ano 07 | I5: Ano 08 | J5: Ano 09 | K5: Ano 10 | L5: Ano 11 | M5: Ano 12 | N5: Ano 13 | O5: Ano 14 | P5: Ano 15 | Q5: Ano 16 | R5: Ano 17 | S5: Ano 18 | T5: Ano 19 | U5: Ano 20 | V5: Ano 21 | W5: Ano 22 | X5: Ano 23 | Y5: Ano 24 | Z5: Ano 25 | AA5: Ano 26 | AB5: Ano 27 | AC5: Ano 28 | AD5: Ano 29 | AE5: Ano 30 | AF5: Ano 31 | AG5: Ano 32 | AH5: Ano 33 | AI5: Ano 34 | AJ5: Ano 35
A6: Operação Coleta e Transporte de Resíduos
A7: Caminhão Compactador - Coleta convencional manual | B7: 0 | C7: 0 | D7: 0 | E7: 0 | F7: 0 | G7: 0 | H7: 0 | I7: 0 | J7: 0 | K7: 0 | L7: 0 | M7: 0 | N7: 0 | O7: 0 | P7: 0 | Q7: 0 | R7: 0 | S7: 0 | T7: 0 | U7: 0 | V7: 0 | W7: 0 | X7: 0 | Y7: 0 | Z7: 0 | AA7: 0 | AB7: 0 | AC7: 0 | AD7: 0 | AE7: 0 | AF7: 0 | AG7: 0 | AH7: 0 | AI7: 0 | AJ7: 0
A8: Caminhão Compactador - Coleta convencional (reserva) | B8: =ROUNDUP(B9*'01 - Dados de Entrada'!$C$181,0) -> 1 | C8: =ROUNDUP(C9*'01 - Dados de Entrada'!$C$181,0) -> 1 | D8: =ROUNDUP(D9*'01 - Dados de Entrada'!$C$181,0) -> 1 | E8: =ROUNDUP(E9*'01 - Dados de Entrada'!$C$181,0) -> 1 | F8: =ROUNDUP(F9*'01 - Dados de Entrada'!$C$181,0) -> 1 | G8: =ROUNDUP(G9*'01 - Dados de Entrada'!$C$181,0) -> 1 | H8: =ROUNDUP(H9*'01 - Dados de Entrada'!$C$181,0) -> 1 | I8: =ROUNDUP(I9*'01 - Dados de Entrada'!$C$181,0) -> 1 | ... AJ8: =ROUNDUP(AJ9*'01 - Dados de Entrada'!$C$181,0) -> 1
A9: Caminhão Compactador - Coleta convencional mecanizada | B9: 4 | C9: 4 | D9: 4 | E9: 4 | F9: 4 | G9: 5 | H9: 5 | I9: 5 | J9: 5 | K9: 5 | L9: 5 | M9: 5 | N9: 5 | O9: 5 | P9: 5 | Q9: 5 | R9: 5 | S9: 5 | T9: 5 | U9: 5 | V9: 5 | W9: 5 | X9: 5 | Y9: 5 | Z9: 5 | AA9: 5 | AB9: 5 | AC9: 5 | AD9: 5 | AE9: 5 | AF9: 5 | AG9: 5 | AH9: 5 | AI9: 5 | AJ9: 5
A10: Caminhão Compactador de Pequeno Porte | B10: ='01 - Dados de Entrada'!$C$185 -> 2 | C10: ='01 - Dados de Entrada'!$C$185 -> 2 | D10: ='01 - Dados de Entrada'!$C$185 -> 2 | E10: ='01 - Dados de Entrada'!$C$185 -> 2 | F10: ='01 - Dados de Entrada'!$C$185 -> 2 | G10: ='01 - Dados de Entrada'!$C$185 -> 2 | H10: ='01 - Dados de Entrada'!$C$185 -> 2 | I10: ='01 - Dados de Entrada'!$C$185 -> 2 | ... AJ10: ='01 - Dados de Entrada'!$C$185 -> 2
A11: Caminhão Compactador de Pequeno Porte (reserva) | B11: =ROUNDUP(B10*'01 - Dados de Entrada'!$C$181,0) -> 1 | C11: =ROUNDUP(C10*'01 - Dados de Entrada'!$C$181,0) -> 1 | D11: =ROUNDUP(D10*'01 - Dados de Entrada'!$C$181,0) -> 1 | E11: =ROUNDUP(E10*'01 - Dados de Entrada'!$C$181,0) -> 1 | F11: =ROUNDUP(F10*'01 - Dados de Entrada'!$C$181,0) -> 1 | G11: =ROUNDUP(G10*'01 - Dados de Entrada'!$C$181,0) -> 1 | H11: =ROUNDUP(H10*'01 - Dados de Entrada'!$C$181,0) -> 1 | I11: =ROUNDUP(I10*'01 - Dados de Entrada'!$C$181,0) -> 1 | ... AJ11: =ROUNDUP(AJ10*'01 - Dados de Entrada'!$C$181,0) -> 1
A12: Total de veículos compactadores operacionais 15m³ | B12: =B7+B9 -> 4 | C12: =C7+C9 -> 4 | D12: =D7+D9 -> 4 | E12: =E7+E9 -> 4 | F12: =F7+F9 -> 4 | G12: =G7+G9 -> 5 | H12: =H7+H9 -> 5 | I12: =I7+I9 -> 5 | ... AJ12: =AJ7+AJ9 -> 5
A13: Total de veículos compactadores | B13: =SUM(B7:B11) -> 8 | C13: =SUM(C7:C11) -> 8 | D13: =SUM(D7:D11) -> 8 | E13: =SUM(E7:E11) -> 8 | F13: =SUM(F7:F11) -> 8 | G13: =SUM(G7:G11) -> 9 | H13: =SUM(H7:H11) -> 9 | I13: =SUM(I7:I11) -> 9 | ... AJ13: =SUM(AJ7:AJ11) -> 9
A14: Caminhão com caçamba de lavação de contentores (col. Mecanizada) | B14: 1 | C14: 1 | D14: 1 | E14: 1 | F14: 1 | G14: 1 | H14: 1 | I14: 1 | J14: 1 | K14: 1 | L14: 1 | M14: 1 | N14: 1 | O14: 1 | P14: 1 | Q14: 1 | R14: 1 | S14: 1 | T14: 1 | U14: 1 | V14: 1 | W14: 1 | X14: 1 | Y14: 1 | Z14: 1 | AA14: 1 | AB14: 1 | AC14: 1 | AD14: 1 | AE14: 1 | AF14: 1 | AG14: 1 | AH14: 1 | AI14: 1 | AJ14: 1
A15: Veículo Utilitário leve | B15: =ROUND(B13/10,0) -> 1 | C15: =ROUND(C13/10,0) -> 1 | D15: =ROUND(D13/10,0) -> 1 | E15: =ROUND(E13/10,0) -> 1 | F15: =ROUND(F13/10,0) -> 1 | G15: =ROUND(G13/10,0) -> 1 | H15: =ROUND(H13/10,0) -> 1 | I15: =ROUND(I13/10,0) -> 1 | ... AJ15: =ROUND(AJ13/10,0) -> 1
A16: Motocicleta | B16: =ROUND(B13/6,0) -> 1 | C16: =ROUND(C13/6,0) -> 1 | D16: =ROUND(D13/6,0) -> 1 | E16: =ROUND(E13/6,0) -> 1 | F16: =ROUND(F13/6,0) -> 1 | G16: =ROUND(G13/6,0) -> 2 | H16: =ROUND(H13/6,0) -> 2 | I16: =ROUND(I13/6,0) -> 2 | ... AJ16: =ROUND(AJ13/6,0) -> 2
A17: Operação Coleta Seletiva
A18: Caminhão Compactador - Coleta seletiva manual | B18: =7-B20 -> 0 | C18: =7-C20 -> 0 | D18: =7-D20 -> 0 | E18: =7-E20 -> 0 | F18: =7-F20 -> 0 | G18: =7-G20 -> 0 | H18: =7-H20 -> 0 | I18: =8-I20 -> 0 | J18: =8-J20 -> 0 | K18: =8-K20 -> 0 | L18: =8-L20 -> 0 | M18: =8-M20 -> 0 | N18: =8-N20 -> 0 | O18: =8-O20 -> 0 | P18: =8-P20 -> 0 | ... AJ18: =8-AJ20 -> 0
A19: Caminhão Compactador - Coleta seletiva (reserva) | B19: =ROUNDUP(B21*'01 - Dados de Entrada'!$C$181,0) -> 2 | C19: =ROUNDUP(C21*'01 - Dados de Entrada'!$C$181,0) -> 2 | D19: =ROUNDUP(D21*'01 - Dados de Entrada'!$C$181,0) -> 2 | E19: =ROUNDUP(E21*'01 - Dados de Entrada'!$C$181,0) -> 2 | F19: =ROUNDUP(F21*'01 - Dados de Entrada'!$C$181,0) -> 2 | G19: =ROUNDUP(G21*'01 - Dados de Entrada'!$C$181,0) -> 2 | H19: =ROUNDUP(H21*'01 - Dados de Entrada'!$C$181,0) -> 2 | I19: =ROUNDUP(I21*'01 - Dados de Entrada'!$C$181,0) -> 2 | ... AJ19: =ROUNDUP(AJ21*'01 - Dados de Entrada'!$C$181,0) -> 2
A20: Caminhão Compactador - Coleta seletiva mecanizada | B20: 7 | C20: 7 | D20: 7 | E20: 7 | F20: 7 | G20: 7 | H20: 7 | I20: 8 | J20: 8 | K20: 8 | L20: 8 | M20: 8 | N20: 8 | O20: 8 | P20: 8 | Q20: 8 | R20: 8 | S20: 8 | T20: 8 | U20: 8 | V20: 8 | W20: 8 | X20: 8 | Y20: 8 | Z20: 8 | AA20: 8 | AB20: 8 | AC20: 8 | AD20: 8 | AE20: 8 | AF20: 8 | AG20: 8 | AH20: 8 | AI20: 8 | AJ20: 8
A21: Total de veículos compactadores operacionais 15m³ | B21: =B18+B20 -> 7 | C21: =C18+C20 -> 7 | D21: =D18+D20 -> 7 | E21: =E18+E20 -> 7 | F21: =F18+F20 -> 7 | G21: =G18+G20 -> 7 | H21: =H18+H20 -> 7 | I21: =I18+I20 -> 8 | ... AJ21: =AJ18+AJ20 -> 8
A22: Veículo Utilitário leve (distribuição de sacos verdes) | B22: 1 | C22: 1 | D22: 1 | E22: 1 | F22: 1 | G22: 1 | H22: 1 | I22: 1 | J22: 1 | K22: 1 | L22: 1 | M22: 1 | N22: 1 | O22: 1 | P22: 1 | Q22: 1 | R22: 1 | S22: 1 | T22: 1 | U22: 1 | V22: 1 | W22: 1 | X22: 1 | Y22: 1 | Z22: 1 | AA22: 1 | AB22: 1 | AC22: 1 | AD22: 1 | AE22: 1 | AF22: 1 | AG22: 1 | AH22: 1 | AI22: 1 | AJ22: 1
A23: Motocicleta | B23: 1 | C23: 1 | D23: 1 | E23: 1 | F23: 1 | G23: 1 | H23: 1 | I23: 1 | J23: 1 | K23: 1 | L23: 1 | M23: 1 | N23: 1 | O23: 1 | P23: 1 | Q23: 1 | R23: 1 | S23: 1 | T23: 1 | U23: 1 | V23: 1 | W23: 1 | X23: 1 | Y23: 1 | Z23: 1 | AA23: 1 | AB23: 1 | AC23: 1 | AD23: 1 | AE23: 1 | AF23: 1 | AG23: 1 | AH23: 1 | AI23: 1 | AJ23: 1
A24: Manutenção | B24: 0 | C24: 0 | D24: 0 | E24: 0 | F24: 0 | G24: 0 | H24: 0 | I24: 0 | J24: 0 | K24: 0 | L24: 0 | M24: 0 | N24: 0 | O24: 0 | P24: 0 | Q24: 0 | R24: 0 | S24: 0 | T24: 0 | U24: 0 | V24: 0 | W24: 0 | X24: 0 | Y24: 0 | Z24: 0 | AA24: 0 | AB24: 0 | AC24: 0 | AD24: 0 | AE24: 0 | AF24: 0 | AG24: 0 | AH24: 0 | AI24: 0 | AJ24: 0
A25: Veículo Utilitário leve | B25: =ROUND((B7+B9+B10+B14+B15+B16+B18+B20+B22+B23)/20,0) -> 1 | C25: =ROUND((C7+C9+C10+C14+C15+C16+C18+C20+C22+C23)/20,0) -> 1 | D25: =ROUND((D7+D9+D10+D14+D15+D16+D18+D20+D22+D23)/20,0) -> 1 | E25: =ROUND((E7+E9+E10+E14+E15+E16+E18+E20+E22+E23)/20,0) -> 1 | F25: =ROUND((F7+F9+F10+F14+F15+F16+F18+F20+F22+F23)/20,0) -> 1 | G25: =ROUND((G7+G9+G10+G14+G15+G16+G18+G20+G22+G23)/20,0) -> 1 | H25: =ROUND((H7+H9+H10+H14+H15+H16+H18+H20+H22+H23)/20,0) -> 1 | I25: =ROUND((I7+I9+I10+I14+I15+I16+I18+I20+I22+I23)/20,0) -> 1 | ... AJ25: =ROUND((AJ7+AJ9+AJ10+AJ14+AJ15+AJ16+AJ18+AJ20+AJ22+AJ23)/20,0) -> 1
A26: Engenharia | B26: 0 | C26: 0 | D26: 0 | E26: 0 | F26: 0 | G26: 0 | H26: 0 | I26: 0 | J26: 0 | K26: 0 | L26: 0 | M26: 0 | N26: 0 | O26: 0 | P26: 0 | Q26: 0 | R26: 0 | S26: 0 | T26: 0 | U26: 0 | V26: 0 | W26: 0 | X26: 0 | Y26: 0 | Z26: 0 | AA26: 0 | AB26: 0 | AC26: 0 | AD26: 0 | AE26: 0 | AF26: 0 | AG26: 0 | AH26: 0 | AI26: 0 | AJ26: 0
A27: Veículo de Passeio | B27: ='05 - Relação de funcionários'!B41 -> 1 | C27: ='05 - Relação de funcionários'!C41 -> 1 | D27: ='05 - Relação de funcionários'!D41 -> 1 | E27: ='05 - Relação de funcionários'!E41 -> 1 | F27: ='05 - Relação de funcionários'!F41 -> 1 | G27: ='05 - Relação de funcionários'!G41 -> 1 | H27: ='05 - Relação de funcionários'!H41 -> 1 | I27: ='05 - Relação de funcionários'!I41 -> 1 | ... AJ27: ='05 - Relação de funcionários'!AJ41 -> 1
A28: Gestão Comercial | B28: 0 | C28: 0 | D28: 0 | E28: 0 | F28: 0 | G28: 0 | H28: 0 | I28: 0 | J28: 0 | K28: 0 | L28: 0 | M28: 0 | N28: 0 | O28: 0 | P28: 0 | Q28: 0 | R28: 0 | S28: 0 | T28: 0 | U28: 0 | V28: 0 | W28: 0 | X28: 0 | Y28: 0 | Z28: 0 | AA28: 0 | AB28: 0 | AC28: 0 | AD28: 0 | AE28: 0 | AF28: 0 | AG28: 0 | AH28: 0 | AI28: 0 | AJ28: 0
A29: Veículo de Passeio | B29: 1 | C29: 1 | D29: 1 | E29: 1 | F29: 1 | G29: 1 | H29: 1 | I29: 1 | J29: 1 | K29: 1 | L29: 1 | M29: 1 | N29: 1 | O29: 1 | P29: 1 | Q29: 1 | R29: 1 | S29: 1 | T29: 1 | U29: 1 | V29: 1 | W29: 1 | X29: 1 | Y29: 1 | Z29: 1 | AA29: 1 | AB29: 1 | AC29: 1 | AD29: 1 | AE29: 1 | AF29: 1 | AG29: 1 | AH29: 1 | AI29: 1 | AJ29: 1
A30: Administração da SPE | B30: 0 | C30: 0 | D30: 0 | E30: 0 | F30: 0 | G30: 0 | H30: 0 | I30: 0 | J30: 0 | K30: 0 | L30: 0 | M30: 0 | N30: 0 | O30: 0 | P30: 0 | Q30: 0 | R30: 0 | S30: 0 | T30: 0 | U30: 0 | V30: 0 | W30: 0 | X30: 0 | Y30: 0 | Z30: 0 | AA30: 0 | AB30: 0 | AC30: 0 | AD30: 0 | AE30: 0 | AF30: 0 | AG30: 0 | AH30: 0 | AI30: 0 | AJ30: 0
A31: Veículo de Passeio | B31: ='05 - Relação de funcionários'!B19+'05 - Relação de funcionários'!B20 -> 2 | C31: ='05 - Relação de funcionários'!C19+'05 - Relação de funcionários'!C20 -> 2 | D31: ='05 - Relação de funcionários'!D19+'05 - Relação de funcionários'!D20 -> 2 | E31: ='05 - Relação de funcionários'!E19+'05 - Relação de funcionários'!E20 -> 2 | F31: ='05 - Relação de funcionários'!F19+'05 - Relação de funcionários'!F20 -> 2 | G31: ='05 - Relação de funcionários'!G19+'05 - Relação de funcionários'!G20 -> 2 | H31: ='05 - Relação de funcionários'!H19+'05 - Relação de funcionários'!H20 -> 2 | I31: ='05 - Relação de funcionários'!I19+'05 - Relação de funcionários'!I20 -> 2 | ... AJ31: ='05 - Relação de funcionários'!AJ19+'05 - Relação de funcionários'!AJ20 -> 2
A32: Equipamentos
A33: Contentores - 1,0m³ Para coleta mecanizada convencional | B33: ='01 - Dados de Entrada'!$C$175 -> 210 | C33: ='01 - Dados de Entrada'!$C$175 -> 210 | D33: ='01 - Dados de Entrada'!$C$175+'01 - Dados de Entrada'!$C$176 -> 420 | E33: ='01 - Dados de Entrada'!$C$175+'01 - Dados de Entrada'!$C$176 -> 420 | F33: ='01 - Dados de Entrada'!$C$175+'01 - Dados de Entrada'!$C$176+'01 - Dados de Entrada'!$C$177 -> 600 | G33: ='01 - Dados de Entrada'!$C$175+'01 - Dados de Entrada'!$C$176+'01 - Dados de Entrada'!$C$177 -> 600 | H33: ='01 - Dados de Entrada'!$C$175+'01 - Dados de Entrada'!$C$176+'01 - Dados de Entrada'!$C$177 -> 600 | I33: ='01 - Dados de Entrada'!$C$175+'01 - Dados de Entrada'!$C$176+'01 - Dados de Entrada'!$C$177 -> 600 | J33: ='01 - Dados de Entrada'!$C$175+'01 - Dados de Entrada'!$C$176+'01 - Dados de Entrada'!$C$177 -> 600 | K33: ='01 - Dados de Entrada'!$C$175+'01 - Dados de Entrada'!$C$176+'01 - Dados de Entrada'!$C$177 -> 600 | L33: ='01 - Dados de Entrada'!$C$175+'01 - Dados de Entrada'!$C$176+'01 - Dados de Entrada'!$C$177 -> 600 | M33: ='01 - Dados de Entrada'!$C$175+'01 - Dados de Entrada'!$C$176+'01 - Dados de Entrada'!$C$177 -> 600 | ... AJ33: ='01 - Dados de Entrada'!$C$175+'01 - Dados de Entrada'!$C$176+'01 - Dados de Entrada'!$C$177 -> 600
A34: Contentores - 1,0m³ Para coleta mecanizada seletiva | B34: ='01 - Dados de Entrada'!$C$178 -> 140 | C34: ='01 - Dados de Entrada'!$C$178 -> 140 | D34: ='01 - Dados de Entrada'!$C$178+'01 - Dados de Entrada'!$C$179 -> 280 | E34: ='01 - Dados de Entrada'!$C$178+'01 - Dados de Entrada'!$C$179 -> 280 | F34: ='01 - Dados de Entrada'!$C$178+'01 - Dados de Entrada'!$C$179+'01 - Dados de Entrada'!$C$180 -> 400 | G34: ='01 - Dados de Entrada'!$C$178+'01 - Dados de Entrada'!$C$179+'01 - Dados de Entrada'!$C$180 -> 400 | H34: ='01 - Dados de Entrada'!$C$178+'01 - Dados de Entrada'!$C$179+'01 - Dados de Entrada'!$C$180 -> 400 | I34: ='01 - Dados de Entrada'!$C$178+'01 - Dados de Entrada'!$C$179+'01 - Dados de Entrada'!$C$180 -> 400 | J34: ='01 - Dados de Entrada'!$C$178+'01 - Dados de Entrada'!$C$179+'01 - Dados de Entrada'!$C$180 -> 400 | K34: ='01 - Dados de Entrada'!$C$178+'01 - Dados de Entrada'!$C$179+'01 - Dados de Entrada'!$C$180 -> 400 | L34: ='01 - Dados de Entrada'!$C$178+'01 - Dados de Entrada'!$C$179+'01 - Dados de Entrada'!$C$180 -> 400 | M34: ='01 - Dados de Entrada'!$C$178+'01 - Dados de Entrada'!$C$179+'01 - Dados de Entrada'!$C$180 -> 400 | ... AJ34: ='01 - Dados de Entrada'!$C$178+'01 - Dados de Entrada'!$C$179+'01 - Dados de Entrada'!$C$180 -> 400
A35: Contentores de 1,0 m° Para PEV | B35: ='01 - Dados de Entrada'!$C$330*('01 - Dados de Entrada'!$C$332+'01 - Dados de Entrada'!$C$333) -> 16 | C35: ='01 - Dados de Entrada'!$C$330*('01 - Dados de Entrada'!$C$332+'01 - Dados de Entrada'!$C$333) -> 16 | D35: ='01 - Dados de Entrada'!$C$330*('01 - Dados de Entrada'!$C$332+'01 - Dados de Entrada'!$C$333) -> 16 | E35: ='01 - Dados de Entrada'!$C$330*('01 - Dados de Entrada'!$C$332+'01 - Dados de Entrada'!$C$333) -> 16 | F35: ='01 - Dados de Entrada'!$C$330*('01 - Dados de Entrada'!$C$332+'01 - Dados de Entrada'!$C$333) -> 16 | G35: ='01 - Dados de Entrada'!$C$330*('01 - Dados de Entrada'!$C$332+'01 - Dados de Entrada'!$C$333) -> 16 | H35: ='01 - Dados de Entrada'!$C$330*('01 - Dados de Entrada'!$C$332+'01 - Dados de Entrada'!$C$333) -> 16 | I35: ='01 - Dados de Entrada'!$C$330*('01 - Dados de Entrada'!$C$332+'01 - Dados de Entrada'!$C$333) -> 16 | ... AJ35: ='01 - Dados de Entrada'!$C$330*('01 - Dados de Entrada'!$C$332+'01 - Dados de Entrada'!$C$333) -> 16
A36: Caçambas estacionárias de 6m³ Para PEV | B36: ='01 - Dados de Entrada'!$C$331*('01 - Dados de Entrada'!$C$332+'01 - Dados de Entrada'!$C$333) -> 16 | C36: ='01 - Dados de Entrada'!$C$331*('01 - Dados de Entrada'!$C$332+'01 - Dados de Entrada'!$C$333) -> 16 | D36: ='01 - Dados de Entrada'!$C$331*('01 - Dados de Entrada'!$C$332+'01 - Dados de Entrada'!$C$333) -> 16 | E36: ='01 - Dados de Entrada'!$C$331*('01 - Dados de Entrada'!$C$332+'01 - Dados de Entrada'!$C$333) -> 16 | F36: ='01 - Dados de Entrada'!$C$331*('01 - Dados de Entrada'!$C$332+'01 - Dados de Entrada'!$C$333) -> 16 | G36: ='01 - Dados de Entrada'!$C$331*('01 - Dados de Entrada'!$C$332+'01 - Dados de Entrada'!$C$333) -> 16 | H36: ='01 - Dados de Entrada'!$C$331*('01 - Dados de Entrada'!$C$332+'01 - Dados de Entrada'!$C$333) -> 16 | I36: ='01 - Dados de Entrada'!$C$331*('01 - Dados de Entrada'!$C$332+'01 - Dados de Entrada'!$C$333) -> 16 | ... AJ36: ='01 - Dados de Entrada'!$C$331*('01 - Dados de Entrada'!$C$332+'01 - Dados de Entrada'!$C$333) -> 16
A37: Cesto papeleiro | B37: ='01 - Dados de Entrada'!$C$334 -> 800 | C37: ='01 - Dados de Entrada'!$C$334+'01 - Dados de Entrada'!$C$335 -> 1300 | D37: ='01 - Dados de Entrada'!$C$334+'01 - Dados de Entrada'!$C$335+'01 - Dados de Entrada'!$C$336 -> 1800 | E37: ='01 - Dados de Entrada'!$C$334+'01 - Dados de Entrada'!$C$335+'01 - Dados de Entrada'!$C$336 -> 1800 | F37: ='01 - Dados de Entrada'!$C$334+'01 - Dados de Entrada'!$C$335+'01 - Dados de Entrada'!$C$336 -> 1800 | G37: ='01 - Dados de Entrada'!$C$334+'01 - Dados de Entrada'!$C$335+'01 - Dados de Entrada'!$C$336 -> 1800 | H37: ='01 - Dados de Entrada'!$C$334+'01 - Dados de Entrada'!$C$335+'01 - Dados de Entrada'!$C$336 -> 1800 | I37: ='01 - Dados de Entrada'!$C$334+'01 - Dados de Entrada'!$C$335+'01 - Dados de Entrada'!$C$336 -> 1800 | J37: ='01 - Dados de Entrada'!$C$334+'01 - Dados de Entrada'!$C$335+'01 - Dados de Entrada'!$C$336 -> 1800 | K37: ='01 - Dados de Entrada'!$C$334+'01 - Dados de Entrada'!$C$335+'01 - Dados de Entrada'!$C$336 -> 1800 | ... AJ37: ='01 - Dados de Entrada'!$C$334+'01 - Dados de Entrada'!$C$335+'01 - Dados de Entrada'!$C$336 -> 1800
A38: Ecoponto | B38: 0 | C38: ='01 - Dados de Entrada'!$C$338 -> 1 | D38: ='01 - Dados de Entrada'!$C$338+'01 - Dados de Entrada'!$C$339 -> 2 | E38: ='01 - Dados de Entrada'!$C$338+'01 - Dados de Entrada'!$C$339 -> 2 | F38: ='01 - Dados de Entrada'!$C$338+'01 - Dados de Entrada'!$C$339+'01 - Dados de Entrada'!$C$340 -> 3 | G38: ='01 - Dados de Entrada'!$C$338+'01 - Dados de Entrada'!$C$339+'01 - Dados de Entrada'!$C$340 -> 3 | H38: ='01 - Dados de Entrada'!$C$338+'01 - Dados de Entrada'!$C$339+'01 - Dados de Entrada'!$C$340 -> 3 | I38: ='01 - Dados de Entrada'!$C$338+'01 - Dados de Entrada'!$C$339+'01 - Dados de Entrada'!$C$340 -> 3 | J38: ='01 - Dados de Entrada'!$C$338+'01 - Dados de Entrada'!$C$339+'01 - Dados de Entrada'!$C$340 -> 3 | K38: ='01 - Dados de Entrada'!$C$338+'01 - Dados de Entrada'!$C$339+'01 - Dados de Entrada'!$C$340 -> 3 | L38: ='01 - Dados de Entrada'!$C$338+'01 - Dados de Entrada'!$C$339+'01 - Dados de Entrada'!$C$340 -> 3 | M38: ='01 - Dados de Entrada'!$C$338+'01 - Dados de Entrada'!$C$339+'01 - Dados de Entrada'!$C$340 -> 3 | ... AJ38: ='01 - Dados de Entrada'!$C$338+'01 - Dados de Entrada'!$C$339+'01 - Dados de Entrada'!$C$340 -> 3
A39: Contentores de 1,0 m° Para Ecoponto | B39: ='01 - Dados de Entrada'!$C$341*'04 - Veículos e Equipamentos'!B38 -> 0 | C39: ='01 - Dados de Entrada'!$C$341*'04 - Veículos e Equipamentos'!C38 -> 5 | D39: ='01 - Dados de Entrada'!$C$341*'04 - Veículos e Equipamentos'!D38 -> 10 | E39: ='01 - Dados de Entrada'!$C$341*'04 - Veículos e Equipamentos'!E38 -> 10 | F39: ='01 - Dados de Entrada'!$C$341*'04 - Veículos e Equipamentos'!F38 -> 15 | G39: ='01 - Dados de Entrada'!$C$341*'04 - Veículos e Equipamentos'!G38 -> 15 | H39: ='01 - Dados de Entrada'!$C$341*'04 - Veículos e Equipamentos'!H38 -> 15 | I39: ='01 - Dados de Entrada'!$C$341*'04 - Veículos e Equipamentos'!I38 -> 15 | ... AJ39: ='01 - Dados de Entrada'!$C$341*'04 - Veículos e Equipamentos'!AJ38 -> 15
A40: Operação Transporte resíduos PEV
A41: Caminhão poliguindaste | B41: ='01 - Dados de Entrada'!$C$344 -> 1 | C41: ='01 - Dados de Entrada'!$C$344 -> 1 | D41: ='01 - Dados de Entrada'!$C$344 -> 1 | E41: ='01 - Dados de Entrada'!$C$344 -> 1 | F41: ='01 - Dados de Entrada'!$C$344 -> 1 | G41: ='01 - Dados de Entrada'!$C$344 -> 1 | H41: ='01 - Dados de Entrada'!$C$344 -> 1 | I41: ='01 - Dados de Entrada'!$C$344 -> 1 | ... AJ41: ='01 - Dados de Entrada'!$C$344 -> 1
...

Sheet 05 - Relação de funcionários
A1: PREFEITURA MUNICIPAL DE JARAGUÁ DO SUL
A2: ESTUDO DE VIABILIDADE ECONÔMICA PARA A CONCESSÃO DOS SERVIÇOS DE LIMPEZA PÚBLICA E MANEJO DE RESÍDUOS SÓLIDOS
A3: EVOLUÇÃO DE PESSOAL
A5: Número de Integrantes por Categoria | B5: Ano 01 | C5: Ano 02 | D5: Ano 03 | E5: Ano 04 | F5: Ano 05 | G5: Ano 06 | H5: Ano 07 | I5: Ano 08 | J5: Ano 09 | K5: Ano 10 | L5: Ano 11 | M5: Ano 12 | N5: Ano 13 | O5: Ano 14 | P5: Ano 15 | Q5: Ano 16 | R5: Ano 17 | S5: Ano 18 | T5: Ano 19 | U5: Ano 20 | V5: Ano 21 | W5: Ano 22 | X5: Ano 23 | Y5: Ano 24 | Z5: Ano 25 | AA5: Ano 26 | AB5: Ano 27 | AC5: Ano 28 | AD5: Ano 29 | AE5: Ano 30 | AF5: Ano 31 | AG5: Ano 32 | AH5: Ano 33 | AI5: Ano 34 | AJ5: Ano 35
A6: SPE | B6: =SUM( B19:B38 ) -> 23 | C6: =SUM( C19:C38 ) -> 23 | D6: =SUM( D19:D38 ) -> 23 | E6: =SUM( E19:E38 ) -> 23 | F6: =SUM( F19:F38 ) -> 23 | G6: =SUM( G19:G38 ) -> 23 | H6: =SUM( H19:H38 ) -> 23 | I6: =SUM( I19:I38 ) -> 23 | ... AJ6: =SUM( AJ19:AJ38 ) -> 23
A7: Engenharia | B7: =SUM( B41:B41 ) -> 1 | C7: =SUM( C41:C41 ) -> 1 | D7: =SUM( D41:D41 ) -> 1 | E7: =SUM( E41:E41 ) -> 1 | F7: =SUM( F41:F41 ) -> 1 | G7: =SUM( G41:G41 ) -> 1 | H7: =SUM( H41:H41 ) -> 1 | I7: =SUM( I41:I41 ) -> 1 | ... AJ7: =SUM( AJ41:AJ41 ) -> 1
A8: Operação | B8: =SUM( B44:B53 ) -> 103 | C8: =SUM( C44:C53 ) -> 103 | D8: =SUM( D44:D53 ) -> 103 | E8: =SUM( E44:E53 ) -> 103 | F8: =SUM( F44:F53 ) -> 103 | G8: =SUM( G44:G53 ) -> 113 | H8: =SUM( H44:H53 ) -> 113 | I8: =SUM( I44:I53 ) -> 117 | ... AJ8: =SUM( AJ44:AJ53 ) -> 117
A9: Ponto de Entrega Voluntária PEV e Ecoponto | B9: =SUM(B55:B56) -> 5 | C9: =SUM(C55:C56) -> 7 | D9: =SUM(D55:D56) -> 8 | E9: =SUM(E55:E56) -> 8 | F9: =SUM(F55:F56) -> 9 | G9: =SUM(G55:G56) -> 9 | H9: =SUM(H55:H56) -> 9 | I9: =SUM(I55:I56) -> 9 | ... AJ9: =SUM(AJ55:AJ56) -> 9
A10: Transporte Resíduos PEV | B10: =SUM(B58:B58) -> 2 | C10: =SUM(C58:C58) -> 2 | D10: =SUM(D58:D58) -> 2 | E10: =SUM(E58:E58) -> 2 | F10: =SUM(F58:F58) -> 2 | G10: =SUM(G58:G58) -> 2 | H10: =SUM(H58:H58) -> 2 | I10: =SUM(I58:I58) -> 2 | ... AJ10: =SUM(AJ58:AJ58) -> 2
A11: Manutenção | B11: =SUM( B60:B64 ) -> 8 | C11: =SUM( C60:C64 ) -> 8 | D11: =SUM( D60:D64 ) -> 8 | E11: =SUM( E60:E64 ) -> 8 | F11: =SUM( F60:F64 ) -> 8 | G11: =SUM( G60:G64 ) -> 8 | H11: =SUM( H60:H64 ) -> 8 | I11: =SUM( I60:I64 ) -> 8 | ... AJ11: =SUM( AJ60:AJ64 ) -> 8
A12: Servços Gerais | B12: =SUM(B67:B69) -> 47 | C12: =SUM(C67:C69) -> 47 | D12: =SUM(D67:D69) -> 47 | E12: =SUM(E67:E69) -> 47 | F12: =SUM(F67:F69) -> 47 | G12: =SUM(G67:G69) -> 47 | H12: =SUM(H67:H69) -> 47 | I12: =SUM(I67:I69) -> 47 | ... AJ12: =SUM(AJ67:AJ69) -> 47
A13: Roçada de Áreas Públicas | B13: =SUM(B72:B74) -> 25 | C13: =SUM(C72:C74) -> 25 | D13: =SUM(D72:D74) -> 25 | E13: =SUM(E72:E74) -> 25 | F13: =SUM(F72:F74) -> 25 | G13: =SUM(G72:G74) -> 25 | H13: =SUM(H72:H74) -> 25 | I13: =SUM(I72:I74) -> 25 | ... AJ13: =SUM(AJ72:AJ74) -> 25
A14: Serviço de poda | B14: =SUM(B77:B79) -> 12 | C14: =SUM(C77:C79) -> 12 | D14: =SUM(D77:D79) -> 12 | E14: =SUM(E77:E79) -> 12 | F14: =SUM(F77:F79) -> 12 | G14: =SUM(G77:G79) -> 12 | H14: =SUM(H77:H79) -> 12 | I14: =SUM(I77:I79) -> 12 | ... AJ14: =SUM(AJ77:AJ79) -> 12
A15: Varrição manual | B15: =SUM(B82:B85) -> 60 | C15: =SUM(C82:C85) -> 60 | D15: =SUM(D82:D85) -> 60 | E15: =SUM(E82:E85) -> 61 | F15: =SUM(F82:F85) -> 61 | G15: =SUM(G82:G85) -> 61 | H15: =SUM(H82:H85) -> 62 | I15: =SUM(I82:I85) -> 62 | ... AJ15: =SUM(AJ82:AJ85) -> 61
A16: Total de Integrantes | B16: =SUM( B$6:B$15 ) -> 286 | C16: =SUM( C$6:C$15 ) -> 288 | D16: =SUM( D$6:D$15 ) -> 289 | E16: =SUM( E$6:E$15 ) -> 290 | F16: =SUM( F$6:F$15 ) -> 291 | G16: =SUM( G$6:G$15 ) -> 301 | H16: =SUM( H$6:H$15 ) -> 302 | I16: =SUM( I$6:I$15 ) -> 306 | ... AJ16: =SUM( AJ$6:AJ$15 ) -> 305
A18: SPE
A19: Diretor de Concessão | B19: 1 | C19: =B19 -> 1 | D19: =C19 -> 1 | E19: =D19 -> 1 | F19: =E19 -> 1 | G19: =F19 -> 1 | H19: =G19 -> 1 | I19: =H19 -> 1 | J19: =I19 -> 1 | ... AJ19: =AI19 -> 1
A20: Gerente de Operações | B20: 1 | C20: =B20 -> 1 | D20: =C20 -> 1 | E20: =D20 -> 1 | F20: =E20 -> 1 | G20: =F20 -> 1 | H20: =G20 -> 1 | I20: =H20 -> 1 | J20: =I20 -> 1 | ... AJ20: =AI20 -> 1
A21: Secretária Executiva | B21: 1 | C21: =B21 -> 1 | D21: =C21 -> 1 | E21: =D21 -> 1 | F21: =E21 -> 1 | G21: =F21 -> 1 | H21: =G21 -> 1 | I21: =H21 -> 1 | J21: =I21 -> 1 | ... AJ21: =AI21 -> 1
A22: Comunicador Social | B22: 1 | C22: 1 | D22: 1 | E22: 1 | F22: 1 | G22: 1 | H22: 1 | I22: 1 | J22: 1 | K22: 1 | L22: 1 | M22: 1 | N22: 1 | O22: 1 | P22: 1 | Q22: 1 | R22: 1 | S22: 1 | T22: 1 | U22: 1 | V22: 1 | W22: 1 | X22: 1 | Y22: 1 | Z22: 1 | AA22: 1 | AB22: 1 | AC22: 1 | AD22: 1 | AE22: 1 | AF22: 1 | AG22: 1 | AH22: 1 | AI22: 1 | AJ22: 1
A23: Técnico de Informática | B23: 1 | C23: =B23 -> 1 | D23: =C23 -> 1 | E23: =D23 -> 1 | F23: =E23 -> 1 | G23: =F23 -> 1 | H23: =G23 -> 1 | I23: =H23 -> 1 | J23: =I23 -> 1 | ... AJ23: =AI23 -> 1
A24: Encarregado administrativo | B24: 1 | C24: =B24 -> 1 | D24: =C24 -> 1 | E24: =D24 -> 1 | F24: =E24 -> 1 | G24: =F24 -> 1 | H24: =G24 -> 1 | I24: =H24 -> 1 | J24: =I24 -> 1 | ... AJ24: =AI24 -> 1
