Workbook

Sheet DADOS
A1: Prefeitura Municipal de Jaraguá do Sul - SC
A2: SAMAE - Serviço Autônomo Municipal de Água e Esgoto
A3: Data do documento: | C3: 16/09/2024
A4: Licitação número:
A5: Lote:
A6: Dados da licitante
A7: Razão social
A8: CNPJ:
A9: Telefone:
A10: E-Mail:
A11: Nome responsável:
A12: CPF responsável:
A13: Cidade licitante:
A14: UF licitante:

Sheet Orçamento
A1: Prefeitura Municipal de Jaraguá do Sul - SC
A2: Orcamento de obra - REDE COLETORA DE ESGOTO - BAIRRO TRÊS RIOS DO NORTE
A3: Data: | B3: =DADOS!C3 -> 16/09/2024
A4: Empresa: | B4: =DADOS!C7 -> 0 | G4: Telefone: | H4: =DADOS!C9
A5: CNPJ: | B5: =DADOS!C8 | D5: Cidade: | E5: =DADOS!C13 -> 0 | H5: UF: | I5: =DADOS!C14 -> 0
A7: Item | B7: Descrição dos itens | C7: U.M. | D7: Qtde. | E7: Custo base R$ | F7: %BDI/K/TRDE Base | G7: Preço base R$ | H7: Custo Un. R$ | I7: %BDI/K/TRDE | J7: Preço Un. R$ | K7: Total R$
A8: 1 | B8: CANTEIRO DE OBRAS | K8: =SUM(K9:K18) -> 0 | L8: Etapa
A9: 1.1 | B9: EXECUÇÃO DE ESCRITÓRIO EM CANTEIRO DE OBRA EM CHAPA DE MADEIRA COMPENSADA, NÃO INCLUSO MOBILIÁRIO E EQUIPAMENTOS. AF_02/2016 | C9: M2 | D9: 30 | E9: 1494.97 | F9: 23.52 | G9: 1846.59 | I9: =ROUND('BDI Principal'!D14,2) -> 23.52 | J9: =ROUND((ROUND(H9,2)*I9/100)+ROUND(H9,2),2) -> 0 | K9: =ROUND(D9*J9,2) -> 0 | L9: Item
A10: 1.2 | B10: EXECUÇÃO DE ALMOXARIFADO EM CANTEIRO DE OBRA EM CHAPA DE MADEIRA COMPENSADA, INCLUSO PRATELEIRAS. AF_02/2016 | C10: M2 | D10: 50 | E10: 1365.89 | F10: 23.52 | G10: 1687.15 | I10: =ROUND('BDI Principal'!D14,2) -> 23.52 | J10: =ROUND((ROUND(H10,2)*I10/100)+ROUND(H10,2),2) -> 0 | K10: =ROUND(D10*J10,2) -> 0 | L10: Item
A11: 1.3 | B11: EXECUÇÃO DE REFEITÓRIO EM CANTEIRO DE OBRA EM CHAPA DE MADEIRA COMPENSADA, NÃO INCLUSO MOBILIÁRIO E EQUIPAMENTOS. AF_02/2016 | C11: M2 | D11: 36 | E11: 770.94 | F11: 23.52 | G11: 952.27 | I11: =ROUND('BDI Principal'!D14,2) -> 23.52 | J11: =ROUND((ROUND(H11,2)*I11/100)+ROUND(H11,2),2) -> 0 | K11: =ROUND(D11*J11,2) -> 0 | L11: Item
A12: 1.4 | B12: ALOJAMENTO | C12: M² | D12: 150 | E12: 340.61 | F12: 23.52 | G12: 420.72 | I12: =ROUND('BDI Principal'!D14,2) -> 23.52 | J12: =ROUND((ROUND(H12,2)*I12/100)+ROUND(H12,2),2) -> 0 | K12: =ROUND(D12*J12,2) -> 0 | L12: Item
A13: 1.5 | B13: EXECUÇÃO DE SANITÁRIO E VESTIÁRIO EM CANTEIRO DE OBRA EM CHAPA DE MADEIRA COMPENSADA, NÃO INCLUSO MOBILIÁRIO. AF_02/2016 | C13: M2 | D13: 9 | E13: 1319.44 | F13: 23.52 | G13: 1629.77 | I13: =ROUND('BDI Principal'!D14,2) -> 23.52 | J13: =ROUND((ROUND(H13,2)*I13/100)+ROUND(H13,2),2) -> 0 | K13: =ROUND(D13*J13,2) -> 0 | L13: Item
A14: 1.6 | B14: PLACA DE OBRA (PARA CONSTRUCAO CIVIL) EM CHAPA GALVANIZADA *N. 22*, ADESIVADA, DE *2,4 X 1,2* M (SEM POSTES PARA FIXACAO) | C14: M2 | D14: 4 | E14: 250 | F14: 23.52 | G14: 308.8 | I14: =ROUND('BDI Principal'!D14,2) -> 23.52 | J14: =ROUND((ROUND(H14,2)*I14/100)+ROUND(H14,2),2) -> 0 | K14: =ROUND(D14*J14,2) -> 0 | L14: Item
A15: 1.7 | B15: TAPUME COM COMPENSADO DE MADEIRA. AF_05/2018 | C15: M2 | D15: 120 | E15: 101.03 | F15: 23.52 | G15: 124.79 | I15: =ROUND('BDI Principal'!D14,2) -> 23.52 | J15: =ROUND((ROUND(H15,2)*I15/100)+ROUND(H15,2),2) -> 0 | K15: =ROUND(D15*J15,2) -> 0 | L15: Item
A16: 1.8 | B16: INSTALAÇÃO/LIGAÇÃO PROVISÓRIA ELÉTRICA BAIXA TENSÃO PARA CANTEIRO DE OBRA, AÉREA TRIFÁSICA, COM CAIXA DE SOBREPOR, CABO DE 16 MM² E DISJUNTOS 50A, INCLUSIVE POSTE | C16: UN | D16: 1 | E16: 2982.28 | F16: 23.52 | G16: 3683.71 | I16: =ROUND('BDI Principal'!D14,2) -> 23.52 | J16: =ROUND((ROUND(H16,2)*I16/100)+ROUND(H16,2),2) -> 0 | K16: =ROUND(D16*J16,2) -> 0 | L16: Item
A17: 1.9 | B17: INSTALAÇÃO/LIGAÇÃO PROVISÓRIA DE ÁGUA FRIA E SANITÁRIA | C17: UN | D17: 1 | E17: 1735.17 | F17: 23.52 | G17: 2143.28 | I17: =ROUND('BDI Principal'!D14,2) -> 23.52 | J17: =ROUND((ROUND(H17,2)*I17/100)+ROUND(H17,2),2) -> 0 | K17: =ROUND(D17*J17,2) -> 0 | L17: Item
A18: 1.10 | B18: LOCAÇÃO DE BANHEIRO QUIMICO, INCLUSO 2 LIMPEZAS SEMANAIS, ENTREGA E RETIRADA. | C18: MÊS | D18: 48 | E18: 1760 | F18: 23.52 | G18: 2173.95 | I18: =ROUND('BDI Principal'!D14,2) -> 23.52 | J18: =ROUND((ROUND(H18,2)*I18/100)+ROUND(H18,2),2) -> 0 | K18: =ROUND(D18*J18,2) -> 0 | L18: Item
A19: 2 | B19: ADMINISTRAÇÃO LOCAL | K19: =SUM(K20:K23) -> 0 | L19: Etapa
A20: 2.1 | B20: ENGENHEIRO CIVIL DE OBRA JUNIOR COM ENCARGOS COMPLEMENTARES | C20: MES | D20: 24 | E20: 20581.63 | F20: 23.52 | G20: 25422.43 | I20: =ROUND('BDI Principal'!D14,2) -> 23.52 | J20: =ROUND((ROUND(H20,2)*I20/100)+ROUND(H20,2),2) -> 0 | K20: =ROUND(D20*J20,2) -> 0 | L20: Item
A21: 2.2 | B21: ENCARREGADO GERAL DE OBRAS COM ENCARGOS COMPLEMENTARES | C21: MES | D21: 24 | E21: 6785.48 | F21: 23.52 | G21: 8381.42 | I21: =ROUND('BDI Principal'!D14,2) -> 23.52 | J21: =ROUND((ROUND(H21,2)*I21/100)+ROUND(H21,2),2) -> 0 | K21: =ROUND(D21*J21,2) -> 0 | L21: Item
A22: 2.3 | B22: ALMOXARIFE COM ENCARGOS COMPLEMENTARES | C22: MES | D22: 24 | E22: 5246.56 | F22: 23.52 | G22: 6480.55 | I22: =ROUND('BDI Principal'!D14,2) -> 23.52 | J22: =ROUND((ROUND(H22,2)*I22/100)+ROUND(H22,2),2) -> 0 | K22: =ROUND(D22*J22,2) -> 0 | L22: Item
A23: 2.4 | B23: TÉCNICO EM SEGURANÇA DO TRABALHO COM ENCARGOS COMPLEMENTARES | C23: MES | D23: 24 | E23: 7080.59 | F23: 23.52 | G23: 8745.94 | I23: =ROUND('BDI Principal'!D14,2) -> 23.52 | J23: =ROUND((ROUND(H23,2)*I23/100)+ROUND(H23,2),2) -> 0 | K23: =ROUND(D23*J23,2) -> 0 | L23: Item
A24: 3 | B24: DETALHAMENTO PROJETO EXECUTIVO E PLANO DE TRABALHO | K24: =SUM(K25:K25) -> 0 | L24: Etapa
A25: 3.1 | B25: DETALHAMENTO DO PROJETO EXECUTIVO DA REDE COLETORA DE ESGOTO, REDES AUXILIARES, REDE DE RECALQUE, DETALHAMENTOS EXECUTIVOS DOS POÇOS DE VISITA, TAMPAS, POÇOS DE RECALQUE, E DEMAIS ELEMENTOS CONSTRUTIVOS | C25: M | D25: 33118.17 | E25: 1.19 | F25: 23.52 | G25: 1.47 | I25: =ROUND('BDI Principal'!D14,2) -> 23.52 | J25: =ROUND((ROUND(H25,2)*I25/100)+ROUND(H25,2),2) -> 0 | K25: =ROUND(D25*J25,2) -> 0 | L25: Item
A26: 4 | B26: LIMPEZA, CONSERVAÇÃO, SINALIZAÇÃO E TESTE GERAL DE ESTANQUEIDADE | K26: =SUM(K27:K29) -> 0 | L26: Etapa
A27: 4.1 | B27: LIMPEZA E CONSERVAÇÃO DA VIA AO LONGO DA REALIZAÇÃO DA OBRA - UTILIZAÇÃO DE CAMINHÃO PIPA E MINICARREGADEIRA COM VASSOURA ACOPLADA | C27: M | D27: 33118.17 | E27: 5.09 | F27: 23.52 | G27: 6.29 | I27: =ROUND('BDI Principal'!D14,2) -> 23.52 | J27: =ROUND((ROUND(H27,2)*I27/100)+ROUND(H27,2),2) -> 0 | K27: =ROUND(D27*J27,2) -> 0 | L27: Item
A28: 4.2 | B28: LIMPEZA DE VALA COM CAMINHÃO HIDROVÁCUO | C28: M | D28: 2000 | E28: 17.62 | F28: 23.52 | G28: 21.76 | I28: =ROUND('BDI Principal'!D14,2) -> 23.52 | J28: =ROUND((ROUND(H28,2)*I28/100)+ROUND(H28,2),2) -> 0 | K28: =ROUND(D28*J28,2) -> 0 | L28: Item
A29: 4.3 | B29: TESTE DE ESTANQUEIDADE DA TOTALIDADE DA REDE APÓS FINALIZAÇÃO DA OBRA | C29: UN | D29: 1 | E29: 39069.6 | F29: 23.52 | G29: 48258.77 | I29: =ROUND('BDI Principal'!D14,2) -> 23.52 | J29: =ROUND((ROUND(H29,2)*I29/100)+ROUND(H29,2),2) -> 0 | K29: =ROUND(D29*J29,2) -> 0 | L29: Item
A30: 5 | B30: OBRAS CIVIL | K30: =K31+K110 -> 0 | L30: Etapa
A31: 5.1 | B31: REDE COLETORA | K31: =K32+K35+K41+K55+K58+K66+K69+K75+K96+K102+K105 -> 0 | L31: Etapa
A32: 5.1.1 | B32: LOCAÇÃO E CADASTRO | K32: =SUM(K33:K34) -> 0 | L32: Etapa
A33: 5.1.1.1 | B33: CADASTRO DE REDE DE ESGOTO/EMISSÁRIO/DRENAGEM | C33: M | D33: 33118.17 | E33: 1.93 | F33: 23.52 | G33: 2.38 | I33: =ROUND('BDI Principal'!D14,2) -> 23.52 | J33: =ROUND((ROUND(H33,2)*I33/100)+ROUND(H33,2),2) -> 0 | K33: =ROUND(D33*J33,2) -> 0 | L33: Item
A34: 5.1.1.2 | B34: LOCAÇÃO DE REDE DE ÁGUA OU ESGOTO. AF_10/2018 | C34: M | D34: 33118.17 | E34: 11.71 | F34: 23.52 | G34: 14.46 | I34: =ROUND('BDI Principal'!D14,2) -> 23.52 | J34: =ROUND((ROUND(H34,2)*I34/100)+ROUND(H34,2),2) -> 0 | K34: =ROUND(D34*J34,2) -> 0 | L34: Item
A35: 5.1.2 | B35: TRÂNSITO E SEGURANÇA | K35: =SUM(K36:K40) -> 0 | L35: Etapa
A36: 5.1.2.1 | B36: SINALIZAÇÃO DE TRÂNSITO NOTURNA | C36: M | D36: 2180 | E36: 3.71 | F36: 23.52 | G36: 4.58 | I36: =ROUND('BDI Principal'!D14,2) -> 23.52 | J36: =ROUND((ROUND(H36,2)*I36/100)+ROUND(H36,2),2) -> 0 | K36: =ROUND(D36*J36,2) -> 0 | L36: Item
A37: 5.1.2.2 | B37: CERCA COM TELA TAPUME | C37: M | D37: 2180 | E37: 0.69 | F37: 23.52 | G37: 0.85 | I37: =ROUND('BDI Principal'!D14,2) -> 23.52 | J37: =ROUND((ROUND(H37,2)*I37/100)+ROUND(H37,2),2) -> 0 | K37: =ROUND(D37*J37,2) -> 0 | L37: Item
A38: 5.1.2.3 | B38: SINALIZAÇÃO DE TRÂNSITO, COM PLACAS | C38: M² | D38: 217 | E38: 13.11 | F38: 23.52 | G38: 16.19 | I38: =ROUND('BDI Principal'!D14,2) -> 23.52 | J38: =ROUND((ROUND(H38,2)*I38/100)+ROUND(H38,2),2) -> 0 | K38: =ROUND(D38*J38,2) -> 0 | L38: Item
A39: 5.1.2.4 | B39: PASSADIÇOS COM CHAPAS DE AÇO | C39: M² | D39: 45 | E39: 19.1 | F39: 23.52 | G39: 23.59 | I39: =ROUND('BDI Principal'!D14,2) -> 23.52 | J39: =ROUND((ROUND(H39,2)*I39/100)+ROUND(H39,2),2) -> 0 | K39: =ROUND(D39*J39,2) -> 0 | L39: Item
A40: 5.1.2.5 | B40: FITA ADESIVA ANTICORROSIVA DE PVC FLEXIVEL, COR PRETA, PARA PROTECAO TUBULACAO, 50 MM X 30 M (L X C), E= *0,25* MM | C40: M | D40: 5499.8 | E40: 8.67 | F40: 23.52 | G40: 10.71 | I40: =ROUND('BDI Principal'!D14,2) -> 23.52 | J40: =ROUND((ROUND(H40,2)*I40/100)+ROUND(H40,2),2) -> 0 | K40: =ROUND(D40*J40,2) -> 0 | L40: Item
A41: 5.1.3 | B41: MOVIMENTO DE TERRA | K41: =SUM(K42:K54) -> 0 | L41: Etapa
...

Sheet Cronograma
A1: Prefeitura Municipal de Jaraguá do Sul - SC
A2: Orcamento de obra - REDE COLETORA DE ESGOTO - BAIRRO TRÊS RIOS DO NORTE
A3: Data: | B3: =DADOS!C3 -> 16/09/2024
A4: Empresa: | B4: =DADOS!C7 -> 0 | G4: Telefone: | H4: =DADOS!C9
A5: CNPJ: | B5: =DADOS!C8 | D5: Cidade: | E5: =DADOS!C13 -> 0 | H5: UF: | I5: =DADOS!C14 -> 0
A7: Item | B7: Etapa | C7: Total R$ | D7: % Mês 1 | E7: R$ Mês 1 | F7: % Mês 2 | G7: R$ Mês 2 | H7: % Mês 3 | I7: R$ Mês 3 | J7: % Mês 4 | K7: R$ Mês 4 | L7: % Mês 5 | M7: R$ Mês 5 | N7: % Mês 6 | O7: R$ Mês 6 | P7: % Mês 7 | Q7: R$ Mês 7 | R7: % Mês 8 | S7: R$ Mês 8 | T7: % Mês 9 | U7: R$ Mês 9 | V7: % Mês 10 | W7: R$ Mês 10 | X7: % Mês 11 | Y7: R$ Mês 11 | Z7: % Mês 12 | AA7: R$ Mês 12 | AB7: % Mês 13 | AC7: R$ Mês 13 | AD7: % Mês 14 | AE7: R$ Mês 14 | AF7: % Mês 15 | AG7: R$ Mês 15 | AH7: % Mês 16 | AI7: R$ Mês 16 | AJ7: % Mês 17 | AK7: R$ Mês 17 | AL7: % Mês 18 | AM7: R$ Mês 18 | AN7: % Mês 19 | AO7: R$ Mês 19 | AP7: % Mês 20 | AQ7: R$ Mês 20 | AR7: % Mês 21 | AS7: R$ Mês 21 | AT7: % Mês 22 | AU7: R$ Mês 22 | AV7: % Mês 23 | AW7: R$ Mês 23 | AX7: % Mês 24 | AY7: R$ Mês 24 | AZ7: % Total | BA7: R$ Total
A8: 1 | B8: CANTEIRO DE OBRAS | C8: =Orçamento!K8 -> 0 | D8: 2.5 | E8: =C8*D8/100 -> 0 | F8: 4 | G8: =C8*F8/100 -> 0 | H8: 4 | I8: =C8*H8/100 -> 0 | J8: 4 | K8: =C8*J8/100 -> 0 | L8: 4 | M8: =C8*L8/100 -> 0 | N8: 4.5 | O8: =C8*N8/100 -> 0 | P8: 4.5 | Q8: =C8*P8/100 -> 0 | R8: 4.5 | S8: =C8*R8/100 -> 0 | T8: 4.5 | U8: =C8*T8/100 -> 0 | V8: 4.5 | W8: =C8*V8/100 -> 0 | X8: 4.5 | Y8: =C8*X8/100 -> 0 | Z8: 4.5 | AA8: =C8*Z8/100 -> 0 | AB8: 4.5 | AC8: =C8*AB8/100 -> 0 | AD8: 4.5 | AE8: =C8*AD8/100 -> 0 | AF8: 4.5 | AG8: =C8*AF8/100 -> 0 | AH8: 4.5 | AI8: =C8*AH8/100 -> 0 | AJ8: 4.5 | AK8: =C8*AJ8/100 -> 0 | AL8: 4.5 | AM8: =C8*AL8/100 -> 0 | AN8: 4.5 | AO8: =C8*AN8/100 -> 0 | AP8: 4.5 | AQ8: =C8*AP8/100 -> 0 | AR8: 4.5 | AS8: =C8*AR8/100 -> 0 | AT8: 4.5 | AU8: =C8*AT8/100 -> 0 | AV8: 2.5 | AW8: =C8*AV8/100 -> 0 | AX8: 2.5 | AY8: =C8*AX8/100 -> 0 | AZ8: =D8+F8+H8+J8+L8+N8+P8+R8+T8+V8+X8+Z8+AB8+AD8+AF8+AH8+AJ8+AL8+AN8+AP8+AR8+AT8+AV8+AX8 -> 100 | BA8: =E8+G8+I8+K8+M8+O8+Q8+S8+U8+W8+Y8+AA8+AC8+AE8+AG8+AI8+AK8+AM8+AO8+AQ8+AS8+AU8+AW8+AY8 -> 0
A9: 2 | B9: ADMINISTRAÇÃO LOCAL | C9: =Orçamento!K19 -> 0 | D9: 2.5 | E9: =C9*D9/100 -> 0 | F9: 4 | G9: =C9*F9/100 -> 0 | H9: 4 | I9: =C9*H9/100 -> 0 | J9: 4 | K9: =C9*J9/100 -> 0 | L9: 4 | M9: =C9*L9/100 -> 0 | N9: 4.5 | O9: =C9*N9/100 -> 0 | P9: 4.5 | Q9: =C9*P9/100 -> 0 | R9: 4.5 | S9: =C9*R9/100 -> 0 | T9: 4.5 | U9: =C9*T9/100 -> 0 | V9: 4.5 | W9: =C9*V9/100 -> 0 | X9: 4.5 | Y9: =C9*X9/100 -> 0 | Z9: 4.5 | AA9: =C9*Z9/100 -> 0 | AB9: 4.5 | AC9: =C9*AB9/100 -> 0 | AD9: 4.5 | AE9: =C9*AD9/100 -> 0 | AF9: 4.5 | AG9: =C9*AF9/100 -> 0 | AH9: 4.5 | AI9: =C9*AH9/100 -> 0 | AJ9: 4.5 | AK9: =C9*AJ9/100 -> 0 | AL9: 4.5 | AM9: =C9*AL9/100 -> 0 | AN9: 4.5 | AO9: =C9*AN9/100 -> 0 | AP9: 4.5 | AQ9: =C9*AP9/100 -> 0 | AR9: 4.5 | AS9: =C9*AR9/100 -> 0 | AT9: 4.5 | AU9: =C9*AT9/100 -> 0 | AV9: 2.5 | AW9: =C9*AV9/100 -> 0 | AX9: 2.5 | AY9: =C9*AX9/100 -> 0 | AZ9: =D9+F9+H9+J9+L9+N9+P9+R9+T9+V9+X9+Z9+AB9+AD9+AF9+AH9+AJ9+AL9+AN9+AP9+AR9+AT9+AV9+AX9 -> 100 | BA9: =E9+G9+I9+K9+M9+O9+Q9+S9+U9+W9+Y9+AA9+AC9+AE9+AG9+AI9+AK9+AM9+AO9+AQ9+AS9+AU9+AW9+AY9 -> 0
A10: 3 | B10: DETALHAMENTO PROJETO EXECUTIVO E PLANO DE TRABALHO | C10: =Orçamento!K24 -> 0 | D10: 100 | E10: =C10*D10/100 -> 0 | F10: 0 | G10: =C10*F10/100 -> 0 | H10: 0 | I10: =C10*H10/100 -> 0 | J10: 0 | K10: =C10*J10/100 -> 0 | L10: 0 | M10: =C10*L10/100 -> 0 | N10: 0 | O10: =C10*N10/100 -> 0 | P10: 0 | Q10: =C10*P10/100 -> 0 | R10: 0 | S10: =C10*R10/100 -> 0 | T10: 0 | U10: =C10*T10/100 -> 0 | V10: 0 | W10: =C10*V10/100 -> 0 | X10: 0 | Y10: =C10*X10/100 -> 0 | Z10: 0 | AA10: =C10*Z10/100 -> 0 | AB10: 0 | AC10: =C10*AB10/100 -> 0 | AD10: 0 | AE10: =C10*AD10/100 -> 0 | AF10: 0 | AG10: =C10*AF10/100 -> 0 | AH10: 0 | AI10: =C10*AH10/100 -> 0 | AJ10: 0 | AK10: =C10*AJ10/100 -> 0 | AL10: 0 | AM10: =C10*AL10/100 -> 0 | AN10: 0 | AO10: =C10*AN10/100 -> 0 | AP10: 0 | AQ10: =C10*AP10/100 -> 0 | AR10: 0 | AS10: =C10*AR10/100 -> 0 | AT10: 0 | AU10: =C10*AT10/100 -> 0 | AV10: 0 | AW10: =C10*AV10/100 -> 0 | AX10: 0 | AY10: =C10*AX10/100 -> 0 | AZ10: =D10+F10+H10+J10+L10+N10+P10+R10+T10+V10+X10+Z10+AB10+AD10+AF10+AH10+AJ10+AL10+AN10+AP10+AR10+AT10+AV10+AX10 -> 100 | BA10: =E10+G10+I10+K10+M10+O10+Q10+S10+U10+W10+Y10+AA10+AC10+AE10+AG10+AI10+AK10+AM10+AO10+AQ10+AS10+AU10+AW10+AY10 -> 0
A11: 4 | B11: LIMPEZA, CONSERVAÇÃO, SINALIZAÇÃO E TESTE GERAL DE ESTANQUEIDADE | C11: =Orçamento!K26 -> 0 | D11: 0 | E11: =C11*D11/100 -> 0 | F11: 4 | G11: =C11*F11/100 -> 0 | H11: 4 | I11: =C11*H11/100 -> 0 | J11: 4 | K11: =C11*J11/100 -> 0 | L11: 4 | M11: =C11*L11/100 -> 0 | N11: 4 | O11: =C11*N11/100 -> 0 | P11: 4 | Q11: =C11*P11/100 -> 0 | R11: 4 | S11: =C11*R11/100 -> 0 | T11: 5 | U11: =C11*T11/100 -> 0 | V11: 5 | W11: =C11*V11/100 -> 0 | X11: 5 | Y11: =C11*X11/100 -> 0 | Z11: 5 | AA11: =C11*Z11/100 -> 0 | AB11: 5 | AC11: =C11*AB11/100 -> 0 | AD11: 5 | AE11: =C11*AD11/100 -> 0 | AF11: 5 | AG11: =C11*AF11/100 -> 0 | AH11: 5 | AI11: =C11*AH11/100 -> 0 | AJ11: 4 | AK11: =C11*AJ11/100 -> 0 | AL11: 4 | AM11: =C11*AL11/100 -> 0 | AN11: 4 | AO11: =C11*AN11/100 -> 0 | AP11: 4 | AQ11: =C11*AP11/100 -> 0 | AR11: 4 | AS11: =C11*AR11/100 -> 0 | AT11: 4 | AU11: =C11*AT11/100 -> 0 | AV11: 4 | AW11: =C11*AV11/100 -> 0 | AX11: 4 | AY11: =C11*AX11/100 -> 0 | AZ11: =D11+F11+H11+J11+L11+N11+P11+R11+T11+V11+X11+Z11+AB11+AD11+AF11+AH11+AJ11+AL11+AN11+AP11+AR11+AT11+AV11+AX11 -> 100 | BA11: =E11+G11+I11+K11+M11+O11+Q11+S11+U11+W11+Y11+AA11+AC11+AE11+AG11+AI11+AK11+AM11+AO11+AQ11+AS11+AU11+AW11+AY11 -> 0
A12: 5.1 | B12: REDE COLETORA | C12: =Orçamento!K31 -> 0 | D12: 0 | E12: =C12*D12/100 -> 0 | F12: 4 | G12: =C12*F12/100 -> 0 | H12: 4 | I12: =C12*H12/100 -> 0 | J12: 4 | K12: =C12*J12/100 -> 0 | L12: 4 | M12: =C12*L12/100 -> 0 | N12: 5 | O12: =C12*N12/100 -> 0 | P12: 5 | Q12: =C12*P12/100 -> 0 | R12: 5 | S12: =C12*R12/100 -> 0 | T12: 5 | U12: =C12*T12/100 -> 0 | V12: 5 | W12: =C12*V12/100 -> 0 | X12: 5 | Y12: =C12*X12/100 -> 0 | Z12: 5 | AA12: =C12*Z12/100 -> 0 | AB12: 5 | AC12: =C12*AB12/100 -> 0 | AD12: 5 | AE12: =C12*AD12/100 -> 0 | AF12: 5 | AG12: =C12*AF12/100 -> 0 | AH12: 5 | AI12: =C12*AH12/100 -> 0 | AJ12: 5 | AK12: =C12*AJ12/100 -> 0 | AL12: 5 | AM12: =C12*AL12/100 -> 0 | AN12: 5 | AO12: =C12*AN12/100 -> 0 | AP12: 5 | AQ12: =C12*AP12/100 -> 0 | AR12: 5 | AS12: =C12*AR12/100 -> 0 | AT12: 4 | AU12: =C12*AT12/100 -> 0 | AV12: 0 | AW12: =C12*AV12/100 -> 0 | AX12: 0 | AY12: =C12*AX12/100 -> 0 | AZ12: =D12+F12+H12+J12+L12+N12+P12+R12+T12+V12+X12+Z12+AB12+AD12+AF12+AH12+AJ12+AL12+AN12+AP12+AR12+AT12+AV12+AX12 -> 100 | BA12: =E12+G12+I12+K12+M12+O12+Q12+S12+U12+W12+Y12+AA12+AC12+AE12+AG12+AI12+AK12+AM12+AO12+AQ12+AS12+AU12+AW12+AY12 -> 0
A13: 5.2 | B13: ELEVATÓRIAS | C13: =Orçamento!K110 -> 0 | D13: 0 | E13: =C13*D13/100 -> 0 | F13: 0 | G13: =C13*F13/100 -> 0 | H13: 0 | I13: =C13*H13/100 -> 0 | J13: 0 | K13: =C13*J13/100 -> 0 | L13: 5 | M13: =C13*L13/100 -> 0 | N13: 5 | O13: =C13*N13/100 -> 0 | P13: 5 | Q13: =C13*P13/100 -> 0 | R13: 5 | S13: =C13*R13/100 -> 0 | T13: 5 | U13: =C13*T13/100 -> 0 | V13: 5 | W13: =C13*V13/100 -> 0 | X13: 5 | Y13: =C13*X13/100 -> 0 | Z13: 5 | AA13: =C13*Z13/100 -> 0 | AB13: 5 | AC13: =C13*AB13/100 -> 0 | AD13: 5 | AE13: =C13*AD13/100 -> 0 | AF13: 5 | AG13: =C13*AF13/100 -> 0 | AH13: 5 | AI13: =C13*AH13/100 -> 0 | AJ13: 5 | AK13: =C13*AJ13/100 -> 0 | AL13: 5 | AM13: =C13*AL13/100 -> 0 | AN13: 5 | AO13: =C13*AN13/100 -> 0 | AP13: 5 | AQ13: =C13*AP13/100 -> 0 | AR13: 5 | AS13: =C13*AR13/100 -> 0 | AT13: 5 | AU13: =C13*AT13/100 -> 0 | AV13: 5 | AW13: =C13*AV13/100 -> 0 | AX13: 5 | AY13: =C13*AX13/100 -> 0 | AZ13: =D13+F13+H13+J13+L13+N13+P13+R13+T13+V13+X13+Z13+AB13+AD13+AF13+AH13+AJ13+AL13+AN13+AP13+AR13+AT13+AV13+AX13 -> 100 | BA13: =E13+G13+I13+K13+M13+O13+Q13+S13+U13+W13+Y13+AA13+AC13+AE13+AG13+AI13+AK13+AM13+AO13+AQ13+AS13+AU13+AW13+AY13 -> 0
A14: 6.1 | B14: MATERIAIS - REDE COLETORA PRINCIPAL E AUXILIARES | C14: =Orçamento!K145 -> 0 | D14: 0 | E14: =C14*D14/100 -> 0 | F14: 4 | G14: =C14*F14/100 -> 0 | H14: 4 | I14: =C14*H14/100 -> 0 | J14: 4 | K14: =C14*J14/100 -> 0 | L14: 4 | M14: =C14*L14/100 -> 0 | N14: 5 | O14: =C14*N14/100 -> 0 | P14: 5 | Q14: =C14*P14/100 -> 0 | R14: 5 | S14: =C14*R14/100 -> 0 | T14: 5 | U14: =C14*T14/100 -> 0 | V14: 5 | W14: =C14*V14/100 -> 0 | X14: 5 | Y14: =C14*X14/100 -> 0 | Z14: 5 | AA14: =C14*Z14/100 -> 0 | AB14: 5 | AC14: =C14*AB14/100 -> 0 | AD14: 5 | AE14: =C14*AD14/100 -> 0 | AF14: 5 | AG14: =C14*AF14/100 -> 0 | AH14: 5 | AI14: =C14*AH14/100 -> 0 | AJ14: 5 | AK14: =C14*AJ14/100 -> 0 | AL14: 5 | AM14: =C14*AL14/100 -> 0 | AN14: 5 | AO14: =C14*AN14/100 -> 0 | AP14: 5 | AQ14: =C14*AP14/100 -> 0 | AR14: 5 | AS14: =C14*AR14/100 -> 0 | AT14: 4 | AU14: =C14*AT14/100 -> 0 | AV14: 0 | AW14: =C14*AV14/100 -> 0 | AX14: 0 | AY14: =C14*AX14/100 -> 0 | AZ14: =D14+F14+H14+J14+L14+N14+P14+R14+T14+V14+X14+Z14+AB14+AD14+AF14+AH14+AJ14+AL14+AN14+AP14+AR14+AT14+AV14+AX14 -> 100 | BA14: =E14+G14+I14+K14+M14+O14+Q14+S14+U14+W14+Y14+AA14+AC14+AE14+AG14+AI14+AK14+AM14+AO14+AQ14+AS14+AU14+AW14+AY14 -> 0
A15: 6.2 | B15: MATERIAIS - ELEVATÓRIAS | C15: =Orçamento!K150 -> 0 | D15: 0 | E15: =C15*D15/100 -> 0 | F15: 0 | G15: =C15*F15/100 -> 0 | H15: 0 | I15: =C15*H15/100 -> 0 | J15: 0 | K15: =C15*J15/100 -> 0 | L15: 5 | M15: =C15*L15/100 -> 0 | N15: 5 | O15: =C15*N15/100 -> 0 | P15: 5 | Q15: =C15*P15/100 -> 0 | R15: 5 | S15: =C15*R15/100 -> 0 | T15: 5 | U15: =C15*T15/100 -> 0 | V15: 5 | W15: =C15*V15/100 -> 0 | X15: 5 | Y15: =C15*X15/100 -> 0 | Z15: 5 | AA15: =C15*Z15/100 -> 0 | AB15: 5 | AC15: =C15*AB15/100 -> 0 | AD15: 5 | AE15: =C15*AD15/100 -> 0 | AF15: 5 | AG15: =C15*AF15/100 -> 0 | AH15: 5 | AI15: =C15*AH15/100 -> 0 | AJ15: 5 | AK15: =C15*AJ15/100 -> 0 | AL15: 5 | AM15: =C15*AL15/100 -> 0 | AN15: 5 | AO15: =C15*AN15/100 -> 0 | AP15: 5 | AQ15: =C15*AP15/100 -> 0 | AR15: 5 | AS15: =C15*AR15/100 -> 0 | AT15: 5 | AU15: =C15*AT15/100 -> 0 | AV15: 5 | AW15: =C15*AV15/100 -> 0 | AX15: 5 | AY15: =C15*AX15/100 -> 0 | AZ15: =D15+F15+H15+J15+L15+N15+P15+R15+T15+V15+X15+Z15+AB15+AD15+AF15+AH15+AJ15+AL15+AN15+AP15+AR15+AT15+AV15+AX15 -> 100 | BA15: =E15+G15+I15+K15+M15+O15+Q15+S15+U15+W15+Y15+AA15+AC15+AE15+AG15+AI15+AK15+AM15+AO15+AQ15+AS15+AU15+AW15+AY15 -> 0
A16: 6.3 | B16: LINHA DE RECALQUE | C16: =Orçamento!K197 -> 0 | D16: 0 | E16: =C16*D16/100 -> 0 | F16: 0 | G16: =C16*F16/100 -> 0 | H16: 5 | I16: =C16*H16/100 -> 0 | J16: 5 | K16: =C16*J16/100 -> 0 | L16: 5 | M16: =C16*L16/100 -> 0 | N16: 5 | O16: =C16*N16/100 -> 0 | P16: 5 | Q16: =C16*P16/100 -> 0 | R16: 5 | S16: =C16*R16/100 -> 0 | T16: 5 | U16: =C16*T16/100 -> 0 | V16: 5 | W16: =C16*V16/100 -> 0 | X16: 5 | Y16: =C16*X16/100 -> 0 | Z16: 5 | AA16: =C16*Z16/100 -> 0 | AB16: 5 | AC16: =C16*AB16/100 -> 0 | AD16: 5 | AE16: =C16*AD16/100 -> 0 | AF16: 5 | AG16: =C16*AF16/100 -> 0 | AH16: 5 | AI16: =C16*AH16/100 -> 0 | AJ16: 5 | AK16: =C16*AJ16/100 -> 0 | AL16: 5 | AM16: =C16*AL16/100 -> 0 | AN16: 4 | AO16: =C16*AN16/100 -> 0 | AP16: 4 | AQ16: =C16*AP16/100 -> 0 | AR16: 4 | AS16: =C16*AR16/100 -> 0 | AT16: 4 | AU16: =C16*AT16/100 -> 0 | AV16: 4 | AW16: =C16*AV16/100 -> 0 | AX16: 0 | AY16: =C16*AX16/100 -> 0 | AZ16: =D16+F16+H16+J16+L16+N16+P16+R16+T16+V16+X16+Z16+AB16+AD16+AF16+AH16+AJ16+AL16+AN16+AP16+AR16+AT16+AV16+AX16 -> 100 | BA16: =E16+G16+I16+K16+M16+O16+Q16+S16+U16+W16+Y16+AA16+AC16+AE16+AG16+AI16+AK16+AM16+AO16+AQ16+AS16+AU16+AW16+AY16 -> 0
A17: Totais cronograma | C17: =SUM(C8:C16) -> 0 | D17: =SUM(E8:E16) -> 0 | F17: =SUM(G8:G16) -> 0 | H17: =SUM(I8:I16) -> 0 | J17: =SUM(K8:K16) -> 0 | L17: =SUM(M8:M16) -> 0 | N17: =SUM(O8:O16) -> 0 | P17: =SUM(Q8:Q16) -> 0 | R17: =SUM(S8:S16) -> 0 | T17: =SUM(U8:U16) -> 0 | V17: =SUM(W8:W16) -> 0 | X17: =SUM(Y8:Y16) -> 0 | Z17: =SUM(AA8:AA16) -> 0 | AB17: =SUM(AC8:AC16) -> 0 | AD17: =SUM(AE8:AE16) -> 0 | AF17: =SUM(AG8:AG16) -> 0 | AH17: =SUM(AI8:AI16) -> 0 | AJ17: =SUM(AK8:AK16) -> 0 | AL17: =SUM(AM8:AM16) -> 0 | AN17: =SUM(AO8:AO16) -> 0 | AP17: =SUM(AQ8:AQ16) -> 0 | AR17: =SUM(AS8:AS16) -> 0 | AT17: =SUM(AU8:AU16) -> 0 | AV17: =SUM(AW8:AW16) -> 0 | AX17: =SUM(AY8:AY16) -> 0 | AZ17: =(BA17/C17)*100 -> #DIV/0! | BA17: =SUM(BA8:BA16) -> 0

Sheet BDI Principal
A1: Prefeitura Municipal de Jaraguá do Sul - SC
A2: Orcamento de obra - REDE COLETORA DE ESGOTO - BAIRRO TRÊS RIOS DO NORTE
A3: Data: | B3: =DADOS!C3 -> 16/09/2024
A4: Empresa: | B4: =DADOS!C7 -> 0 | G4: Telefone: | H4: =DADOS!C9
A5: CNPJ: | B5: =DADOS!C8 | D5: Cidade: | E5: =DADOS!C13 -> 0 | H5: UF: | I5: =DADOS!C14 -> 0
A7: Item | B7: 1º quartil | C7: 3º quartil | D7: Proposto | E7: Identificação
A8: AC | B8: 3.43 | C8: 6.71 | D8: 4.93 | E8: Administração Central | J8: =D8/100 -> 0.0493
A9: S+G | B9: 0.28 | C9: 0.75 | D9: 0.49 | E9: Seguro e Garantia | J9: =D9/100 -> 0.0049
A10: R | B10: 1 | C10: 1.74 | D10: 1.39 | E10: Risco | J10: =D10/100 -> 0.0139
A11: DF | B11: 0.94 | C11: 1.17 | D11: 0.99 | E11: Despesas Financeiras | J11: =D11/100 -> 0.0099
A12: L | B12: 6.74 | C12: 9.4 | D12: 8.04 | E12: Lucro | J12: =D12/100 -> 0.0804
A13: I* | B13: 5.65 | C13: 10.65 | D13: =I15+I18+I19 -> 5.65 | E13: Tributos * | J13: =D13/100 -> 0.0565
C14: Total | D14: =ROUND(((((1+J8+J9+J10)*(1+J11)*(1+J12)/(1-J15-J18))-1)*100),2) -> 23.52
F15: PIS e COFINS | I15: 3.65 | J15: =I15/100 -> 0.0365
F16: Alíquota ISS | I16: 2 | J16: =I16/100 -> 0.02
F17: Base de cálculo | I17: 100
F18: ISS Aplicável | I18: =((I17*I16)/100) -> 2 | J18: =I18/100 -> 0.02
F19: Cont. Prev. s/Rec.Bruta | I19: 0
E29: =DADOS!C11 -> 0
E30: =DADOS!C12 -> 0

Sheet BDI Diferenciado
A1: Prefeitura Municipal de Jaraguá do Sul - SC
A2: Orcamento de obra - REDE COLETORA DE ESGOTO - BAIRRO TRÊS RIOS DO NORTE
A3: Data: | B3: =DADOS!C3 -> 16/09/2024
A4: Empresa: | B4: =DADOS!C7 -> 0 | G4: Telefone: | H4: =DADOS!C9
A5: CNPJ: | B5: =DADOS!C8 | D5: Cidade: | E5: =DADOS!C13 -> 0 | H5: UF: | I5: =DADOS!C14 -> 0
A7: Item | B7: 1º quartil | C7: 3º quartil | D7: Proposto | E7: Identificação
A8: AC | B8: 1.5 | C8: 4.49 | D8: 3.45 | E8: Administração Central | J8: =D8/100 -> 0.0345
A9: S+G | B9: 0.3 | C9: 0.82 | D9: 0.48 | E9: Seguro e Garantia | J9: =D9/100 -> 0.0048
A10: R | B10: 0.56 | C10: 0.89 | D10: 0.85 | E10: Risco | J10: =D10/100 -> 0.0085
A11: DF | B11: 0.85 | C11: 1.11 | D11: 0.85 | E11: Despesas Financeiras | J11: =D11/100 -> 0.0085
A12: L | B12: 3.5 | C12: 6.22 | D12: 5.11 | E12: Lucro | J12: =D12/100 -> 0.0511
A13: I* | B13: 5.65 | C13: 10.65 | D13: =I15+I16 -> 3.65 | E13: Tributos * | J13: =D13/100 -> 0.0365
C14: Total | D14: =ROUND(((((1+J8+J9+J10)*(1+J11)*(1+J12)/(1-J13))-1)*100),2) -> 15.28
F15: PIS e COFINS | I15: 3.65 | J15: =I15/100 -> 0.0365
F16: Cont. Prev. s/Rec.Bruta | I16: 0
E26: =DADOS!C11 -> 0
E27: =DADOS!C12 -> 0

Sheet BDI (Fator K e TRDE)
A1: Prefeitura Municipal de Jaraguá do Sul - SC
A2: Orcamento de obra - REDE COLETORA DE ESGOTO - BAIRRO TRÊS RIOS DO NORTE
A3: Data: | B3: =DADOS!C3 -> 16/09/2024
A4: Empresa: | B4: =DADOS!C7 -> 0 | G4: Telefone: | H4: =DADOS!C9
A5: CNPJ: | B5: =DADOS!C8 | D5: Cidade: | E5: =DADOS!C13 -> 0 | H5: UF: | I5: =DADOS!C14 -> 0
A8: K1= | B8: 1.1428 | C8: Encargos sociais incidentes sobre a mão de obra
A9: k2= | B9: 0.2 | C9: Administração central (overhead)
A10: k3= | B10: 0.12 | C10: Margem bruta
A11: k4= | B11: 0 | C11: Impostos (PIS + COFINS + ISS)
A12: K | B12: =(((1+B8+B9)*(1+B10))/(1-B11)) -> 2.623936 | C12: {[(1+k1+k2)(1+k3)]/(1-k4)}
A13: TRDE | B13: =((1+B10)/(1-B11)) -> 1.12 | C13: [(1+k3)/(1-k4)]
E23: =DADOS!C11 -> 0
E24: =DADOS!C12 -> 0

Sheet Material e Serviços
A1: Prefeitura Municipal de Jaraguá do Sul - SC
A2: Orcamento de obra - REDE COLETORA DE ESGOTO - BAIRRO TRÊS RIOS DO NORTE
A3: Data: | B3: =DADOS!C3 -> 16/09/2024
A4: Empresa: | B4: =DADOS!C7 -> 0 | G4: Telefone: | H4: =DADOS!C9
A5: CNPJ: | B5: =DADOS!C8 | D5: Cidade: | E5: =DADOS!C13 -> 0 | H5: UF: | I5: =DADOS!C14 -> 0
A7: Item | B7: Descrição dos itens | C7: U.M. | D7: Qtde. | E7: Preço Un. R$ | F7: Material R$ | G7: Serviço R$ | H7: Total Material R$ | I7: Total Serviço R$ | J7: Total R$
A8: 1 | B8: CANTEIRO DE OBRAS | H8: =SUM(H9:H18) -> 0 | I8: =SUM(I9:I18) -> 0 | J8: =SUM(J9:J18) -> 0 | K8: Etapa
A9: 1.1 | B9: EXECUÇÃO DE ESCRITÓRIO EM CANTEIRO DE OBRA EM CHAPA DE MADEIRA COMPENSADA, NÃO INCLUSO MOBILIÁRIO E EQUIPAMENTOS. AF_02/2016 | C9: M2 | D9: 30 | E9: =Orçamento!J9 -> 0 | G9: =E9-F9 -> 0 | H9: =F9*D9 -> 0 | I9: =G9*D9 -> 0 | J9: =Orçamento!K9 -> 0
A10: 1.2 | B10: EXECUÇÃO DE ALMOXARIFADO EM CANTEIRO DE OBRA EM CHAPA DE MADEIRA COMPENSADA, INCLUSO PRATELEIRAS. AF_02/2016 | C10: M2 | D10: 50 | E10: =Orçamento!J10 -> 0 | G10: =E10-F10 -> 0 | H10: =F10*D10 -> 0 | I10: =G10*D10 -> 0 | J10: =Orçamento!K10 -> 0
A11: 1.3 | B11: EXECUÇÃO DE REFEITÓRIO EM CANTEIRO DE OBRA EM CHAPA DE MADEIRA COMPENSADA, NÃO INCLUSO MOBILIÁRIO E EQUIPAMENTOS. AF_02/2016 | C11: M2 | D11: 36 | E11: =Orçamento!J11 -> 0 | G11: =E11-F11 -> 0 | H11: =F11*D11 -> 0 | I11: =G11*D11 -> 0 | J11: =Orçamento!K11 -> 0
A12: 1.4 | B12: ALOJAMENTO | C12: M² | D12: 150 | E12: =Orçamento!J12 -> 0 | G12: =E12-F12 -> 0 | H12: =F12*D12 -> 0 | I12: =G12*D12 -> 0 | J12: =Orçamento!K12 -> 0
A13: 1.5 | B13: EXECUÇÃO DE SANITÁRIO E VESTIÁRIO EM CANTEIRO DE OBRA EM CHAPA DE MADEIRA COMPENSADA, NÃO INCLUSO MOBILIÁRIO. AF_02/2016 | C13: M2 | D13: 9 | E13: =Orçamento!J13 -> 0 | G13: =E13-F13 -> 0 | H13: =F13*D13 -> 0 | I13: =G13*D13 -> 0 | J13: =Orçamento!K13 -> 0
A14: 1.6 | B14: PLACA DE OBRA (PARA CONSTRUCAO CIVIL) EM CHAPA GALVANIZADA *N. 22*, ADESIVADA, DE *2,4 X 1,2* M (SEM POSTES PARA FIXACAO) | C14: M2 | D14: 4 | E14: =Orçamento!J14 -> 0 | G14: =E14-F14 -> 0 | H14: =F14*D14 -> 0 | I14: =G14*D14 -> 0 | J14: =Orçamento!K14 -> 0
A15: 1.7 | B15: TAPUME COM COMPENSADO DE MADEIRA. AF_05/2018 | C15: M2 | D15: 120 | E15: =Orçamento!J15 -> 0 | G15: =E15-F15 -> 0 | H15: =F15*D15 -> 0 | I15: =G15*D15 -> 0 | J15: =Orçamento!K15 -> 0
A16: 1.8 | B16: INSTALAÇÃO/LIGAÇÃO PROVISÓRIA ELÉTRICA BAIXA TENSÃO PARA CANTEIRO DE OBRA, AÉREA TRIFÁSICA, COM CAIXA DE SOBREPOR, CABO DE 16 MM² E DISJUNTOS 50A, INCLUSIVE POSTE | C16: UN | D16: 1 | E16: =Orçamento!J16 -> 0 | G16: =E16-F16 -> 0 | H16: =F16*D16 -> 0 | I16: =G16*D16 -> 0 | J16: =Orçamento!K16 -> 0
A17: 1.9 | B17: INSTALAÇÃO/LIGAÇÃO PROVISÓRIA DE ÁGUA FRIA E SANITÁRIA | C17: UN | D17: 1 | E17: =Orçamento!J17 -> 0 | G17: =E17-F17 -> 0 | H17: =F17*D17 -> 0 | I17: =G17*D17 -> 0 | J17: =Orçamento!K17 -> 0
A18: 1.10 | B18: LOCAÇÃO DE BANHEIRO QUIMICO, INCLUSO 2 LIMPEZAS SEMANAIS, ENTREGA E RETIRADA. | C18: MÊS | D18: 48 | E18: =Orçamento!J18 -> 0 | G18: =E18-F18 -> 0 | H18: =F18*D18 -> 0 | I18: =G18*D18 -> 0 | J18: =Orçamento!K18 -> 0
A19: 2 | B19: ADMINISTRAÇÃO LOCAL | H19: =SUM(H20:H23) -> 0 | I19: =SUM(I20:I23) -> 0 | J19: =SUM(J20:J23) -> 0 | K19: Etapa
A20: 2.1 | B20: ENGENHEIRO CIVIL DE OBRA JUNIOR COM ENCARGOS COMPLEMENTARES | C20: MES | D20: 24 | E20: =Orçamento!J20 -> 0 | G20: =E20-F20 -> 0 | H20: =F20*D20 -> 0 | I20: =G20*D20 -> 0 | J20: =Orçamento!K20 -> 0
A21: 2.2 | B21: ENCARREGADO GERAL DE OBRAS COM ENCARGOS COMPLEMENTARES | C21: MES | D21: 24 | E21: =Orçamento!J21 -> 0 | G21: =E21-F21 -> 0 | H21: =F21*D21 -> 0 | I21: =G21*D21 -> 0 | J21: =Orçamento!K21 -> 0
A22: 2.3 | B22: ALMOXARIFE COM ENCARGOS COMPLEMENTARES | C22: MES | D22: 24 | E22: =Orçamento!J22 -> 0 | G22: =E22-F22 -> 0 | H22: =F22*D22 -> 0 | I22: =G22*D22 -> 0 | J22: =Orçamento!K22 -> 0
A23: 2.4 | B23: TÉCNICO EM SEGURANÇA DO TRABALHO COM ENCARGOS COMPLEMENTARES | C23: MES | D23: 24 | E23: =Orçamento!J23 -> 0 | G23: =E23-F23 -> 0 | H23: =F23*D23 -> 0 | I23: =G23*D23 -> 0 | J23: =Orçamento!K23 -> 0
A24: 3 | B24: DETALHAMENTO PROJETO EXECUTIVO E PLANO DE TRABALHO | H24: =SUM(H25:H25) -> 0 | I24: =SUM(I25:I25) -> 0 | J24: =SUM(J25:J25) -> 0 | K24: Etapa
A25: 3.1 | B25: DETALHAMENTO DO PROJETO EXECUTIVO DA REDE COLETORA DE ESGOTO, REDES AUXILIARES, REDE DE RECALQUE, DETALHAMENTOS EXECUTIVOS DOS POÇOS DE VISITA, TAMPAS, POÇOS DE RECALQUE, E DEMAIS ELEMENTOS CONSTRUTIVOS | C25: M | D25: 33118.17 | E25: =Orçamento!J25 -> 0 | G25: =E25-F25 -> 0 | H25: =F25*D25 -> 0 | I25: =G25*D25 -> 0 | J25: =Orçamento!K25 -> 0
A26: 4 | B26: LIMPEZA, CONSERVAÇÃO, SINALIZAÇÃO E TESTE GERAL DE ESTANQUEIDADE | H26: =SUM(H27:H29) -> 0 | I26: =SUM(I27:I29) -> 0 | J26: =SUM(J27:J29) -> 0 | K26: Etapa
A27: 4.1 | B27: LIMPEZA E CONSERVAÇÃO DA VIA AO LONGO DA REALIZAÇÃO DA OBRA - UTILIZAÇÃO DE CAMINHÃO PIPA E MINICARREGADEIRA COM VASSOURA ACOPLADA | C27: M | D27: 33118.17 | E27: =Orçamento!J27 -> 0 | G27: =E27-F27 -> 0 | H27: =F27*D27 -> 0 | I27: =G27*D27 -> 0 | J27: =Orçamento!K27 -> 0
A28: 4.2 | B28: LIMPEZA DE VALA COM CAMINHÃO HIDROVÁCUO | C28: M | D28: 2000 | E28: =Orçamento!J28 -> 0 | G28: =E28-F28 -> 0 | H28: =F28*D28 -> 0 | I28: =G28*D28 -> 0 | J28: =Orçamento!K28 -> 0
A29: 4.3 | B29: TESTE DE ESTANQUEIDADE DA TOTALIDADE DA REDE APÓS FINALIZAÇÃO DA OBRA | C29: UN | D29: 1 | E29: =Orçamento!J29 -> 0 | G29: =E29-F29 -> 0 | H29: =F29*D29 -> 0 | I29: =G29*D29 -> 0 | J29: =Orçamento!K29 -> 0
A30: 5 | B30: OBRAS CIVIL | K30: Etapa
A31: 5.1 | B31: REDE COLETORA | K31: Etapa
A32: 5.1.1 | B32: LOCAÇÃO E CADASTRO | H32: =SUM(H33:H34) -> 0 | I32: =SUM(I33:I34) -> 0 | J32: =SUM(J33:J34) -> 0 | K32: Etapa
A33: 5.1.1.1 | B33: CADASTRO DE REDE DE ESGOTO/EMISSÁRIO/DRENAGEM | C33: M | D33: 33118.17 | E33: =Orçamento!J33 -> 0 | G33: =E33-F33 -> 0 | H33: =F33*D33 -> 0 | I33: =G33*D33 -> 0 | J33: =Orçamento!K33 -> 0
A34: 5.1.1.2 | B34: LOCAÇÃO DE REDE DE ÁGUA OU ESGOTO. AF_10/2018 | C34: M | D34: 33118.17 | E34: =Orçamento!J34 -> 0 | G34: =E34-F34 -> 0 | H34: =F34*D34 -> 0 | I34: =G34*D34 -> 0 | J34: =Orçamento!K34 -> 0
A35: 5.1.2 | B35: TRÂNSITO E SEGURANÇA | H35: =SUM(H36:H40) -> 0 | I35: =SUM(I36:I40) -> 0 | J35: =SUM(J36:J40) -> 0 | K35: Etapa
A36: 5.1.2.1 | B36: SINALIZAÇÃO DE TRÂNSITO NOTURNA | C36: M | D36: 2180 | E36: =Orçamento!J36 -> 0 | G36: =E36-F36 -> 0 | H36: =F36*D36 -> 0 | I36: =G36*D36 -> 0 | J36: =Orçamento!K36 -> 0
A37: 5.1.2.2 | B37: CERCA COM TELA TAPUME | C37: M | D37: 2180 | E37: =Orçamento!J37 -> 0 | G37: =E37-F37 -> 0 | H37: =F37*D37 -> 0 | I37: =G37*D37 -> 0 | J37: =Orçamento!K37 -> 0
A38: 5.1.2.3 | B38: SINALIZAÇÃO DE TRÂNSITO, COM PLACAS | C38: M² | D38: 217 | E38: =Orçamento!J38 -> 0 | G38: =E38-F38 -> 0 | H38: =F38*D38 -> 0 | I38: =G38*D38 -> 0 | J38: =Orçamento!K38 -> 0
A39: 5.1.2.4 | B39: PASSADIÇOS COM CHAPAS DE AÇO | C39: M² | D39: 45 | E39: =Orçamento!J39 -> 0 | G39: =E39-F39 -> 0 | H39: =F39*D39 -> 0 | I39: =G39*D39 -> 0 | J39: =Orçamento!K39 -> 0
A40: 5.1.2.5 | B40: FITA ADESIVA ANTICORROSIVA DE PVC FLEXIVEL, COR PRETA, PARA PROTECAO TUBULACAO, 50 MM X 30 M (L X C), E= *0,25* MM | C40: M | D40: 5499.8 | E40: =Orçamento!J40 -> 0 | G40: =E40-F40 -> 0 | H40: =F40*D40 -> 0 | I40: =G40*D40 -> 0 | J40: =Orçamento!K40 -> 0
A41: 5.1.3 | B41: MOVIMENTO DE TERRA | H41: =SUM(H42:H54) -> 0 | I41: =SUM(I42:I54) -> 0 | J41: =SUM(J42:J54) -> 0 | K41: Etapa
...

Sheet Repositório
A1: ='BDI Principal'!D14 -> 23.52
A2: ='BDI Diferenciado'!D14 -> 15.28
A3: ='BDI (Fator K e TRDE)'!B12 -> 2.623936
A4: ='BDI (Fator K e TRDE)'!B13 -> 1.12
